Workbook

Sheet Escenario1
A1: Cálculo del hidrograma de una creciente con el método SCS | W1: Convolución condición natural | AF1: 1 | AG1: 2 | AH1: 3 | AI1: 4 | AJ1: 5 | AK1: 6 | AL1: 7 | AM1: 8 | AN1: 9 | AO1: 10 | AP1: 11 | AQ1: 12 | AR1: 13 | AS1: 14 | AT1: 15 | AU1: 16 | AV1: 17 | AW1: 18 | AX1: 19 | AY1: 20 | AZ1: 21 | BA1: 22 | BB1: 23 | BC1: 24 | BD1: 25 | BE1: 26 | BF1: 27 | BG1: 28 | BH1: 29 | BI1: 30 | BJ1: 31 | BK1: 32 | BL1: 33 | BM1: 34 | BN1: 35 | BO1: 36 | BP1: 37 | BQ1: 38 | BR1: 39 | BS1: 40 | BT1: 41 | BU1: 42 | BV1: 43 | BW1: 44 | BX1: 45 | BY1: 46 | BZ1: 47 | CA1: 48 | CB1: 49 | CC1: 50 | CD1: 51 | CE1: 52 | CF1: 53 | CG1: 54 | CH1: 55 | CI1: 56 | CJ1: 57 | CK1: 58 | CL1: 59 | CM1: 60 | CN1: 61 | CO1: 62 | CP1: 63 | CQ1: 64 | CR1: 65 | CS1: 66 | CT1: 67 | CU1: 68 | CV1: 69 | CW1: 70 | CX1: 71 | CY1: 72 | CZ1: 73 | DA1: 74 | DB1: 75 | DC1: 76 | DD1: 77 | DE1: 78 | DF1: 79 | DG1: 80 | DH1: 81 | DI1: 82 | DJ1: 83 | DK1: 84 | DL1: 85 | DM1: 86 | DN1: 87 | DO1: 88 | DP1: 89 | DQ1: 90 | DR1: 91 | DS1: 92 | DT1: 93 | DU1: 94 | DV1: 95 | DW1: 96 | DX1: 97 | DY1: 98 | DZ1: 99 | EA1: 100 | EB1: 101 | EC1: 102 | ED1: 103 | EE1: 104 | EF1: 105 | EG1: 106 | EH1: 107 | EI1: 108 | EJ1: 109 | EK1: 110 | EL1: 111 | EM1: 112 | EN1: 113 | EO1: 114 | EP1: 115 | EQ1: 116 | ER1: 117 | ES1: 118 | ET1: 119 | EU1: 120 | EV1: 121 | EW1: 122 | EX1: 123 | EY1: 124 | EZ1: 125 | FA1: 126 | FB1: 127 | FC1: 128 | FD1: 129 | FE1: 130 | FF1: 131 | FG1: 132 | FH1: 133 | FI1: 134 | FJ1: 135 | FK1: 136 | FL1: 137 | FM1: 138 | FN1: 139 | FO1: 140 | FP1: 141 | FQ1: 142 | FR1: 143 | FS1: 144 | FT1: 145 | FU1: 146 | FV1: 147 | FW1: 148 | FX1: 149 | FY1: 150 | FZ1: 151 | GA1: 152 | GB1: 153 | GC1: 154 | GD1: 155 | GE1: 156 | GF1: 157 | GG1: 158 | GH1: 159 | GI1: 160 | GJ1: 161 | GK1: 162 | GL1: 163 | GM1: 164 | GN1: 165 | GO1: 166 | GP1: 167 | GQ1: 168 | GR1: 169 | GS1: 170 | GT1: 171 | GU1: 172 | GV1: 173 | GW1: 174 | GX1: 175 | GY1: 176 | GZ1: 177 | HA1: 178 | HB1: 179 | HC1: 180 | HD1: 181 | HE1: 182 | HF1: 183 | HG1: 184 | HH1: 185 | HI1: 186 | HJ1: 187 | HK1: 188 | HL1: 189 | HM1: 190 | HN1: 191 | HO1: 192 | HP1: 193 | HR1: Convolución condición urbanizado | ID1: 1 | IE1: 2 | IF1: 3 | IG1: 4 | IH1: 5 | II1: 6 | IJ1: 7 | IK1: 8 | IL1: 9 | IM1: 10 | IN1: 11 | IO1: 12 | IP1: 13 | IQ1: 14 | IR1: 15 | IS1: 16 | IT1: 17 | IU1: 18 | IV1: 19 | IW1: 20 | IX1: 21 | IY1: 22 | IZ1: 23 | JA1: 24 | JB1: 25 | JC1: 26 | JD1: 27 | JE1: 28 | JF1: 29 | JG1: 30 | JH1: 31 | JI1: 32 | JJ1: 33 | JK1: 34 | JL1: 35 | JM1: 36 | JN1: 37 | JO1: 38 | JP1: 39 | JQ1: 40 | JR1: 41 | JS1: 42 | JT1: 43 | JU1: 44 | JV1: 45 | JW1: 46 | JX1: 47 | JY1: 48 | JZ1: 49 | KA1: 50 | KB1: 51 | KC1: 52 | KD1: 53 | KE1: 54 | KF1: 55 | KG1: 56 | KH1: 57 | KI1: 58 | KJ1: 59 | KK1: 60 | KL1: 61 | KM1: 62 | KN1: 63 | KO1: 64 | KP1: 65 | KQ1: 66 | KR1: 67 | KS1: 68 | KT1: 69 | KU1: 70 | KV1: 71 | KW1: 72 | KX1: 73 | KY1: 74 | KZ1: 75 | LA1: 76 | LB1: 77 | LC1: 78 | LD1: 79 | LE1: 80 | LF1: 81 | LG1: 82 | LH1: 83 | LI1: 84 | LJ1: 85 | LK1: 86 | LL1: 87 | LM1: 88 | LN1: 89 | LO1: 90 | LP1: 91 | LQ1: 92 | LR1: 93 | LS1: 94 | LT1: 95 | LU1: 96 | LV1: 97 | LW1: 98 | LX1: 99 | LY1: 100 | LZ1: 101 | MA1: 102 | MB1: 103 | MC1: 104 | MD1: 105 | ME1: 106 | MF1: 107 | MG1: 108 | MH1: 109 | MI1: 110 | MJ1: 111 | MK1: 112 | ML1: 113 | MM1: 114 | MN1: 115 | MO1: 116 | MP1: 117 | MQ1: 118 | MR1: 119 | MS1: 120 | MT1: 121 | MU1: 122 | MV1: 123 | MW1: 124 | MX1: 125 | MY1: 126 | MZ1: 127 | NA1: 128 | NB1: 129 | NC1: 130 | ND1: 131 | NE1: 132 | NF1: 133 | NG1: 134 | NH1: 135 | NI1: 136 | NJ1: 137 | NK1: 138 | NL1: 139 | NM1: 140 | NN1: 141 | NO1: 142 | NP1: 143 | NQ1: 144 | NR1: 145 | NS1: 146 | NT1: 147 | NU1: 148 | NV1: 149 | NW1: 150 | NX1: 151 | NY1: 152 | NZ1: 153 | OA1: 154 | OB1: 155 | OC1: 156 | OD1: 157 | OE1: 158 | OF1: 159 | OG1: 160 | OH1: 161 | OI1: 162 | OJ1: 163 | OK1: 164 | OL1: 165 | OM1: 166 | ON1: 167 | OO1: 168 | OP1: 169 | OQ1: 170 | OR1: 171 | OS1: 172 | OT1: 173 | OU1: 174 | OV1: 175 | OW1: 176 | OX1: 177 | OY1: 178 | OZ1: 179 | PA1: 180 | PB1: 181 | PC1: 182 | PD1: 183 | PE1: 184 | PF1: 185 | PG1: 186 | PH1: 187 | PI1: 188 | PJ1: 189 | PK1: 190 | PL1: 191 | PM1: 192 | PN1: 193
A2: 1. Áreas tributarias de la condición urbanizada | G2: 2. Condición natural (Pre urbano ) | W2: =+Escenario1!A18 -> No. | X2: Tiempo (min) | Y2: T/Tp | Z2: Q/Qp | AA2: =+Escenario1!G18 -> Pe (mm) | AB2: Q (L/s) | AC2: Vol (m3) | AF2: =AF1*5 -> 5 | AG2: =AG1*5 -> 10 | AH2: =AH1*5 -> 15 | AI2: =AI1*5 -> 20 | AJ2: =AJ1*5 -> 25 | AK2: =AK1*5 -> 30 | AL2: =AL1*5 -> 35 | AM2: =AM1*5 -> 40 | ... HP2: =HP1*5 -> 965 | HR2: =+Escenario1!A18 -> No. | HS2: Tiempo (min) | HT2: T/Tp | HU2: Q/Qp | HV2: =+Escenario1!G18 -> Pe (mm) | HW2: H:MM | HX2: Q (L/s) | HY2: Vol (m3) | HZ2: Qurb-Qnat | IA2: Vol Alm | ID2: =ID1*5 -> 5 | IE2: =IE1*5 -> 10 | IF2: =IF1*5 -> 15 | IG2: =IG1*5 -> 20 | IH2: =IH1*5 -> 25 | II2: =II1*5 -> 30 | IJ2: =IJ1*5 -> 35 | IK2: =IK1*5 -> 40 | ... PN2: =PN1*5 -> 965
A3: Nombre del área | B3: Área (ha) | C3: CN-II | D3: Área (%) | E3: CN-III | G3: Número de curva CN-II | H3: Número de curva CN-III | W3: 0 | X3: =W3*$D$15 -> 0 | Y3: =IF((X3)/C$59>5,"",(X3)/$C$59) -> 0 | Z3: =IF($E$59*IF((X3)/C$59>5,0,IF(Y3<=1,5.60277*Y3^5-16.1238*Y3^4+13.865*Y3^3-3.00293*Y3^2+0.657237*Y3,IF(Y3>=1.8,-0.003218*Y3^5+0.0654895*Y3^4-0.539858*Y3^3+2.26576*Y3^2-4.87709*Y3+4.34827,0.3645833*Y3^6-3.832532*Y3^5+15.78165*Y3^4-31.75999*Y3^3+31.54504*Y3^2-13.92499*Y3+2.825187)))<0,0,E$59*IF((X3)/$C$59>5,0,IF(Y3<=1,5.60277*Y3^5-16.1238*Y3^4+13.865*Y3^3-3.00293*Y3^2+0.657237*Y3,IF(Y3>=1.8,-0.003218*Y3^5+0.0654895*Y3^4-0.539858*Y3^3+2.26576*Y3^2-4.87709*Y3+4.34827,0.3645833*Y3^6-3.832532*Y3^5+15.78165*Y3^4-31.75999*Y3^3+31.54504*Y3^2-13.92499*Y3+2.825187)))) -> 0 | AA3: =IF(X3>MAX($D$19:$D$55),0,I19) -> 0 | AB3: {=1000*MMULT(AF3:HP195,AA3:AA195)} -> 0 | AC3: 0 | AE3: 1 | AF3: =Z3 -> 0 | AG3: 0 | AH3: 0 | AI3: 0 | AJ3: 0 | AK3: 0 | AL3: 0 | AM3: 0 | AN3: 0 | AO3: 0 | AP3: 0 | AQ3: 0 | AR3: 0 | AS3: 0 | AT3: 0 | AU3: 0 | AV3: 0 | AW3: 0 | AX3: 0 | AY3: 0 | AZ3: 0 | BA3: 0 | BB3: 0 | BC3: 0 | BD3: 0 | BE3: 0 | BF3: 0 | BG3: 0 | BH3: 0 | BI3: 0 | BJ3: 0 | BK3: 0 | BL3: 0 | BM3: 0 | BN3: 0 | BO3: 0 | BP3: 0 | BQ3: 0 | BR3: 0 | BS3: 0 | BT3: 0 | BU3: 0 | BV3: 0 | BW3: 0 | BX3: 0 | BY3: 0 | BZ3: 0 | CA3: 0 | CB3: 0 | CC3: 0 | CD3: 0 | CE3: 0 | CF3: 0 | CG3: 0 | CH3: 0 | CI3: 0 | CJ3: 0 | CK3: 0 | CL3: 0 | CM3: 0 | CN3: 0 | CO3: 0 | CP3: 0 | CQ3: 0 | CR3: 0 | CS3: 0 | CT3: 0 | CU3: 0 | CV3: 0 | CW3: 0 | CX3: 0 | CY3: 0 | CZ3: 0 | DA3: 0 | DB3: 0 | DC3: 0 | DD3: 0 | DE3: 0 | DF3: 0 | DG3: 0 | DH3: 0 | DI3: 0 | DJ3: 0 | DK3: 0 | DL3: 0 | DM3: 0 | DN3: 0 | DO3: 0 | DP3: 0 | DQ3: 0 | DR3: 0 | DS3: 0 | DT3: 0 | DU3: 0 | DV3: 0 | DW3: 0 | DX3: 0 | DY3: 0 | DZ3: 0 | EA3: 0 | EB3: 0 | EC3: 0 | ED3: 0 | EE3: 0 | EF3: 0 | EG3: 0 | EH3: 0 | EI3: 0 | EJ3: 0 | EK3: 0 | EL3: 0 | EM3: 0 | EN3: 0 | EO3: 0 | EP3: 0 | EQ3: 0 | ER3: 0 | ES3: 0 | ET3: 0 | EU3: 0 | EV3: 0 | EW3: 0 | EX3: 0 | EY3: 0 | EZ3: 0 | FA3: 0 | FB3: 0 | FC3: 0 | FD3: 0 | FE3: 0 | FF3: 0 | FG3: 0 | FH3: 0 | FI3: 0 | FJ3: 0 | FK3: 0 | FL3: 0 | FM3: 0 | FN3: 0 | FO3: 0 | FP3: 0 | FQ3: 0 | FR3: 0 | FS3: 0 | FT3: 0 | FU3: 0 | FV3: 0 | FW3: 0 | FX3: 0 | FY3: 0 | FZ3: 0 | GA3: 0 | GB3: 0 | GC3: 0 | GD3: 0 | GE3: 0 | GF3: 0 | GG3: 0 | GH3: 0 | GI3: 0 | GJ3: 0 | GK3: 0 | GL3: 0 | GM3: 0 | GN3: 0 | GO3: 0 | GP3: 0 | GQ3: 0 | GR3: 0 | GS3: 0 | GT3: 0 | GU3: 0 | GV3: 0 | GW3: 0 | GX3: 0 | GY3: 0 | GZ3: 0 | HA3: 0 | HB3: 0 | HC3: 0 | HD3: 0 | HE3: 0 | HF3: 0 | HG3: 0 | HH3: 0 | HI3: 0 | HJ3: 0 | HK3: 0 | HL3: 0 | HM3: 0 | HN3: 0 | HO3: 0 | HP3: 0 | HR3: 0 | HS3: =HR3*$D$15 -> 0 | HT3: =IF((HS3)/$C$60>5,"",(HS3)/C$60) -> 0 | HU3: =IF($E$60*IF((HS3)/$C$60>5,0,IF(HT3<=1,5.60277*HT3^5-16.1238*HT3^4+13.865*HT3^3-3.00293*HT3^2+0.657237*HT3,IF(HT3>=1.8,-0.003218*HT3^5+0.0654895*HT3^4-0.539858*HT3^3+2.26576*HT3^2-4.87709*HT3+4.34827,0.3645833*HT3^6-3.832532*HT3^5+15.78165*HT3^4-31.75999*HT3^3+31.54504*HT3^2-13.92499*HT3+2.825187)))<0,0,E$60*IF((HS3)/$C$60>5,0,IF(HT3<=1,5.60277*HT3^5-16.1238*HT3^4+13.865*HT3^3-3.00293*HT3^2+0.657237*HT3,IF(HT3>=1.8,-0.003218*HT3^5+0.0654895*HT3^4-0.539858*HT3^3+2.26576*HT3^2-4.87709*HT3+4.34827,0.3645833*HT3^6-3.832532*HT3^5+15.78165*HT3^4-31.75999*HT3^3+31.54504*HT3^2-13.92499*HT3+2.825187)))) -> 0 | HV3: =IF(HS3>MAX($D$19:$D$55),0,G19) -> 0 | HW3: =TEXT(HS3/1440,"hh:mm") -> 00:00 | HX3: {=1000*MMULT(ID3:PN195,HV3:HV195)} -> 0 | HY3: 0 | HZ3: =IF(HX3-AB3<=0,0,HX3-AB3) -> 0 | IA3: 0 | IC3: 1 | ID3: =HU3 -> 0 | IE3: 0 | IF3: 0 | IG3: 0 | IH3: 0 | II3: 0 | IJ3: 0 | IK3: 0 | IL3: 0 | IM3: 0 | IN3: 0 | IO3: 0 | IP3: 0 | IQ3: 0 | IR3: 0 | IS3: 0 | IT3: 0 | IU3: 0 | IV3: 0 | IW3: 0 | IX3: 0 | IY3: 0 | IZ3: 0 | JA3: 0 | JB3: 0 | JC3: 0 | JD3: 0 | JE3: 0 | JF3: 0 | JG3: 0 | JH3: 0 | JI3: 0 | JJ3: 0 | JK3: 0 | JL3: 0 | JM3: 0 | JN3: 0 | JO3: 0 | JP3: 0 | JQ3: 0 | JR3: 0 | JS3: 0 | JT3: 0 | JU3: 0 | JV3: 0 | JW3: 0 | JX3: 0 | JY3: 0 | JZ3: 0 | KA3: 0 | KB3: 0 | KC3: 0 | KD3: 0 | KE3: 0 | KF3: 0 | KG3: 0 | KH3: 0 | KI3: 0 | KJ3: 0 | KK3: 0 | KL3: 0 | KM3: 0 | KN3: 0 | KO3: 0 | KP3: 0 | KQ3: 0 | KR3: 0 | KS3: 0 | KT3: 0 | KU3: 0 | KV3: 0 | KW3: 0 | KX3: 0 | KY3: 0 | KZ3: 0 | LA3: 0 | LB3: 0 | LC3: 0 | LD3: 0 | LE3: 0 | LF3: 0 | LG3: 0 | LH3: 0 | LI3: 0 | LJ3: 0 | LK3: 0 | LL3: 0 | LM3: 0 | LN3: 0 | LO3: 0 | LP3: 0 | LQ3: 0 | LR3: 0 | LS3: 0 | LT3: 0 | LU3: 0 | LV3: 0 | LW3: 0 | LX3: 0 | LY3: 0 | LZ3: 0 | MA3: 0 | MB3: 0 | MC3: 0 | MD3: 0 | ME3: 0 | MF3: 0 | MG3: 0 | MH3: 0 | MI3: 0 | MJ3: 0 | MK3: 0 | ML3: 0 | MM3: 0 | MN3: 0 | MO3: 0 | MP3: 0 | MQ3: 0 | MR3: 0 | MS3: 0 | MT3: 0 | MU3: 0 | MV3: 0 | MW3: 0 | MX3: 0 | MY3: 0 | MZ3: 0 | NA3: 0 | NB3: 0 | NC3: 0 | ND3: 0 | NE3: 0 | NF3: 0 | NG3: 0 | NH3: 0 | NI3: 0 | NJ3: 0 | NK3: 0 | NL3: 0 | NM3: 0 | NN3: 0 | NO3: 0 | NP3: 0 | NQ3: 0 | NR3: 0 | NS3: 0 | NT3: 0 | NU3: 0 | NV3: 0 | NW3: 0 | NX3: 0 | NY3: 0 | NZ3: 0 | OA3: 0 | OB3: 0 | OC3: 0 | OD3: 0 | OE3: 0 | OF3: 0 | OG3: 0 | OH3: 0 | OI3: 0 | OJ3: 0 | OK3: 0 | OL3: 0 | OM3: 0 | ON3: 0 | OO3: 0 | OP3: 0 | OQ3: 0 | OR3: 0 | OS3: 0 | OT3: 0 | OU3: 0 | OV3: 0 | OW3: 0 | OX3: 0 | OY3: 0 | OZ3: 0 | PA3: 0 | PB3: 0 | PC3: 0 | PD3: 0 | PE3: 0 | PF3: 0 | PG3: 0 | PH3: 0 | PI3: 0 | PJ3: 0 | PK3: 0 | PL3: 0 | PM3: 0 | PN3: 0
A4: Impermeable | B4: 1 | C4: 98 | D4: =B4*100/$B$6 -> 100 | E4: =ROUND(C4/(0.43+0.0057*C4),1) -> 99.1 | G4: 86 | H4: =G4/(0.43+0.0057*G4) -> 93.457944 | W4: 1 | X4: =W4*$D$15 -> 5 | Y4: =IF((X4)/C$59>5,"",(X4)/$C$59) -> 0.23969214 | Z4: =IF($E$59*IF((X4)/C$59>5,0,IF(Y4<=1,5.60277*Y4^5-16.1238*Y4^4+13.865*Y4^3-3.00293*Y4^2+0.657237*Y4,IF(Y4>=1.8,-0.003218*Y4^5+0.0654895*Y4^4-0.539858*Y4^3+2.26576*Y4^2-4.87709*Y4+4.34827,0.3645833*Y4^6-3.832532*Y4^5+15.78165*Y4^4-31.75999*Y4^3+31.54504*Y4^2-13.92499*Y4+2.825187)))<0,0,E$59*IF((X4)/$C$59>5,0,IF(Y4<=1,5.60277*Y4^5-16.1238*Y4^4+13.865*Y4^3-3.00293*Y4^2+0.657237*Y4,IF(Y4>=1.8,-0.003218*Y4^5+0.0654895*Y4^4-0.539858*Y4^3+2.26576*Y4^2-4.87709*Y4+4.34827,0.3645833*Y4^6-3.832532*Y4^5+15.78165*Y4^4-31.75999*Y4^3+31.54504*Y4^2-13.92499*Y4+2.825187)))) -> 0.00076072713 | AA4: =IF(X4>MAX($D$19:$D$55),0,I20) -> 3.32025 | AB4: 0 | AC4: =AC3+AB4*5*0.06 -> 0 | AE4: 2 | AF4: =Z4 -> 0.00076072713 | AG4: =AF3 -> 0 | AH4: =AG3 -> 0 | AI4: =AH3 -> 0 | AJ4: =AI3 -> 0 | AK4: =AJ3 -> 0 | AL4: =AK3 -> 0 | AM4: =AL3 -> 0 | AN4: =AM3 -> 0 | ... HP4: =HO3 -> 0 | HR4: 1 | HS4: =HR4*$D$15 -> 5 | HT4: =IF((HS4)/$C$60>5,"",(HS4)/C$60) -> 0.52144943 | HU4: =IF($E$60*IF((HS4)/$C$60>5,0,IF(HT4<=1,5.60277*HT4^5-16.1238*HT4^4+13.865*HT4^3-3.00293*HT4^2+0.657237*HT4,IF(HT4>=1.8,-0.003218*HT4^5+0.0654895*HT4^4-0.539858*HT4^3+2.26576*HT4^2-4.87709*HT4+4.34827,0.3645833*HT4^6-3.832532*HT4^5+15.78165*HT4^4-31.75999*HT4^3+31.54504*HT4^2-13.92499*HT4+2.825187)))<0,0,E$60*IF((HS4)/$C$60>5,0,IF(HT4<=1,5.60277*HT4^5-16.1238*HT4^4+13.865*HT4^3-3.00293*HT4^2+0.657237*HT4,IF(HT4>=1.8,-0.003218*HT4^5+0.0654895*HT4^4-0.539858*HT4^3+2.26576*HT4^2-4.87709*HT4+4.34827,0.3645833*HT4^6-3.832532*HT4^5+15.78165*HT4^4-31.75999*HT4^3+31.54504*HT4^2-13.92499*HT4+2.825187)))) -> 0.006715461 | HV4: =IF(HS4>MAX($D$19:$D$55),0,G20) -> 4.6919493 | HW4: =TEXT(HS4/1440,"hh:mm") -> 00:05 | HX4: 0 | HY4: =HY3+HX4*Escenario1!$D$15*0.06 -> 0 | HZ4: =IF(HX4-AB4<=0,0,HX4-AB4) -> 0 | IA4: =IA3+HZ4*Escenario1!$D$15*0.06 -> 0 | IC4: 2 | ID4: =HU4 -> 0.006715461 | IE4: =ID3 -> 0 | IF4: =IE3 -> 0 | IG4: =IF3 -> 0 | IH4: =IG3 -> 0 | II4: =IH3 -> 0 | IJ4: =II3 -> 0 | IK4: =IJ3 -> 0 | IL4: =IK3 -> 0 | ... PN4: =PM3 -> 0
A5: Permeable | B5: 0 | C5: 86 | D5: =B5*100/$B$6 -> 0 | E5: =ROUND(C5/(0.43+0.0057*C5),1) -> 93.5 | W5: 2 | X5: =W5*$D$15 -> 10 | Y5: =IF((X5)/C$59>5,"",(X5)/$C$59) -> 0.47938428 | Z5: =IF($E$59*IF((X5)/C$59>5,0,IF(Y5<=1,5.60277*Y5^5-16.1238*Y5^4+13.865*Y5^3-3.00293*Y5^2+0.657237*Y5,IF(Y5>=1.8,-0.003218*Y5^5+0.0654895*Y5^4-0.539858*Y5^3+2.26576*Y5^2-4.87709*Y5+4.34827,0.3645833*Y5^6-3.832532*Y5^5+15.78165*Y5^4-31.75999*Y5^3+31.54504*Y5^2-13.92499*Y5+2.825187)))<0,0,E$59*IF((X5)/$C$59>5,0,IF(Y5<=1,5.60277*Y5^5-16.1238*Y5^4+13.865*Y5^3-3.00293*Y5^2+0.657237*Y5,IF(Y5>=1.8,-0.003218*Y5^5+0.0654895*Y5^4-0.539858*Y5^3+2.26576*Y5^2-4.87709*Y5+4.34827,0.3645833*Y5^6-3.832532*Y5^5+15.78165*Y5^4-31.75999*Y5^3+31.54504*Y5^2-13.92499*Y5+2.825187)))) -> 0.0026488187 | AA5: =IF(X5>MAX($D$19:$D$55),0,I21) -> 2.771303 | AB5: 2.5258042 | AC5: =AC4+AB5*5*0.06 -> 0.75774127 | AE5: 3 | AF5: =Z5 -> 0.0026488187 | AG5: =AF4 -> 0.00076072713 | AH5: =AG4 -> 0 | AI5: =AH4 -> 0 | AJ5: =AI4 -> 0 | AK5: =AJ4 -> 0 | AL5: =AK4 -> 0 | AM5: =AL4 -> 0 | AN5: =AM4 -> 0 | ... HP5: =HO4 -> 0 | HR5: 2 | HS5: =HR5*$D$15 -> 10 | HT5: =IF((HS5)/$C$60>5,"",(HS5)/C$60) -> 1.0428989 | HU5: =IF($E$60*IF((HS5)/$C$60>5,0,IF(HT5<=1,5.60277*HT5^5-16.1238*HT5^4+13.865*HT5^3-3.00293*HT5^2+0.657237*HT5,IF(HT5>=1.8,-0.003218*HT5^5+0.0654895*HT5^4-0.539858*HT5^3+2.26576*HT5^2-4.87709*HT5+4.34827,0.3645833*HT5^6-3.832532*HT5^5+15.78165*HT5^4-31.75999*HT5^3+31.54504*HT5^2-13.92499*HT5+2.825187)))<0,0,E$60*IF((HS5)/$C$60>5,0,IF(HT5<=1,5.60277*HT5^5-16.1238*HT5^4+13.865*HT5^3-3.00293*HT5^2+0.657237*HT5,IF(HT5>=1.8,-0.003218*HT5^5+0.0654895*HT5^4-0.539858*HT5^3+2.26576*HT5^2-4.87709*HT5+4.34827,0.3645833*HT5^6-3.832532*HT5^5+15.78165*HT5^4-31.75999*HT5^3+31.54504*HT5^2-13.92499*HT5+2.825187)))) -> 0.012976986 | HV5: =IF(HS5>MAX($D$19:$D$55),0,G21) -> 4.0929092 | HW5: =TEXT(HS5/1440,"hh:mm") -> 00:10 | HX5: 31.508602 | HY5: =HY4+HX5*Escenario1!$D$15*0.06 -> 9.4525807 | HZ5: =IF(HX5-AB5<=0,0,HX5-AB5) -> 28.982798 | IA5: =IA4+HZ5*Escenario1!$D$15*0.06 -> 8.6948394 | IC5: 3 | ID5: =HU5 -> 0.012976986 | IE5: =ID4 -> 0.006715461 | IF5: =IE4 -> 0 | IG5: =IF4 -> 0 | IH5: =IG4 -> 0 | II5: =IH4 -> 0 | IJ5: =II4 -> 0 | IK5: =IJ4 -> 0 | IL5: =IK4 -> 0 | ... PN5: =PM4 -> 0
A6: Total | B6: =SUM(B4:B5) -> 1 | C6: =ROUND(SUMPRODUCT(D4:D5,C4:C5)/100,1) -> 98 | D6: =SUM(D4:D5) -> 100 | E6: =ROUND(SUMPRODUCT(D4:D5,E4:E5)/100,1) -> 99.1 | W6: 3 | X6: =W6*$D$15 -> 15 | Y6: =IF((X6)/C$59>5,"",(X6)/$C$59) -> 0.71907643 | Z6: =IF($E$59*IF((X6)/C$59>5,0,IF(Y6<=1,5.60277*Y6^5-16.1238*Y6^4+13.865*Y6^3-3.00293*Y6^2+0.657237*Y6,IF(Y6>=1.8,-0.003218*Y6^5+0.0654895*Y6^4-0.539858*Y6^3+2.26576*Y6^2-4.87709*Y6+4.34827,0.3645833*Y6^6-3.832532*Y6^5+15.78165*Y6^4-31.75999*Y6^3+31.54504*Y6^2-13.92499*Y6+2.825187)))<0,0,E$59*IF((X6)/$C$59>5,0,IF(Y6<=1,5.60277*Y6^5-16.1238*Y6^4+13.865*Y6^3-3.00293*Y6^2+0.657237*Y6,IF(Y6>=1.8,-0.003218*Y6^5+0.0654895*Y6^4-0.539858*Y6^3+2.26576*Y6^2-4.87709*Y6+4.34827,0.3645833*Y6^6-3.832532*Y6^5+15.78165*Y6^4-31.75999*Y6^3+31.54504*Y6^2-13.92499*Y6+2.825187)))) -> 0.0050334268 | AA6: =IF(X6>MAX($D$19:$D$55),0,I22) -> 2.3043463 | AB6: 10.902946 | AC6: =AC5+AB6*5*0.06 -> 4.028625 | AE6: 4 | AF6: =Z6 -> 0.0050334268 | AG6: =AF5 -> 0.0026488187 | AH6: =AG5 -> 0.00076072713 | AI6: =AH5 -> 0 | AJ6: =AI5 -> 0 | AK6: =AJ5 -> 0 | AL6: =AK5 -> 0 | AM6: =AL5 -> 0 | AN6: =AM5 -> 0 | ... HP6: =HO5 -> 0 | HR6: 3 | HS6: =HR6*$D$15 -> 15 | HT6: =IF((HS6)/$C$60>5,"",(HS6)/C$60) -> 1.5643483 | HU6: =IF($E$60*IF((HS6)/$C$60>5,0,IF(HT6<=1,5.60277*HT6^5-16.1238*HT6^4+13.865*HT6^3-3.00293*HT6^2+0.657237*HT6,IF(HT6>=1.8,-0.003218*HT6^5+0.0654895*HT6^4-0.539858*HT6^3+2.26576*HT6^2-4.87709*HT6+4.34827,0.3645833*HT6^6-3.832532*HT6^5+15.78165*HT6^4-31.75999*HT6^3+31.54504*HT6^2-13.92499*HT6+2.825187)))<0,0,E$60*IF((HS6)/$C$60>5,0,IF(HT6<=1,5.60277*HT6^5-16.1238*HT6^4+13.865*HT6^3-3.00293*HT6^2+0.657237*HT6,IF(HT6>=1.8,-0.003218*HT6^5+0.0654895*HT6^4-0.539858*HT6^3+2.26576*HT6^2-4.87709*HT6+4.34827,0.3645833*HT6^6-3.832532*HT6^5+15.78165*HT6^4-31.75999*HT6^3+31.54504*HT6^2-13.92499*HT6+2.825187)))) -> 0.007850434 | HV6: =IF(HS6>MAX($D$19:$D$55),0,G22) -> 3.5732776 | HW6: =TEXT(HS6/1440,"hh:mm") -> 00:15 | HX6: 88.373132 | HY6: =HY5+HX6*Escenario1!$D$15*0.06 -> 35.96452 | HZ6: =IF(HX6-AB6<=0,0,HX6-AB6) -> 77.470186 | IA6: =IA5+HZ6*Escenario1!$D$15*0.06 -> 31.935895 | IC6: 4 | ID6: =HU6 -> 0.007850434 | IE6: =ID5 -> 0.012976986 | IF6: =IE5 -> 0.006715461 | IG6: =IF5 -> 0 | IH6: =IG5 -> 0 | II6: =IH5 -> 0 | IJ6: =II5 -> 0 | IK6: =IJ5 -> 0 | IL6: =IK5 -> 0 | ... PN6: =PM5 -> 0
W7: 4 | X7: =W7*$D$15 -> 20 | Y7: =IF((X7)/C$59>5,"",(X7)/$C$59) -> 0.95876857 | Z7: =IF($E$59*IF((X7)/C$59>5,0,IF(Y7<=1,5.60277*Y7^5-16.1238*Y7^4+13.865*Y7^3-3.00293*Y7^2+0.657237*Y7,IF(Y7>=1.8,-0.003218*Y7^5+0.0654895*Y7^4-0.539858*Y7^3+2.26576*Y7^2-4.87709*Y7+4.34827,0.3645833*Y7^6-3.832532*Y7^5+15.78165*Y7^4-31.75999*Y7^3+31.54504*Y7^2-13.92499*Y7+2.825187)))<0,0,E$59*IF((X7)/$C$59>5,0,IF(Y7<=1,5.60277*Y7^5-16.1238*Y7^4+13.865*Y7^3-3.00293*Y7^2+0.657237*Y7,IF(Y7>=1.8,-0.003218*Y7^5+0.0654895*Y7^4-0.539858*Y7^3+2.26576*Y7^2-4.87709*Y7+4.34827,0.3645833*Y7^6-3.832532*Y7^5+15.78165*Y7^4-31.75999*Y7^3+31.54504*Y7^2-13.92499*Y7+2.825187)))) -> 0.006006715 | AA7: =IF(X7>MAX($D$19:$D$55),0,I23) -> 1.9106955 | AB7: 25.805893 | AC7: =AC6+AB7*5*0.06 -> 11.770393 | AE7: 5 | AF7: =Z7 -> 0.006006715 | AG7: =AF6 -> 0.0050334268 | AH7: =AG6 -> 0.0026488187 | AI7: =AH6 -> 0.00076072713 | AJ7: =AI6 -> 0 | AK7: =AJ6 -> 0 | AL7: =AK6 -> 0 | AM7: =AL6 -> 0 | AN7: =AM6 -> 0 | ... HP7: =HO6 -> 0 | HR7: 4 | HS7: =HR7*$D$15 -> 20 | HT7: =IF((HS7)/$C$60>5,"",(HS7)/C$60) -> 2.0857977 | HU7: =IF($E$60*IF((HS7)/$C$60>5,0,IF(HT7<=1,5.60277*HT7^5-16.1238*HT7^4+13.865*HT7^3-3.00293*HT7^2+0.657237*HT7,IF(HT7>=1.8,-0.003218*HT7^5+0.0654895*HT7^4-0.539858*HT7^3+2.26576*HT7^2-4.87709*HT7+4.34827,0.3645833*HT7^6-3.832532*HT7^5+15.78165*HT7^4-31.75999*HT7^3+31.54504*HT7^2-13.92499*HT7+2.825187)))<0,0,E$60*IF((HS7)/$C$60>5,0,IF(HT7<=1,5.60277*HT7^5-16.1238*HT7^4+13.865*HT7^3-3.00293*HT7^2+0.657237*HT7,IF(HT7>=1.8,-0.003218*HT7^5+0.0654895*HT7^4-0.539858*HT7^3+2.26576*HT7^2-4.87709*HT7+4.34827,0.3645833*HT7^6-3.832532*HT7^5+15.78165*HT7^4-31.75999*HT7^3+31.54504*HT7^2-13.92499*HT7+2.825187)))) -> 0.0032093238 | HV7: =IF(HS7>MAX($D$19:$D$55),0,G23) -> 3.1250666 | HW7: =TEXT(HS7/1440,"hh:mm") -> 00:20 | HX7: 113.94367 | HY7: =HY6+HX7*Escenario1!$D$15*0.06 -> 70.147621 | HZ7: =IF(HX7-AB7<=0,0,HX7-AB7) -> 88.137776 | IA7: =IA6+HZ7*Escenario1!$D$15*0.06 -> 58.377228 | IC7: 5 | ID7: =HU7 -> 0.0032093238 | IE7: =ID6 -> 0.007850434 | IF7: =IE6 -> 0.012976986 | IG7: =IF6 -> 0.006715461 | IH7: =IG6 -> 0 | II7: =IH6 -> 0 | IJ7: =II6 -> 0 | IK7: =IJ6 -> 0 | IL7: =IK6 -> 0 | ... PN7: =PM6 -> 0
A8: 3. Tiempo de concentración | W8: 5 | X8: =W8*$D$15 -> 25 | Y8: =IF((X8)/C$59>5,"",(X8)/$C$59) -> 1.1984607 | Z8: =IF($E$59*IF((X8)/C$59>5,0,IF(Y8<=1,5.60277*Y8^5-16.1238*Y8^4+13.865*Y8^3-3.00293*Y8^2+0.657237*Y8,IF(Y8>=1.8,-0.003218*Y8^5+0.0654895*Y8^4-0.539858*Y8^3+2.26576*Y8^2-4.87709*Y8+4.34827,0.3645833*Y8^6-3.832532*Y8^5+15.78165*Y8^4-31.75999*Y8^3+31.54504*Y8^2-13.92499*Y8+2.825187)))<0,0,E$59*IF((X8)/$C$59>5,0,IF(Y8<=1,5.60277*Y8^5-16.1238*Y8^4+13.865*Y8^3-3.00293*Y8^2+0.657237*Y8,IF(Y8>=1.8,-0.003218*Y8^5+0.0654895*Y8^4-0.539858*Y8^3+2.26576*Y8^2-4.87709*Y8+4.34827,0.3645833*Y8^6-3.832532*Y8^5+15.78165*Y8^4-31.75999*Y8^3+31.54504*Y8^2-13.92499*Y8+2.825187)))) -> 0.0056037914 | AA8: =IF(X8>MAX($D$19:$D$55),0,I24) -> 1.5819146 | AB8: 41.45026 | AC8: =AC7+AB8*5*0.06 -> 24.205471 | AE8: 6 | AF8: =Z8 -> 0.0056037914 | AG8: =AF7 -> 0.006006715 | AH8: =AG7 -> 0.0050334268 | AI8: =AH7 -> 0.0026488187 | AJ8: =AI7 -> 0.00076072713 | AK8: =AJ7 -> 0 | AL8: =AK7 -> 0 | AM8: =AL7 -> 0 | AN8: =AM7 -> 0 | ... HP8: =HO7 -> 0 | HR8: 5 | HS8: =HR8*$D$15 -> 25 | HT8: =IF((HS8)/$C$60>5,"",(HS8)/C$60) -> 2.6072472 | HU8: =IF($E$60*IF((HS8)/$C$60>5,0,IF(HT8<=1,5.60277*HT8^5-16.1238*HT8^4+13.865*HT8^3-3.00293*HT8^2+0.657237*HT8,IF(HT8>=1.8,-0.003218*HT8^5+0.0654895*HT8^4-0.539858*HT8^3+2.26576*HT8^2-4.87709*HT8+4.34827,0.3645833*HT8^6-3.832532*HT8^5+15.78165*HT8^4-31.75999*HT8^3+31.54504*HT8^2-13.92499*HT8+2.825187)))<0,0,E$60*IF((HS8)/$C$60>5,0,IF(HT8<=1,5.60277*HT8^5-16.1238*HT8^4+13.865*HT8^3-3.00293*HT8^2+0.657237*HT8,IF(HT8>=1.8,-0.003218*HT8^5+0.0654895*HT8^4-0.539858*HT8^3+2.26576*HT8^2-4.87709*HT8+4.34827,0.3645833*HT8^6-3.832532*HT8^5+15.78165*HT8^4-31.75999*HT8^3+31.54504*HT8^2-13.92499*HT8+2.825187)))) -> 0.001365863 | HV8: =IF(HS8>MAX($D$19:$D$55),0,G24) -> 2.7407049 | HW8: =TEXT(HS8/1440,"hh:mm") -> 00:25 | HX8: 114.54573 | HY8: =HY7+HX8*Escenario1!$D$15*0.06 -> 104.51134 | HZ8: =IF(HX8-AB8<=0,0,HX8-AB8) -> 73.095474 | IA8: =IA7+HZ8*Escenario1!$D$15*0.06 -> 80.30587 | IC8: 6 | ID8: =HU8 -> 0.001365863 | IE8: =ID7 -> 0.0032093238 | IF8: =IE7 -> 0.007850434 | IG8: =IF7 -> 0.012976986 | IH8: =IG7 -> 0.006715461 | II8: =IH7 -> 0 | IJ8: =II7 -> 0 | IK8: =IJ7 -> 0 | IL8: =IK7 -> 0 | ... PN8: =PM7 -> 0
A9: Condición | B9: S (m/m) | C9: L (m) | D9: C (adim) | E9: Te (min) | F9: Tt (min) | G9: Tc (min) | W9: 6 | X9: =W9*$D$15 -> 30 | Y9: =IF((X9)/C$59>5,"",(X9)/$C$59) -> 1.4381529 | Z9: =IF($E$59*IF((X9)/C$59>5,0,IF(Y9<=1,5.60277*Y9^5-16.1238*Y9^4+13.865*Y9^3-3.00293*Y9^2+0.657237*Y9,IF(Y9>=1.8,-0.003218*Y9^5+0.0654895*Y9^4-0.539858*Y9^3+2.26576*Y9^2-4.87709*Y9+4.34827,0.3645833*Y9^6-3.832532*Y9^5+15.78165*Y9^4-31.75999*Y9^3+31.54504*Y9^2-13.92499*Y9+2.825187)))<0,0,E$59*IF((X9)/$C$59>5,0,IF(Y9<=1,5.60277*Y9^5-16.1238*Y9^4+13.865*Y9^3-3.00293*Y9^2+0.657237*Y9,IF(Y9>=1.8,-0.003218*Y9^5+0.0654895*Y9^4-0.539858*Y9^3+2.26576*Y9^2-4.87709*Y9+4.34827,0.3645833*Y9^6-3.832532*Y9^5+15.78165*Y9^4-31.75999*Y9^3+31.54504*Y9^2-13.92499*Y9+2.825187)))) -> 0.0043725777 | AA9: =IF(X9>MAX($D$19:$D$55),0,I25) -> 1.3098632 | AB9: 53.115665 | AC9: =AC8+AB9*5*0.06 -> 40.140171 | AE9: 7 | AF9: =Z9 -> 0.0043725777 | AG9: =AF8 -> 0.0056037914 | AH9: =AG8 -> 0.006006715 | AI9: =AH8 -> 0.0050334268 | AJ9: =AI8 -> 0.0026488187 | AK9: =AJ8 -> 0.00076072713 | AL9: =AK8 -> 0 | AM9: =AL8 -> 0 | AN9: =AM8 -> 0 | ... HP9: =HO8 -> 0 | HR9: 6 | HS9: =HR9*$D$15 -> 30 | HT9: =IF((HS9)/$C$60>5,"",(HS9)/C$60) -> 3.1286966 | HU9: =IF($E$60*IF((HS9)/$C$60>5,0,IF(HT9<=1,5.60277*HT9^5-16.1238*HT9^4+13.865*HT9^3-3.00293*HT9^2+0.657237*HT9,IF(HT9>=1.8,-0.003218*HT9^5+0.0654895*HT9^4-0.539858*HT9^3+2.26576*HT9^2-4.87709*HT9+4.34827,0.3645833*HT9^6-3.832532*HT9^5+15.78165*HT9^4-31.75999*HT9^3+31.54504*HT9^2-13.92499*HT9+2.825187)))<0,0,E$60*IF((HS9)/$C$60>5,0,IF(HT9<=1,5.60277*HT9^5-16.1238*HT9^4+13.865*HT9^3-3.00293*HT9^2+0.657237*HT9,IF(HT9>=1.8,-0.003218*HT9^5+0.0654895*HT9^4-0.539858*HT9^3+2.26576*HT9^2-4.87709*HT9+4.34827,0.3645833*HT9^6-3.832532*HT9^5+15.78165*HT9^4-31.75999*HT9^3+31.54504*HT9^2-13.92499*HT9+2.825187)))) -> 0.00058604982 | HV9: =IF(HS9>MAX($D$19:$D$55),0,G25) -> 2.4130376 | HW9: =TEXT(HS9/1440,"hh:mm") -> 00:30 | HX9: 106.55485 | HY9: =HY8+HX9*Escenario1!$D$15*0.06 -> 136.4778 | HZ9: =IF(HX9-AB9<=0,0,HX9-AB9) -> 53.439187 | IA9: =IA8+HZ9*Escenario1!$D$15*0.06 -> 96.337627 | IC9: 7 | ID9: =HU9 -> 0.00058604982 | IE9: =ID8 -> 0.001365863 | IF9: =IE8 -> 0.0032093238 | IG9: =IF8 -> 0.007850434 | IH9: =IG8 -> 0.012976986 | II9: =IH8 -> 0.006715461 | IJ9: =II8 -> 0 | IK9: =IJ8 -> 0 | IL9: =IK8 -> 0 | ... PN9: =PM8 -> 0
A10: Natural | B10: 0.02 | C10: 200 | D10: =0.85*0.3+0.15 -> 0.405 | E10: =0.707*(1.1-D10)*SQRT(C10)/(B10^(1/3)) -> 25.600152 | F10: 5 | G10: =+F10+E10 -> 30.600152 | W10: 7 | X10: =W10*$D$15 -> 35 | Y10: =IF((X10)/C$59>5,"",(X10)/$C$59) -> 1.677845 | Z10: =IF($E$59*IF((X10)/C$59>5,0,IF(Y10<=1,5.60277*Y10^5-16.1238*Y10^4+13.865*Y10^3-3.00293*Y10^2+0.657237*Y10,IF(Y10>=1.8,-0.003218*Y10^5+0.0654895*Y10^4-0.539858*Y10^3+2.26576*Y10^2-4.87709*Y10+4.34827,0.3645833*Y10^6-3.832532*Y10^5+15.78165*Y10^4-31.75999*Y10^3+31.54504*Y10^2-13.92499*Y10+2.825187)))<0,0,E$59*IF((X10)/$C$59>5,0,IF(Y10<=1,5.60277*Y10^5-16.1238*Y10^4+13.865*Y10^3-3.00293*Y10^2+0.657237*Y10,IF(Y10>=1.8,-0.003218*Y10^5+0.0654895*Y10^4-0.539858*Y10^3+2.26576*Y10^2-4.87709*Y10+4.34827,0.3645833*Y10^6-3.832532*Y10^5+15.78165*Y10^4-31.75999*Y10^3+31.54504*Y10^2-13.92499*Y10+2.825187)))) -> 0.0029578824 | AA10: =IF(X10>MAX($D$19:$D$55),0,I26) -> 1.0867691 | AB10: 58.693406 | AC10: =AC9+AB10*5*0.06 -> 57.748192 | AE10: 8 | AF10: =Z10 -> 0.0029578824 | AG10: =AF9 -> 0.0043725777 | AH10: =AG9 -> 0.0056037914 | AI10: =AH9 -> 0.006006715 | AJ10: =AI9 -> 0.0050334268 | AK10: =AJ9 -> 0.0026488187 | AL10: =AK9 -> 0.00076072713 | AM10: =AL9 -> 0 | AN10: =AM9 -> 0 | ... HP10: =HO9 -> 0 | HR10: 7 | HS10: =HR10*$D$15 -> 35 | HT10: =IF((HS10)/$C$60>5,"",(HS10)/C$60) -> 3.650146 | HU10: =IF($E$60*IF((HS10)/$C$60>5,0,IF(HT10<=1,5.60277*HT10^5-16.1238*HT10^4+13.865*HT10^3-3.00293*HT10^2+0.657237*HT10,IF(HT10>=1.8,-0.003218*HT10^5+0.0654895*HT10^4-0.539858*HT10^3+2.26576*HT10^2-4.87709*HT10+4.34827,0.3645833*HT10^6-3.832532*HT10^5+15.78165*HT10^4-31.75999*HT10^3+31.54504*HT10^2-13.92499*HT10+2.825187)))<0,0,E$60*IF((HS10)/$C$60>5,0,IF(HT10<=1,5.60277*HT10^5-16.1238*HT10^4+13.865*HT10^3-3.00293*HT10^2+0.657237*HT10,IF(HT10>=1.8,-0.003218*HT10^5+0.0654895*HT10^4-0.539858*HT10^3+2.26576*HT10^2-4.87709*HT10+4.34827,0.3645833*HT10^6-3.832532*HT10^5+15.78165*HT10^4-31.75999*HT10^3+31.54504*HT10^2-13.92499*HT10+2.825187)))) -> 0.00025595688 | HV10: =IF(HS10>MAX($D$19:$D$55),0,G26) -> 2.135325 | HW10: =TEXT(HS10/1440,"hh:mm") -> 00:35 | HX10: 96.111752 | HY10: =HY9+HX10*Escenario1!$D$15*0.06 -> 165.31132 | HZ10: =IF(HX10-AB10<=0,0,HX10-AB10) -> 37.418346 | IA10: =IA9+HZ10*Escenario1!$D$15*0.06 -> 107.56313 | IC10: 8 | ID10: =HU10 -> 0.00025595688 | IE10: =ID9 -> 0.00058604982 | IF10: =IE9 -> 0.001365863 | IG10: =IF9 -> 0.0032093238 | IH10: =IG9 -> 0.007850434 | II10: =IH9 -> 0.012976986 | IJ10: =II9 -> 0.006715461 | IK10: =IJ9 -> 0 | IL10: =IK9 -> 0 | ... PN10: =PM9 -> 0
A11: Urbana | B11: 0.02 | C11: 200 | D11: =(0.85*0.3+0.15)*D5/100+(0.85*0.9+0.15)*D4/100 -> 0.915 | E11: =0.707*(1.1-D11)*SQRT(C11)/(B11^(1/3)) -> 6.8144291 | F11: 5 | G11: =+F11+E11 -> 11.814429 | W11: 8 | X11: =W11*$D$15 -> 40 | Y11: =IF((X11)/C$59>5,"",(X11)/$C$59) -> 1.9175371 | Z11: =IF($E$59*IF((X11)/C$59>5,0,IF(Y11<=1,5.60277*Y11^5-16.1238*Y11^4+13.865*Y11^3-3.00293*Y11^2+0.657237*Y11,IF(Y11>=1.8,-0.003218*Y11^5+0.0654895*Y11^4-0.539858*Y11^3+2.26576*Y11^2-4.87709*Y11+4.34827,0.3645833*Y11^6-3.832532*Y11^5+15.78165*Y11^4-31.75999*Y11^3+31.54504*Y11^2-13.92499*Y11+2.825187)))<0,0,E$59*IF((X11)/$C$59>5,0,IF(Y11<=1,5.60277*Y11^5-16.1238*Y11^4+13.865*Y11^3-3.00293*Y11^2+0.657237*Y11,IF(Y11>=1.8,-0.003218*Y11^5+0.0654895*Y11^4-0.539858*Y11^3+2.26576*Y11^2-4.87709*Y11+4.34827,0.3645833*Y11^6-3.832532*Y11^5+15.78165*Y11^4-31.75999*Y11^3+31.54504*Y11^2-13.92499*Y11+2.825187)))) -> 0.0019322448 | AA11: =IF(X11>MAX($D$19:$D$55),0,I27) -> 0.90531867 | AB11: 58.587502 | AC11: =AC10+AB11*5*0.06 -> 75.324443 | AE11: 9 | AF11: =Z11 -> 0.0019322448 | AG11: =AF10 -> 0.0029578824 | AH11: =AG10 -> 0.0043725777 | AI11: =AH10 -> 0.0056037914 | AJ11: =AI10 -> 0.006006715 | AK11: =AJ10 -> 0.0050334268 | AL11: =AK10 -> 0.0026488187 | AM11: =AL10 -> 0.00076072713 | AN11: =AM10 -> 0 | ... HP11: =HO10 -> 0 | HR11: 8 | HS11: =HR11*$D$15 -> 40 | HT11: =IF((HS11)/$C$60>5,"",(HS11)/C$60) -> 4.1715955 | HU11: =IF($E$60*IF((HS11)/$C$60>5,0,IF(HT11<=1,5.60277*HT11^5-16.1238*HT11^4+13.865*HT11^3-3.00293*HT11^2+0.657237*HT11,IF(HT11>=1.8,-0.003218*HT11^5+0.0654895*HT11^4-0.539858*HT11^3+2.26576*HT11^2-4.87709*HT11+4.34827,0.3645833*HT11^6-3.832532*HT11^5+15.78165*HT11^4-31.75999*HT11^3+31.54504*HT11^2-13.92499*HT11+2.825187)))<0,0,E$60*IF((HS11)/$C$60>5,0,IF(HT11<=1,5.60277*HT11^5-16.1238*HT11^4+13.865*HT11^3-3.00293*HT11^2+0.657237*HT11,IF(HT11>=1.8,-0.003218*HT11^5+0.0654895*HT11^4-0.539858*HT11^3+2.26576*HT11^2-4.87709*HT11+4.34827,0.3645833*HT11^6-3.832532*HT11^5+15.78165*HT11^4-31.75999*HT11^3+31.54504*HT11^2-13.92499*HT11+2.825187)))) -> 0.00011151658 | HV11: =IF(HS11>MAX($D$19:$D$55),0,G27) -> 1.9012443 | HW11: =TEXT(HS11/1440,"hh:mm") -> 00:40 | HX11: 85.678913 | HY11: =HY10+HX11*Escenario1!$D$15*0.06 -> 191.015 | HZ11: =IF(HX11-AB11<=0,0,HX11-AB11) -> 27.091411 | IA11: =IA10+HZ11*Escenario1!$D$15*0.06 -> 115.69055 | IC11: 9 | ID11: =HU11 -> 0.00011151658 | IE11: =ID10 -> 0.00025595688 | IF11: =IE10 -> 0.00058604982 | IG11: =IF10 -> 0.001365863 | IH11: =IG10 -> 0.0032093238 | II11: =IH10 -> 0.007850434 | IJ11: =II10 -> 0.012976986 | IK11: =IJ10 -> 0.006715461 | IL11: =IK10 -> 0 | ... PN11: =PM10 -> 0
W12: 9 | X12: =W12*$D$15 -> 45 | Y12: =IF((X12)/C$59>5,"",(X12)/$C$59) -> 2.1572293 | Z12: =IF($E$59*IF((X12)/C$59>5,0,IF(Y12<=1,5.60277*Y12^5-16.1238*Y12^4+13.865*Y12^3-3.00293*Y12^2+0.657237*Y12,IF(Y12>=1.8,-0.003218*Y12^5+0.0654895*Y12^4-0.539858*Y12^3+2.26576*Y12^2-4.87709*Y12+4.34827,0.3645833*Y12^6-3.832532*Y12^5+15.78165*Y12^4-31.75999*Y12^3+31.54504*Y12^2-13.92499*Y12+2.825187)))<0,0,E$59*IF((X12)/$C$59>5,0,IF(Y12<=1,5.60277*Y12^5-16.1238*Y12^4+13.865*Y12^3-3.00293*Y12^2+0.657237*Y12,IF(Y12>=1.8,-0.003218*Y12^5+0.0654895*Y12^4-0.539858*Y12^3+2.26576*Y12^2-4.87709*Y12+4.34827,0.3645833*Y12^6-3.832532*Y12^5+15.78165*Y12^4-31.75999*Y12^3+31.54504*Y12^2-13.92499*Y12+2.825187)))) -> 0.0013138426 | AA12: =IF(X12>MAX($D$19:$D$55),0,I28) -> 0.75875209 | AB12: 55.058362 | AC12: =AC11+AB12*5*0.06 -> 91.841951 | AE12: 10 | AF12: =Z12 -> 0.0013138426 | AG12: =AF11 -> 0.0019322448 | AH12: =AG11 -> 0.0029578824 | AI12: =AH11 -> 0.0043725777 | AJ12: =AI11 -> 0.0056037914 | AK12: =AJ11 -> 0.006006715 | AL12: =AK11 -> 0.0050334268 | AM12: =AL11 -> 0.0026488187 | AN12: =AM11 -> 0.00076072713 | ... HP12: =HO11 -> 0 | HR12: 9 | HS12: =HR12*$D$15 -> 45 | HT12: =IF((HS12)/$C$60>5,"",(HS12)/C$60) -> 4.6930449 | HU12: =IF($E$60*IF((HS12)/$C$60>5,0,IF(HT12<=1,5.60277*HT12^5-16.1238*HT12^4+13.865*HT12^3-3.00293*HT12^2+0.657237*HT12,IF(HT12>=1.8,-0.003218*HT12^5+0.0654895*HT12^4-0.539858*HT12^3+2.26576*HT12^2-4.87709*HT12+4.34827,0.3645833*HT12^6-3.832532*HT12^5+15.78165*HT12^4-31.75999*HT12^3+31.54504*HT12^2-13.92499*HT12+2.825187)))<0,0,E$60*IF((HS12)/$C$60>5,0,IF(HT12<=1,5.60277*HT12^5-16.1238*HT12^4+13.865*HT12^3-3.00293*HT12^2+0.657237*HT12,IF(HT12>=1.8,-0.003218*HT12^5+0.0654895*HT12^4-0.539858*HT12^3+2.26576*HT12^2-4.87709*HT12+4.34827,0.3645833*HT12^6-3.832532*HT12^5+15.78165*HT12^4-31.75999*HT12^3+31.54504*HT12^2-13.92499*HT12+2.825187)))) -> 4.4751984e-05 | HV12: =IF(HS12>MAX($D$19:$D$55),0,G28) -> 1.7048923 | HW12: =TEXT(HS12/1440,"hh:mm") -> 00:45 | HX12: 76.150387 | HY12: =HY11+HX12*Escenario1!$D$15*0.06 -> 213.86011 | HZ12: =IF(HX12-AB12<=0,0,HX12-AB12) -> 21.092025 | IA12: =IA11+HZ12*Escenario1!$D$15*0.06 -> 122.01816 | IC12: 10 | ID12: =HU12 -> 4.4751984e-05 | IE12: =ID11 -> 0.00011151658 | IF12: =IE11 -> 0.00025595688 | IG12: =IF11 -> 0.00058604982 | IH12: =IG11 -> 0.001365863 | II12: =IH11 -> 0.0032093238 | IJ12: =II11 -> 0.007850434 | IK12: =IJ11 -> 0.012976986 | IL12: =IK11 -> 0.006715461 | ... PN12: =PM11 -> 0
A13: 4. Definición de la lluvia | W13: 10 | X13: =W13*$D$15 -> 50 | Y13: =IF((X13)/C$59>5,"",(X13)/$C$59) -> 2.3969214 | Z13: =IF($E$59*IF((X13)/C$59>5,0,IF(Y13<=1,5.60277*Y13^5-16.1238*Y13^4+13.865*Y13^3-3.00293*Y13^2+0.657237*Y13,IF(Y13>=1.8,-0.003218*Y13^5+0.0654895*Y13^4-0.539858*Y13^3+2.26576*Y13^2-4.87709*Y13+4.34827,0.3645833*Y13^6-3.832532*Y13^5+15.78165*Y13^4-31.75999*Y13^3+31.54504*Y13^2-13.92499*Y13+2.825187)))<0,0,E$59*IF((X13)/$C$59>5,0,IF(Y13<=1,5.60277*Y13^5-16.1238*Y13^4+13.865*Y13^3-3.00293*Y13^2+0.657237*Y13,IF(Y13>=1.8,-0.003218*Y13^5+0.0654895*Y13^4-0.539858*Y13^3+2.26576*Y13^2-4.87709*Y13+4.34827,0.3645833*Y13^6-3.832532*Y13^5+15.78165*Y13^4-31.75999*Y13^3+31.54504*Y13^2-13.92499*Y13+2.825187)))) -> 0.00088742146 | AA13: =IF(X13>MAX($D$19:$D$55),0,I29) -> 0.6409463 | AB13: 50.065867 | AC13: =AC12+AB13*5*0.06 -> 106.86171 | AE13: 11 | AF13: =Z13 -> 0.00088742146 | AG13: =AF12 -> 0.0013138426 | AH13: =AG12 -> 0.0019322448 | AI13: =AH12 -> 0.0029578824 | AJ13: =AI12 -> 0.0043725777 | AK13: =AJ12 -> 0.0056037914 | AL13: =AK12 -> 0.006006715 | AM13: =AL12 -> 0.0050334268 | AN13: =AM12 -> 0.0026488187 | ... HP13: =HO12 -> 0 | HR13: 10 | HS13: =HR13*$D$15 -> 50 | HT13: =IF((HS13)/$C$60>5,"",(HS13)/C$60) | HU13: =IF($E$60*IF((HS13)/$C$60>5,0,IF(HT13<=1,5.60277*HT13^5-16.1238*HT13^4+13.865*HT13^3-3.00293*HT13^2+0.657237*HT13,IF(HT13>=1.8,-0.003218*HT13^5+0.0654895*HT13^4-0.539858*HT13^3+2.26576*HT13^2-4.87709*HT13+4.34827,0.3645833*HT13^6-3.832532*HT13^5+15.78165*HT13^4-31.75999*HT13^3+31.54504*HT13^2-13.92499*HT13+2.825187)))<0,0,E$60*IF((HS13)/$C$60>5,0,IF(HT13<=1,5.60277*HT13^5-16.1238*HT13^4+13.865*HT13^3-3.00293*HT13^2+0.657237*HT13,IF(HT13>=1.8,-0.003218*HT13^5+0.0654895*HT13^4-0.539858*HT13^3+2.26576*HT13^2-4.87709*HT13+4.34827,0.3645833*HT13^6-3.832532*HT13^5+15.78165*HT13^4-31.75999*HT13^3+31.54504*HT13^2-13.92499*HT13+2.825187)))) -> 0 | HV13: =IF(HS13>MAX($D$19:$D$55),0,G29) -> 1.5407892 | HW13: =TEXT(HS13/1440,"hh:mm") -> 00:50 | HX13: 67.784884 | HY13: =HY12+HX13*Escenario1!$D$15*0.06 -> 234.19558 | HZ13: =IF(HX13-AB13<=0,0,HX13-AB13) -> 17.719017 | IA13: =IA12+HZ13*Escenario1!$D$15*0.06 -> 127.33387 | IC13: 11 | ID13: =HU13 -> 0 | IE13: =ID12 -> 4.4751984e-05 | IF13: =IE12 -> 0.00011151658 | IG13: =IF12 -> 0.00025595688 | IH13: =IG12 -> 0.00058604982 | II13: =IH12 -> 0.001365863 | IJ13: =II12 -> 0.0032093238 | IK13: =IJ12 -> 0.007850434 | IL13: =IK12 -> 0.012976986 | ... PN13: =PM12 -> 0
A14: Estación | B14: Duración (min): | C14: Periodo Retorno (año) | D14: Paso de tiempo (min) | E14: Intensidad lluvia (mm/h) | F14: Precipitación total (mm) | W14: 11 | X14: =W14*$D$15 -> 55 | Y14: =IF((X14)/C$59>5,"",(X14)/$C$59) -> 2.6366136 | Z14: =IF($E$59*IF((X14)/C$59>5,0,IF(Y14<=1,5.60277*Y14^5-16.1238*Y14^4+13.865*Y14^3-3.00293*Y14^2+0.657237*Y14,IF(Y14>=1.8,-0.003218*Y14^5+0.0654895*Y14^4-0.539858*Y14^3+2.26576*Y14^2-4.87709*Y14+4.34827,0.3645833*Y14^6-3.832532*Y14^5+15.78165*Y14^4-31.75999*Y14^3+31.54504*Y14^2-13.92499*Y14+2.825187)))<0,0,E$59*IF((X14)/$C$59>5,0,IF(Y14<=1,5.60277*Y14^5-16.1238*Y14^4+13.865*Y14^3-3.00293*Y14^2+0.657237*Y14,IF(Y14>=1.8,-0.003218*Y14^5+0.0654895*Y14^4-0.539858*Y14^3+2.26576*Y14^2-4.87709*Y14+4.34827,0.3645833*Y14^6-3.832532*Y14^5+15.78165*Y14^4-31.75999*Y14^3+31.54504*Y14^2-13.92499*Y14+2.825187)))) -> 0.00059827069 | AA14: =IF(X14>MAX($D$19:$D$55),0,I30) -> 0.54647192 | AB14: 44.531085 | AC14: =AC13+AB14*5*0.06 -> 120.22104 | AE14: 12 | AF14: =Z14 -> 0.00059827069 | AG14: =AF13 -> 0.00088742146 | AH14: =AG13 -> 0.0013138426 | AI14: =AH13 -> 0.0019322448 | AJ14: =AI13 -> 0.0029578824 | AK14: =AJ13 -> 0.0043725777 | AL14: =AK13 -> 0.0056037914 | AM14: =AL13 -> 0.006006715 | AN14: =AM13 -> 0.0050334268 | ... HP14: =HO13 -> 0 | HR14: 11 | HS14: =HR14*$D$15 -> 55 | HT14: =IF((HS14)/$C$60>5,"",(HS14)/C$60) | HU14: =IF($E$60*IF((HS14)/$C$60>5,0,IF(HT14<=1,5.60277*HT14^5-16.1238*HT14^4+13.865*HT14^3-3.00293*HT14^2+0.657237*HT14,IF(HT14>=1.8,-0.003218*HT14^5+0.0654895*HT14^4-0.539858*HT14^3+2.26576*HT14^2-4.87709*HT14+4.34827,0.3645833*HT14^6-3.832532*HT14^5+15.78165*HT14^4-31.75999*HT14^3+31.54504*HT14^2-13.92499*HT14+2.825187)))<0,0,E$60*IF((HS14)/$C$60>5,0,IF(HT14<=1,5.60277*HT14^5-16.1238*HT14^4+13.865*HT14^3-3.00293*HT14^2+0.657237*HT14,IF(HT14>=1.8,-0.003218*HT14^5+0.0654895*HT14^4-0.539858*HT14^3+2.26576*HT14^2-4.87709*HT14+4.34827,0.3645833*HT14^6-3.832532*HT14^5+15.78165*HT14^4-31.75999*HT14^3+31.54504*HT14^2-13.92499*HT14+2.825187)))) -> 0 | HV14: =IF(HS14>MAX($D$19:$D$55),0,G30) -> 1.4038836 | HW14: =TEXT(HS14/1440,"hh:mm") -> 00:55 | HX14: 60.533612 | HY14: =HY13+HX14*Escenario1!$D$15*0.06 -> 252.35566 | HZ14: =IF(HX14-AB14<=0,0,HX14-AB14) -> 16.002528 | IA14: =IA13+HZ14*Escenario1!$D$15*0.06 -> 132.13462 | IC14: 12 | ID14: =HU14 -> 0 | IE14: =ID13 -> 0 | IF14: =IE13 -> 4.4751984e-05 | IG14: =IF13 -> 0.00011151658 | IH14: =IG13 -> 0.00025595688 | II14: =IH13 -> 0.00058604982 | IJ14: =II13 -> 0.001365863 | IK14: =IJ13 -> 0.0032093238 | IL14: =IK13 -> 0.007850434 | ... PN14: =PM13 -> 0
A15: Medellin | B15: 180 | C15: 10 | D15: 5 | E15: =INDEX(Tablas!$B$3:$H$44,MATCH($A$15&"k",Tablas!$A$3:$A$44,0),MATCH($C$15,Tablas!$B$2:$H$2,0))/(INDEX(Tablas!$B$3:$H$44,MATCH($A$15&"c",Tablas!$A$3:$A$44,0),MATCH($C$15,Tablas!$B$2:$H$2,0))+B15/60)^(INDEX(Tablas!$B$3:$H$44,MATCH($A$15&"n",Tablas!$A$3:$A$44,0),MATCH($C$15,Tablas!$B$2:$H$2,0))) -> 18.655036 | F15: =E15*B15/60 -> 55.965109 | W15: 12 | X15: =W15*$D$15 -> 60 | Y15: =IF((X15)/C$59>5,"",(X15)/$C$59) -> 2.8763057 | Z15: =IF($E$59*IF((X15)/C$59>5,0,IF(Y15<=1,5.60277*Y15^5-16.1238*Y15^4+13.865*Y15^3-3.00293*Y15^2+0.657237*Y15,IF(Y15>=1.8,-0.003218*Y15^5+0.0654895*Y15^4-0.539858*Y15^3+2.26576*Y15^2-4.87709*Y15+4.34827,0.3645833*Y15^6-3.832532*Y15^5+15.78165*Y15^4-31.75999*Y15^3+31.54504*Y15^2-13.92499*Y15+2.825187)))<0,0,E$59*IF((X15)/$C$59>5,0,IF(Y15<=1,5.60277*Y15^5-16.1238*Y15^4+13.865*Y15^3-3.00293*Y15^2+0.657237*Y15,IF(Y15>=1.8,-0.003218*Y15^5+0.0654895*Y15^4-0.539858*Y15^3+2.26576*Y15^2-4.87709*Y15+4.34827,0.3645833*Y15^6-3.832532*Y15^5+15.78165*Y15^4-31.75999*Y15^3+31.54504*Y15^2-13.92499*Y15+2.825187)))) -> 0.00040443968 | AA15: =IF(X15>MAX($D$19:$D$55),0,I31) -> 0.47061542 | AB15: 39.032406 | AC15: =AC14+AB15*5*0.06 -> 131.93076 | AE15: 13 | AF15: =Z15 -> 0.00040443968 | AG15: =AF14 -> 0.00059827069 | AH15: =AG14 -> 0.00088742146 | AI15: =AH14 -> 0.0013138426 | AJ15: =AI14 -> 0.0019322448 | AK15: =AJ14 -> 0.0029578824 | AL15: =AK14 -> 0.0043725777 | AM15: =AL14 -> 0.0056037914 | AN15: =AM14 -> 0.006006715 | ... HP15: =HO14 -> 0 | HR15: 12 | HS15: =HR15*$D$15 -> 60 | HT15: =IF((HS15)/$C$60>5,"",(HS15)/C$60) | HU15: =IF($E$60*IF((HS15)/$C$60>5,0,IF(HT15<=1,5.60277*HT15^5-16.1238*HT15^4+13.865*HT15^3-3.00293*HT15^2+0.657237*HT15,IF(HT15>=1.8,-0.003218*HT15^5+0.0654895*HT15^4-0.539858*HT15^3+2.26576*HT15^2-4.87709*HT15+4.34827,0.3645833*HT15^6-3.832532*HT15^5+15.78165*HT15^4-31.75999*HT15^3+31.54504*HT15^2-13.92499*HT15+2.825187)))<0,0,E$60*IF((HS15)/$C$60>5,0,IF(HT15<=1,5.60277*HT15^5-16.1238*HT15^4+13.865*HT15^3-3.00293*HT15^2+0.657237*HT15,IF(HT15>=1.8,-0.003218*HT15^5+0.0654895*HT15^4-0.539858*HT15^3+2.26576*HT15^2-4.87709*HT15+4.34827,0.3645833*HT15^6-3.832532*HT15^5+15.78165*HT15^4-31.75999*HT15^3+31.54504*HT15^2-13.92499*HT15+2.825187)))) -> 0 | HV15: =IF(HS15>MAX($D$19:$D$55),0,G31) -> 1.2895569 | HW15: =TEXT(HS15/1440,"hh:mm") -> 01:00 | HX15: 54.449011 | HY15: =HY14+HX15*Escenario1!$D$15*0.06 -> 268.69036 | HZ15: =IF(HX15-AB15<=0,0,HX15-AB15) -> 15.416605 | IA15: =IA14+HZ15*Escenario1!$D$15*0.06 -> 136.75961 | IC15: 13 | ID15: =HU15 -> 0 | IE15: =ID14 -> 0 | IF15: =IE14 -> 0 | IG15: =IF14 -> 4.4751984e-05 | IH15: =IG14 -> 0.00011151658 | II15: =IH14 -> 0.00025595688 | IJ15: =II14 -> 0.00058604982 | IK15: =IJ14 -> 0.001365863 | IL15: =IK14 -> 0.0032093238 | ... PN15: =PM14 -> 0
W16: 13 | X16: =W16*$D$15 -> 65 | Y16: =IF((X16)/C$59>5,"",(X16)/$C$59) -> 3.1159978 | Z16: =IF($E$59*IF((X16)/C$59>5,0,IF(Y16<=1,5.60277*Y16^5-16.1238*Y16^4+13.865*Y16^3-3.00293*Y16^2+0.657237*Y16,IF(Y16>=1.8,-0.003218*Y16^5+0.0654895*Y16^4-0.539858*Y16^3+2.26576*Y16^2-4.87709*Y16+4.34827,0.3645833*Y16^6-3.832532*Y16^5+15.78165*Y16^4-31.75999*Y16^3+31.54504*Y16^2-13.92499*Y16+2.825187)))<0,0,E$59*IF((X16)/$C$59>5,0,IF(Y16<=1,5.60277*Y16^5-16.1238*Y16^4+13.865*Y16^3-3.00293*Y16^2+0.657237*Y16,IF(Y16>=1.8,-0.003218*Y16^5+0.0654895*Y16^4-0.539858*Y16^3+2.26576*Y16^2-4.87709*Y16+4.34827,0.3645833*Y16^6-3.832532*Y16^5+15.78165*Y16^4-31.75999*Y16^3+31.54504*Y16^2-13.92499*Y16+2.825187)))) -> 0.00027490994 | AA16: =IF(X16>MAX($D$19:$D$55),0,I32) -> 0.40936613 | AB16: 33.901655 | AC16: =AC15+AB16*5*0.06 -> 142.10126 | AE16: 14 | AF16: =Z16 -> 0.00027490994 | AG16: =AF15 -> 0.00040443968 | AH16: =AG15 -> 0.00059827069 | AI16: =AH15 -> 0.00088742146 | AJ16: =AI15 -> 0.0013138426 | AK16: =AJ15 -> 0.0019322448 | AL16: =AK15 -> 0.0029578824 | AM16: =AL15 -> 0.0043725777 | AN16: =AM15 -> 0.0056037914 | ... HP16: =HO15 -> 0 | HR16: 13 | HS16: =HR16*$D$15 -> 65 | HT16: =IF((HS16)/$C$60>5,"",(HS16)/C$60) | HU16: =IF($E$60*IF((HS16)/$C$60>5,0,IF(HT16<=1,5.60277*HT16^5-16.1238*HT16^4+13.865*HT16^3-3.00293*HT16^2+0.657237*HT16,IF(HT16>=1.8,-0.003218*HT16^5+0.0654895*HT16^4-0.539858*HT16^3+2.26576*HT16^2-4.87709*HT16+4.34827,0.3645833*HT16^6-3.832532*HT16^5+15.78165*HT16^4-31.75999*HT16^3+31.54504*HT16^2-13.92499*HT16+2.825187)))<0,0,E$60*IF((HS16)/$C$60>5,0,IF(HT16<=1,5.60277*HT16^5-16.1238*HT16^4+13.865*HT16^3-3.00293*HT16^2+0.657237*HT16,IF(HT16>=1.8,-0.003218*HT16^5+0.0654895*HT16^4-0.539858*HT16^3+2.26576*HT16^2-4.87709*HT16+4.34827,0.3645833*HT16^6-3.832532*HT16^5+15.78165*HT16^4-31.75999*HT16^3+31.54504*HT16^2-13.92499*HT16+2.825187)))) -> 0 | HV16: =IF(HS16>MAX($D$19:$D$55),0,G32) -> 1.1936272 | HW16: =TEXT(HS16/1440,"hh:mm") -> 01:05 | HX16: 49.356929 | HY16: =HY15+HX16*Escenario1!$D$15*0.06 -> 283.49744 | HZ16: =IF(HX16-AB16<=0,0,HX16-AB16) -> 15.455274 | IA16: =IA15+HZ16*Escenario1!$D$15*0.06 -> 141.39619 | IC16: 14 | ID16: =HU16 -> 0 | IE16: =ID15 -> 0 | IF16: =IE15 -> 0 | IG16: =IF15 -> 0 | IH16: =IG15 -> 4.4751984e-05 | II16: =IH15 -> 0.00011151658 | IJ16: =II15 -> 0.00025595688 | IK16: =IJ15 -> 0.00058604982 | IL16: =IK15 -> 0.001365863 | ... PN16: =PM15 -> 0
A17: 5. Cálculo de los hietogramas | G17: Condición urbana | I17: Condición natural | W17: 14 | X17: =W17*$D$15 -> 70 | Y17: =IF((X17)/C$59>5,"",(X17)/$C$59) -> 3.35569 | Z17: =IF($E$59*IF((X17)/C$59>5,0,IF(Y17<=1,5.60277*Y17^5-16.1238*Y17^4+13.865*Y17^3-3.00293*Y17^2+0.657237*Y17,IF(Y17>=1.8,-0.003218*Y17^5+0.0654895*Y17^4-0.539858*Y17^3+2.26576*Y17^2-4.87709*Y17+4.34827,0.3645833*Y17^6-3.832532*Y17^5+15.78165*Y17^4-31.75999*Y17^3+31.54504*Y17^2-13.92499*Y17+2.825187)))<0,0,E$59*IF((X17)/$C$59>5,0,IF(Y17<=1,5.60277*Y17^5-16.1238*Y17^4+13.865*Y17^3-3.00293*Y17^2+0.657237*Y17,IF(Y17>=1.8,-0.003218*Y17^5+0.0654895*Y17^4-0.539858*Y17^3+2.26576*Y17^2-4.87709*Y17+4.34827,0.3645833*Y17^6-3.832532*Y17^5+15.78165*Y17^4-31.75999*Y17^3+31.54504*Y17^2-13.92499*Y17+2.825187)))) -> 0.00018776725 | AA17: =IF(X17>MAX($D$19:$D$55),0,I33) -> 0.35937462 | AB17: 29.300772 | AC17: =AC16+AB17*5*0.06 -> 150.89149 | AE17: 15 | AF17: =Z17 -> 0.00018776725 | AG17: =AF16 -> 0.00027490994 | AH17: =AG16 -> 0.00040443968 | AI17: =AH16 -> 0.00059827069 | AJ17: =AI16 -> 0.00088742146 | AK17: =AJ16 -> 0.0013138426 | AL17: =AK16 -> 0.0019322448 | AM17: =AL16 -> 0.0029578824 | AN17: =AM16 -> 0.0043725777 | ... HP17: =HO16 -> 0 | HR17: 14 | HS17: =HR17*$D$15 -> 70 | HT17: =IF((HS17)/$C$60>5,"",(HS17)/C$60) | HU17: =IF($E$60*IF((HS17)/$C$60>5,0,IF(HT17<=1,5.60277*HT17^5-16.1238*HT17^4+13.865*HT17^3-3.00293*HT17^2+0.657237*HT17,IF(HT17>=1.8,-0.003218*HT17^5+0.0654895*HT17^4-0.539858*HT17^3+2.26576*HT17^2-4.87709*HT17+4.34827,0.3645833*HT17^6-3.832532*HT17^5+15.78165*HT17^4-31.75999*HT17^3+31.54504*HT17^2-13.92499*HT17+2.825187)))<0,0,E$60*IF((HS17)/$C$60>5,0,IF(HT17<=1,5.60277*HT17^5-16.1238*HT17^4+13.865*HT17^3-3.00293*HT17^2+0.657237*HT17,IF(HT17>=1.8,-0.003218*HT17^5+0.0654895*HT17^4-0.539858*HT17^3+2.26576*HT17^2-4.87709*HT17+4.34827,0.3645833*HT17^6-3.832532*HT17^5+15.78165*HT17^4-31.75999*HT17^3+31.54504*HT17^2-13.92499*HT17+2.825187)))) -> 0 | HV17: =IF(HS17>MAX($D$19:$D$55),0,G33) -> 1.1123503 | HW17: =TEXT(HS17/1440,"hh:mm") -> 01:10 | HX17: 45.097476 | HY17: =HY16+HX17*Escenario1!$D$15*0.06 -> 297.02669 | HZ17: =IF(HX17-AB17<=0,0,HX17-AB17) -> 15.796704 | IA17: =IA16+HZ17*Escenario1!$D$15*0.06 -> 146.1352 | IC17: 15 | ID17: =HU17 -> 0 | IE17: =ID16 -> 0 | IF17: =IE16 -> 0 | IG17: =IF16 -> 0 | IH17: =IG16 -> 0 | II17: =IH16 -> 4.4751984e-05 | IJ17: =II16 -> 0.00011151658 | IK17: =IJ16 -> 0.00025595688 | IL17: =IK16 -> 0.00058604982 | ... PN17: =PM16 -> 0
A18: No. | B18: Tiempo (%) | C18: P acum (%) | D18: Tiempo (min) | E18: P acum (mm) | F18: P (mm) | G18: Pe (mm) | H18: Infil (mm) | I18: Pe (mm) | J18: Infil (mm) | W18: 15 | X18: =W18*$D$15 -> 75 | Y18: =IF((X18)/C$59>5,"",(X18)/$C$59) -> 3.5953821 | Z18: =IF($E$59*IF((X18)/C$59>5,0,IF(Y18<=1,5.60277*Y18^5-16.1238*Y18^4+13.865*Y18^3-3.00293*Y18^2+0.657237*Y18,IF(Y18>=1.8,-0.003218*Y18^5+0.0654895*Y18^4-0.539858*Y18^3+2.26576*Y18^2-4.87709*Y18+4.34827,0.3645833*Y18^6-3.832532*Y18^5+15.78165*Y18^4-31.75999*Y18^3+31.54504*Y18^2-13.92499*Y18+2.825187)))<0,0,E$59*IF((X18)/$C$59>5,0,IF(Y18<=1,5.60277*Y18^5-16.1238*Y18^4+13.865*Y18^3-3.00293*Y18^2+0.657237*Y18,IF(Y18>=1.8,-0.003218*Y18^5+0.0654895*Y18^4-0.539858*Y18^3+2.26576*Y18^2-4.87709*Y18+4.34827,0.3645833*Y18^6-3.832532*Y18^5+15.78165*Y18^4-31.75999*Y18^3+31.54504*Y18^2-13.92499*Y18+2.825187)))) -> 0.00012837388 | AA18: =IF(X18>MAX($D$19:$D$55),0,I34) -> 0.31789294 | AB18: 25.281348 | AC18: =AC17+AB18*5*0.06 -> 158.47589 | AE18: 16 | AF18: =Z18 -> 0.00012837388 | AG18: =AF17 -> 0.00018776725 | AH18: =AG17 -> 0.00027490994 | AI18: =AH17 -> 0.00040443968 | AJ18: =AI17 -> 0.00059827069 | AK18: =AJ17 -> 0.00088742146 | AL18: =AK17 -> 0.0013138426 | AM18: =AL17 -> 0.0019322448 | AN18: =AM17 -> 0.0029578824 | ... HP18: =HO17 -> 0 | HR18: 15 | HS18: =HR18*$D$15 -> 75 | HT18: =IF((HS18)/$C$60>5,"",(HS18)/C$60) | HU18: =IF($E$60*IF((HS18)/$C$60>5,0,IF(HT18<=1,5.60277*HT18^5-16.1238*HT18^4+13.865*HT18^3-3.00293*HT18^2+0.657237*HT18,IF(HT18>=1.8,-0.003218*HT18^5+0.0654895*HT18^4-0.539858*HT18^3+2.26576*HT18^2-4.87709*HT18+4.34827,0.3645833*HT18^6-3.832532*HT18^5+15.78165*HT18^4-31.75999*HT18^3+31.54504*HT18^2-13.92499*HT18+2.825187)))<0,0,E$60*IF((HS18)/$C$60>5,0,IF(HT18<=1,5.60277*HT18^5-16.1238*HT18^4+13.865*HT18^3-3.00293*HT18^2+0.657237*HT18,IF(HT18>=1.8,-0.003218*HT18^5+0.0654895*HT18^4-0.539858*HT18^3+2.26576*HT18^2-4.87709*HT18+4.34827,0.3645833*HT18^6-3.832532*HT18^5+15.78165*HT18^4-31.75999*HT18^3+31.54504*HT18^2-13.92499*HT18+2.825187)))) -> 0 | HV18: =IF(HS18>MAX($D$19:$D$55),0,G34) -> 1.0424202 | HW18: =TEXT(HS18/1440,"hh:mm") -> 01:15 | HX18: 41.525135 | HY18: =HY17+HX18*Escenario1!$D$15*0.06 -> 309.48423 | HZ18: =IF(HX18-AB18<=0,0,HX18-AB18) -> 16.243786 | IA18: =IA17+HZ18*Escenario1!$D$15*0.06 -> 151.00834 | IC18: 16 | ID18: =HU18 -> 0 | IE18: =ID17 -> 0 | IF18: =IE17 -> 0 | IG18: =IF17 -> 0 | IH18: =IG17 -> 0 | II18: =IH17 -> 0 | IJ18: =II17 -> 4.4751984e-05 | IK18: =IJ17 -> 0.00011151658 | IL18: =IK17 -> 0.00025595688 | ... PN18: =PM17 -> 0
A19: 0 | B19: =IF(A19*$D$15>$B$15,0,D19*100/$B$15) -> 0 | C19: =IF(A19*$D$15>$B$15,0,0.00000003820399*B19^5-0.00001104784*B19^4+0.0012780006*B19^3-0.07958462*B19^2+3.400981*B19) -> 0 | D19: =IF(A19*$D$15>$B$15,0,A19*$D$15) -> 0 | E19: =IF(A19*$D$15>$B$15,0,C19*$F$15/100) -> 0 | F19: 0 | G19: =IF(A19*$D$15>$B$15,0,IF(F19=0,0,(2.54*($E$6*((F19/2.54)+2)-200)^2)/($E$6*($E$6*(F19/2.54-8)+800)))) -> 0 | H19: =IF(A19*$D$15>$B$15,0,F19-G19) -> 0 | I19: =IF(A19*$D$15>$B$15,0,IF(F19=0,0,(2.54*($H$4*((F19/2.54)+2)-200)^2)/($H$4*($H$4*(F19/2.54-8)+800)))) -> 0 | J19: =IF(A19*$D$15>$B$15,0,F19-I19) -> 0 | W19: 16 | X19: =W19*$D$15 -> 80 | Y19: =IF((X19)/C$59>5,"",(X19)/$C$59) -> 3.8350743 | Z19: =IF($E$59*IF((X19)/C$59>5,0,IF(Y19<=1,5.60277*Y19^5-16.1238*Y19^4+13.865*Y19^3-3.00293*Y19^2+0.657237*Y19,IF(Y19>=1.8,-0.003218*Y19^5+0.0654895*Y19^4-0.539858*Y19^3+2.26576*Y19^2-4.87709*Y19+4.34827,0.3645833*Y19^6-3.832532*Y19^5+15.78165*Y19^4-31.75999*Y19^3+31.54504*Y19^2-13.92499*Y19+2.825187)))<0,0,E$59*IF((X19)/$C$59>5,0,IF(Y19<=1,5.60277*Y19^5-16.1238*Y19^4+13.865*Y19^3-3.00293*Y19^2+0.657237*Y19,IF(Y19>=1.8,-0.003218*Y19^5+0.0654895*Y19^4-0.539858*Y19^3+2.26576*Y19^2-4.87709*Y19+4.34827,0.3645833*Y19^6-3.832532*Y19^5+15.78165*Y19^4-31.75999*Y19^3+31.54504*Y19^2-13.92499*Y19+2.825187)))) -> 8.7540742e-05 | AA19: =IF(X19>MAX($D$19:$D$55),0,I35) -> 0.28270812 | AB19: 21.829113 | AC19: =AC18+AB19*5*0.06 -> 165.02463 | AE19: 17 | AF19: =Z19 -> 8.7540742e-05 | AG19: =AF18 -> 0.00012837388 | AH19: =AG18 -> 0.00018776725 | AI19: =AH18 -> 0.00027490994 | AJ19: =AI18 -> 0.00040443968 | AK19: =AJ18 -> 0.00059827069 | AL19: =AK18 -> 0.00088742146 | AM19: =AL18 -> 0.0013138426 | AN19: =AM18 -> 0.0019322448 | ... HP19: =HO18 -> 0 | HR19: 16 | HS19: =HR19*$D$15 -> 80 | HT19: =IF((HS19)/$C$60>5,"",(HS19)/C$60) | HU19: =IF($E$60*IF((HS19)/$C$60>5,0,IF(HT19<=1,5.60277*HT19^5-16.1238*HT19^4+13.865*HT19^3-3.00293*HT19^2+0.657237*HT19,IF(HT19>=1.8,-0.003218*HT19^5+0.0654895*HT19^4-0.539858*HT19^3+2.26576*HT19^2-4.87709*HT19+4.34827,0.3645833*HT19^6-3.832532*HT19^5+15.78165*HT19^4-31.75999*HT19^3+31.54504*HT19^2-13.92499*HT19+2.825187)))<0,0,E$60*IF((HS19)/$C$60>5,0,IF(HT19<=1,5.60277*HT19^5-16.1238*HT19^4+13.865*HT19^3-3.00293*HT19^2+0.657237*HT19,IF(HT19>=1.8,-0.003218*HT19^5+0.0654895*HT19^4-0.539858*HT19^3+2.26576*HT19^2-4.87709*HT19+4.34827,0.3645833*HT19^6-3.832532*HT19^5+15.78165*HT19^4-31.75999*HT19^3+31.54504*HT19^2-13.92499*HT19+2.825187)))) -> 0 | HV19: =IF(HS19>MAX($D$19:$D$55),0,G35) -> 0.98096673 | HW19: =TEXT(HS19/1440,"hh:mm") -> 01:20 | HX19: 38.508835 | HY19: =HY18+HX19*Escenario1!$D$15*0.06 -> 321.03688 | HZ19: =IF(HX19-AB19<=0,0,HX19-AB19) -> 16.679721 | IA19: =IA18+HZ19*Escenario1!$D$15*0.06 -> 156.01225 | IC19: 17 | ID19: =HU19 -> 0 | IE19: =ID18 -> 0 | IF19: =IE18 -> 0 | IG19: =IF18 -> 0 | IH19: =IG18 -> 0 | II19: =IH18 -> 0 | IJ19: =II18 -> 0 | IK19: =IJ18 -> 4.4751984e-05 | IL19: =IK18 -> 0.00011151658 | ... PN19: =PM18 -> 0
A20: 1 | B20: =IF(A20*$D$15>$B$15,0,D20*100/$B$15) -> 2.7777778 | C20: =IF(A20*$D$15>$B$15,0,0.00000003820399*B20^5-0.00001104784*B20^4+0.0012780006*B20^3-0.07958462*B20^2+3.400981*B20) -> 8.8598311 | D20: =IF(A20*$D$15>$B$15,0,A20*$D$15) -> 5 | E20: =IF(A20*$D$15>$B$15,0,C20*$F$15/100) -> 4.9584141 | F20: =IF(A20*$D$15>$B$15,0,E20-E19) -> 4.9584141 | G20: =IF(A20*$D$15>$B$15,0,IF(F20=0,0,(2.54*($E$6*((F20/2.54)+2)-200)^2)/($E$6*($E$6*(F20/2.54-8)+800)))) -> 4.6919493 | H20: =IF(A20*$D$15>$B$15,0,F20-G20) -> 0.26646483 | I20: =IF(A20*$D$15>$B$15,0,IF(F20=0,0,(2.54*($H$4*((F20/2.54)+2)-200)^2)/($H$4*($H$4*(F20/2.54-8)+800)))) -> 3.32025 | J20: =IF(A20*$D$15>$B$15,0,F20-I20) -> 1.6381642 | W20: 17 | X20: =W20*$D$15 -> 85 | Y20: =IF((X20)/C$59>5,"",(X20)/$C$59) -> 4.0747664 | Z20: =IF($E$59*IF((X20)/C$59>5,0,IF(Y20<=1,5.60277*Y20^5-16.1238*Y20^4+13.865*Y20^3-3.00293*Y20^2+0.657237*Y20,IF(Y20>=1.8,-0.003218*Y20^5+0.0654895*Y20^4-0.539858*Y20^3+2.26576*Y20^2-4.87709*Y20+4.34827,0.3645833*Y20^6-3.832532*Y20^5+15.78165*Y20^4-31.75999*Y20^3+31.54504*Y20^2-13.92499*Y20+2.825187)))<0,0,E$59*IF((X20)/$C$59>5,0,IF(Y20<=1,5.60277*Y20^5-16.1238*Y20^4+13.865*Y20^3-3.00293*Y20^2+0.657237*Y20,IF(Y20>=1.8,-0.003218*Y20^5+0.0654895*Y20^4-0.539858*Y20^3+2.26576*Y20^2-4.87709*Y20+4.34827,0.3645833*Y20^6-3.832532*Y20^5+15.78165*Y20^4-31.75999*Y20^3+31.54504*Y20^2-13.92499*Y20+2.825187)))) -> 5.9699549e-05 | AA20: =IF(X20>MAX($D$19:$D$55),0,I36) -> 0.25207761 | AB20: 18.895276 | AC20: =AC19+AB20*5*0.06 -> 170.69321 | AE20: 18 | AF20: =Z20 -> 5.9699549e-05 | AG20: =AF19 -> 8.7540742e-05 | AH20: =AG19 -> 0.00012837388 | AI20: =AH19 -> 0.00018776725 | AJ20: =AI19 -> 0.00027490994 | AK20: =AJ19 -> 0.00040443968 | AL20: =AK19 -> 0.00059827069 | AM20: =AL19 -> 0.00088742146 | AN20: =AM19 -> 0.0013138426 | ... HP20: =HO19 -> 0 | HR20: 17 | HS20: =HR20*$D$15 -> 85 | HT20: =IF((HS20)/$C$60>5,"",(HS20)/C$60) | HU20: =IF($E$60*IF((HS20)/$C$60>5,0,IF(HT20<=1,5.60277*HT20^5-16.1238*HT20^4+13.865*HT20^3-3.00293*HT20^2+0.657237*HT20,IF(HT20>=1.8,-0.003218*HT20^5+0.0654895*HT20^4-0.539858*HT20^3+2.26576*HT20^2-4.87709*HT20+4.34827,0.3645833*HT20^6-3.832532*HT20^5+15.78165*HT20^4-31.75999*HT20^3+31.54504*HT20^2-13.92499*HT20+2.825187)))<0,0,E$60*IF((HS20)/$C$60>5,0,IF(HT20<=1,5.60277*HT20^5-16.1238*HT20^4+13.865*HT20^3-3.00293*HT20^2+0.657237*HT20,IF(HT20>=1.8,-0.003218*HT20^5+0.0654895*HT20^4-0.539858*HT20^3+2.26576*HT20^2-4.87709*HT20+4.34827,0.3645833*HT20^6-3.832532*HT20^5+15.78165*HT20^4-31.75999*HT20^3+31.54504*HT20^2-13.92499*HT20+2.825187)))) -> 0 | HV20: =IF(HS20>MAX($D$19:$D$55),0,G36) -> 0.92555307 | HW20: =TEXT(HS20/1440,"hh:mm") -> 01:25 | HX20: 35.931973 | HY20: =HY19+HX20*Escenario1!$D$15*0.06 -> 331.81647 | HZ20: =IF(HX20-AB20<=0,0,HX20-AB20) -> 17.036696 | IA20: =IA19+HZ20*Escenario1!$D$15*0.06 -> 161.12326 | IC20: 18 | ID20: =HU20 -> 0 | IE20: =ID19 -> 0 | IF20: =IE19 -> 0 | IG20: =IF19 -> 0 | IH20: =IG19 -> 0 | II20: =IH19 -> 0 | IJ20: =II19 -> 0 | IK20: =IJ19 -> 0 | IL20: =IK19 -> 4.4751984e-05 | ... PN20: =PM19 -> 0
A21: 2 | B21: =IF(A21*$D$15>$B$15,0,D21*100/$B$15) -> 5.5555556 | C21: =IF(A21*$D$15>$B$15,0,0.00000003820399*B21^5-0.00001104784*B21^4+0.0012780006*B21^3-0.07958462*B21^2+3.400981*B21) -> 16.646837 | D21: =IF(A21*$D$15>$B$15,0,A21*$D$15) -> 10 | E21: =IF(A21*$D$15>$B$15,0,C21*$F$15/100) -> 9.3164206 | F21: =IF(A21*$D$15>$B$15,0,E21-E20) -> 4.3580065 | G21: =IF(A21*$D$15>$B$15,0,IF(F21=0,0,(2.54*($E$6*((F21/2.54)+2)-200)^2)/($E$6*($E$6*(F21/2.54-8)+800)))) -> 4.0929092 | H21: =IF(A21*$D$15>$B$15,0,F21-G21) -> 0.26509729 | I21: =IF(A21*$D$15>$B$15,0,IF(F21=0,0,(2.54*($H$4*((F21/2.54)+2)-200)^2)/($H$4*($H$4*(F21/2.54-8)+800)))) -> 2.771303 | J21: =IF(A21*$D$15>$B$15,0,F21-I21) -> 1.5867035 | W21: 18 | X21: =W21*$D$15 -> 90 | Y21: =IF((X21)/C$59>5,"",(X21)/$C$59) -> 4.3144586 | Z21: =IF($E$59*IF((X21)/C$59>5,0,IF(Y21<=1,5.60277*Y21^5-16.1238*Y21^4+13.865*Y21^3-3.00293*Y21^2+0.657237*Y21,IF(Y21>=1.8,-0.003218*Y21^5+0.0654895*Y21^4-0.539858*Y21^3+2.26576*Y21^2-4.87709*Y21+4.34827,0.3645833*Y21^6-3.832532*Y21^5+15.78165*Y21^4-31.75999*Y21^3+31.54504*Y21^2-13.92499*Y21+2.825187)))<0,0,E$59*IF((X21)/$C$59>5,0,IF(Y21<=1,5.60277*Y21^5-16.1238*Y21^4+13.865*Y21^3-3.00293*Y21^2+0.657237*Y21,IF(Y21>=1.8,-0.003218*Y21^5+0.0654895*Y21^4-0.539858*Y21^3+2.26576*Y21^2-4.87709*Y21+4.34827,0.3645833*Y21^6-3.832532*Y21^5+15.78165*Y21^4-31.75999*Y21^3+31.54504*Y21^2-13.92499*Y21+2.825187)))) -> 4.1075028e-05 | AA21: =IF(X21>MAX($D$19:$D$55),0,I37) -> 0.22467202 | AB21: 16.416536 | AC21: =AC20+AB21*5*0.06 -> 175.61817 | AE21: 19 | AF21: =Z21 -> 4.1075028e-05 | AG21: =AF20 -> 5.9699549e-05 | AH21: =AG20 -> 8.7540742e-05 | AI21: =AH20 -> 0.00012837388 | AJ21: =AI20 -> 0.00018776725 | AK21: =AJ20 -> 0.00027490994 | AL21: =AK20 -> 0.00040443968 | AM21: =AL20 -> 0.00059827069 | AN21: =AM20 -> 0.00088742146 | ... HP21: =HO20 -> 0 | HR21: 18 | HS21: =HR21*$D$15 -> 90 | HT21: =IF((HS21)/$C$60>5,"",(HS21)/C$60) | HU21: =IF($E$60*IF((HS21)/$C$60>5,0,IF(HT21<=1,5.60277*HT21^5-16.1238*HT21^4+13.865*HT21^3-3.00293*HT21^2+0.657237*HT21,IF(HT21>=1.8,-0.003218*HT21^5+0.0654895*HT21^4-0.539858*HT21^3+2.26576*HT21^2-4.87709*HT21+4.34827,0.3645833*HT21^6-3.832532*HT21^5+15.78165*HT21^4-31.75999*HT21^3+31.54504*HT21^2-13.92499*HT21+2.825187)))<0,0,E$60*IF((HS21)/$C$60>5,0,IF(HT21<=1,5.60277*HT21^5-16.1238*HT21^4+13.865*HT21^3-3.00293*HT21^2+0.657237*HT21,IF(HT21>=1.8,-0.003218*HT21^5+0.0654895*HT21^4-0.539858*HT21^3+2.26576*HT21^2-4.87709*HT21+4.34827,0.3645833*HT21^6-3.832532*HT21^5+15.78165*HT21^4-31.75999*HT21^3+31.54504*HT21^2-13.92499*HT21+2.825187)))) -> 0 | HV21: =IF(HS21>MAX($D$19:$D$55),0,G37) -> 0.8741726 | HW21: =TEXT(HS21/1440,"hh:mm") -> 01:30 | HX21: 33.692381 | HY21: =HY20+HX21*Escenario1!$D$15*0.06 -> 341.92418 | HZ21: =IF(HX21-AB21<=0,0,HX21-AB21) -> 17.275844 | IA21: =IA20+HZ21*Escenario1!$D$15*0.06 -> 166.30601 | IC21: 19 | ID21: =HU21 -> 0 | IE21: =ID20 -> 0 | IF21: =IE20 -> 0 | IG21: =IF20 -> 0 | IH21: =IG20 -> 0 | II21: =IH20 -> 0 | IJ21: =II20 -> 0 | IK21: =IJ20 -> 0 | IL21: =IK20 -> 0 | ... PN21: =PM20 -> 0
A22: 3 | B22: =IF(A22*$D$15>$B$15,0,D22*100/$B$15) -> 8.3333333 | C22: =IF(A22*$D$15>$B$15,0,0.00000003820399*B22^5-0.00001104784*B22^4+0.0012780006*B22^3-0.07958462*B22^2+3.400981*B22) -> 23.502639 | D22: =IF(A22*$D$15>$B$15,0,A22*$D$15) -> 15 | E22: =IF(A22*$D$15>$B$15,0,C22*$F$15/100) -> 13.153277 | F22: =IF(A22*$D$15>$B$15,0,E22-E21) -> 3.8368569 | G22: =IF(A22*$D$15>$B$15,0,IF(F22=0,0,(2.54*($E$6*((F22/2.54)+2)-200)^2)/($E$6*($E$6*(F22/2.54-8)+800)))) -> 3.5732776 | H22: =IF(A22*$D$15>$B$15,0,F22-G22) -> 0.26357922 | I22: =IF(A22*$D$15>$B$15,0,IF(F22=0,0,(2.54*($H$4*((F22/2.54)+2)-200)^2)/($H$4*($H$4*(F22/2.54-8)+800)))) -> 2.3043463 | J22: =IF(A22*$D$15>$B$15,0,F22-I22) -> 1.5325105 | W22: 19 | X22: =W22*$D$15 -> 95 | Y22: =IF((X22)/C$59>5,"",(X22)/$C$59) -> 4.5541507 | Z22: =IF($E$59*IF((X22)/C$59>5,0,IF(Y22<=1,5.60277*Y22^5-16.1238*Y22^4+13.865*Y22^3-3.00293*Y22^2+0.657237*Y22,IF(Y22>=1.8,-0.003218*Y22^5+0.0654895*Y22^4-0.539858*Y22^3+2.26576*Y22^2-4.87709*Y22+4.34827,0.3645833*Y22^6-3.832532*Y22^5+15.78165*Y22^4-31.75999*Y22^3+31.54504*Y22^2-13.92499*Y22+2.825187)))<0,0,E$59*IF((X22)/$C$59>5,0,IF(Y22<=1,5.60277*Y22^5-16.1238*Y22^4+13.865*Y22^3-3.00293*Y22^2+0.657237*Y22,IF(Y22>=1.8,-0.003218*Y22^5+0.0654895*Y22^4-0.539858*Y22^3+2.26576*Y22^2-4.87709*Y22+4.34827,0.3645833*Y22^6-3.832532*Y22^5+15.78165*Y22^4-31.75999*Y22^3+31.54504*Y22^2-13.92499*Y22+2.825187)))) -> 2.7857067e-05 | AA22: =IF(X22>MAX($D$19:$D$55),0,I38) -> 0.19952657 | AB22: 14.325445 | AC22: =AC21+AB22*5*0.06 -> 179.9158 | AE22: 20 | AF22: =Z22 -> 2.7857067e-05 | AG22: =AF21 -> 4.1075028e-05 | AH22: =AG21 -> 5.9699549e-05 | AI22: =AH21 -> 8.7540742e-05 | AJ22: =AI21 -> 0.00012837388 | AK22: =AJ21 -> 0.00018776725 | AL22: =AK21 -> 0.00027490994 | AM22: =AL21 -> 0.00040443968 | AN22: =AM21 -> 0.00059827069 | ... HP22: =HO21 -> 0 | HR22: 19 | HS22: =HR22*$D$15 -> 95 | HT22: =IF((HS22)/$C$60>5,"",(HS22)/C$60) | HU22: =IF($E$60*IF((HS22)/$C$60>5,0,IF(HT22<=1,5.60277*HT22^5-16.1238*HT22^4+13.865*HT22^3-3.00293*HT22^2+0.657237*HT22,IF(HT22>=1.8,-0.003218*HT22^5+0.0654895*HT22^4-0.539858*HT22^3+2.26576*HT22^2-4.87709*HT22+4.34827,0.3645833*HT22^6-3.832532*HT22^5+15.78165*HT22^4-31.75999*HT22^3+31.54504*HT22^2-13.92499*HT22+2.825187)))<0,0,E$60*IF((HS22)/$C$60>5,0,IF(HT22<=1,5.60277*HT22^5-16.1238*HT22^4+13.865*HT22^3-3.00293*HT22^2+0.657237*HT22,IF(HT22>=1.8,-0.003218*HT22^5+0.0654895*HT22^4-0.539858*HT22^3+2.26576*HT22^2-4.87709*HT22+4.34827,0.3645833*HT22^6-3.832532*HT22^5+15.78165*HT22^4-31.75999*HT22^3+31.54504*HT22^2-13.92499*HT22+2.825187)))) -> 0 | HV22: =IF(HS22>MAX($D$19:$D$55),0,G38) -> 0.82524579 | HW22: =TEXT(HS22/1440,"hh:mm") -> 01:35 | HX22: 31.702263 | HY22: =HY21+HX22*Escenario1!$D$15*0.06 -> 351.43486 | HZ22: =IF(HX22-AB22<=0,0,HX22-AB22) -> 17.376818 | IA22: =IA21+HZ22*Escenario1!$D$15*0.06 -> 171.51906 | IC22: 20 | ID22: =HU22 -> 0 | IE22: =ID21 -> 0 | IF22: =IE21 -> 0 | IG22: =IF21 -> 0 | IH22: =IG21 -> 0 | II22: =IH21 -> 0 | IJ22: =II21 -> 0 | IK22: =IJ21 -> 0 | IL22: =IK21 -> 0 | ... PN22: =PM21 -> 0
A23: 4 | B23: =IF(A23*$D$15>$B$15,0,D23*100/$B$15) -> 11.111111 | C23: =IF(A23*$D$15>$B$15,0,0.00000003820399*B23^5-0.00001104784*B23^4+0.0012780006*B23^3-0.07958462*B23^2+3.400981*B23) -> 29.554587 | D23: =IF(A23*$D$15>$B$15,0,A23*$D$15) -> 20 | E23: =IF(A23*$D$15>$B$15,0,C23*$F$15/100) -> 16.540257 | F23: =IF(A23*$D$15>$B$15,0,E23-E22) -> 3.386979 | G23: =IF(A23*$D$15>$B$15,0,IF(F23=0,0,(2.54*($E$6*((F23/2.54)+2)-200)^2)/($E$6*($E$6*(F23/2.54-8)+800)))) -> 3.1250666 | H23: =IF(A23*$D$15>$B$15,0,F23-G23) -> 0.26191248 | I23: =IF(A23*$D$15>$B$15,0,IF(F23=0,0,(2.54*($H$4*((F23/2.54)+2)-200)^2)/($H$4*($H$4*(F23/2.54-8)+800)))) -> 1.9106955 | J23: =IF(A23*$D$15>$B$15,0,F23-I23) -> 1.4762835 | W23: 20 | X23: =W23*$D$15 -> 100 | Y23: =IF((X23)/C$59>5,"",(X23)/$C$59) -> 4.7938428 | Z23: =IF($E$59*IF((X23)/C$59>5,0,IF(Y23<=1,5.60277*Y23^5-16.1238*Y23^4+13.865*Y23^3-3.00293*Y23^2+0.657237*Y23,IF(Y23>=1.8,-0.003218*Y23^5+0.0654895*Y23^4-0.539858*Y23^3+2.26576*Y23^2-4.87709*Y23+4.34827,0.3645833*Y23^6-3.832532*Y23^5+15.78165*Y23^4-31.75999*Y23^3+31.54504*Y23^2-13.92499*Y23+2.825187)))<0,0,E$59*IF((X23)/$C$59>5,0,IF(Y23<=1,5.60277*Y23^5-16.1238*Y23^4+13.865*Y23^3-3.00293*Y23^2+0.657237*Y23,IF(Y23>=1.8,-0.003218*Y23^5+0.0654895*Y23^4-0.539858*Y23^3+2.26576*Y23^2-4.87709*Y23+4.34827,0.3645833*Y23^6-3.832532*Y23^5+15.78165*Y23^4-31.75999*Y23^3+31.54504*Y23^2-13.92499*Y23+2.825187)))) -> 1.4372902e-05 | AA23: =IF(X23>MAX($D$19:$D$55),0,I39) -> 0.1759997 | AB23: 12.552661 | AC23: =AC22+AB23*5*0.06 -> 183.6816 | AE23: 21 | AF23: =Z23 -> 1.4372902e-05 | AG23: =AF22 -> 2.7857067e-05 | AH23: =AG22 -> 4.1075028e-05 | AI23: =AH22 -> 5.9699549e-05 | AJ23: =AI22 -> 8.7540742e-05 | AK23: =AJ22 -> 0.00012837388 | AL23: =AK22 -> 0.00018776725 | AM23: =AL22 -> 0.00027490994 | AN23: =AM22 -> 0.00040443968 | ... HP23: =HO22 -> 0 | HR23: 20 | HS23: =HR23*$D$15 -> 100 | HT23: =IF((HS23)/$C$60>5,"",(HS23)/C$60) | HU23: =IF($E$60*IF((HS23)/$C$60>5,0,IF(HT23<=1,5.60277*HT23^5-16.1238*HT23^4+13.865*HT23^3-3.00293*HT23^2+0.657237*HT23,IF(HT23>=1.8,-0.003218*HT23^5+0.0654895*HT23^4-0.539858*HT23^3+2.26576*HT23^2-4.87709*HT23+4.34827,0.3645833*HT23^6-3.832532*HT23^5+15.78165*HT23^4-31.75999*HT23^3+31.54504*HT23^2-13.92499*HT23+2.825187)))<0,0,E$60*IF((HS23)/$C$60>5,0,IF(HT23<=1,5.60277*HT23^5-16.1238*HT23^4+13.865*HT23^3-3.00293*HT23^2+0.657237*HT23,IF(HT23>=1.8,-0.003218*HT23^5+0.0654895*HT23^4-0.539858*HT23^3+2.26576*HT23^2-4.87709*HT23+4.34827,0.3645833*HT23^6-3.832532*HT23^5+15.78165*HT23^4-31.75999*HT23^3+31.54504*HT23^2-13.92499*HT23+2.825187)))) -> 0 | HV23: =IF(HS23>MAX($D$19:$D$55),0,G39) -> 0.77761719 | HW23: =TEXT(HS23/1440,"hh:mm") -> 01:40 | HX23: 29.888111 | HY23: =HY22+HX23*Escenario1!$D$15*0.06 -> 360.4013 | HZ23: =IF(HX23-AB23<=0,0,HX23-AB23) -> 17.33545 | IA23: =IA22+HZ23*Escenario1!$D$15*0.06 -> 176.71969 | IC23: 21 | ID23: =HU23 -> 0 | IE23: =ID22 -> 0 | IF23: =IE22 -> 0 | IG23: =IF22 -> 0 | IH23: =IG22 -> 0 | II23: =IH22 -> 0 | IJ23: =II22 -> 0 | IK23: =IJ22 -> 0 | IL23: =IK22 -> 0 | ... PN23: =PM22 -> 0
A24: 5 | B24: =IF(A24*$D$15>$B$15,0,D24*100/$B$15) -> 13.888889 | C24: =IF(A24*$D$15>$B$15,0,0.00000003820399*B24^5-0.00001104784*B24^4+0.0012780006*B24^3-0.07958462*B24^2+3.400981*B24) -> 34.916519 | D24: =IF(A24*$D$15>$B$15,0,A24*$D$15) -> 25 | E24: =IF(A24*$D$15>$B$15,0,C24*$F$15/100) -> 19.541068 | F24: =IF(A24*$D$15>$B$15,0,E24-E23) -> 3.0008112 | G24: =IF(A24*$D$15>$B$15,0,IF(F24=0,0,(2.54*($E$6*((F24/2.54)+2)-200)^2)/($E$6*($E$6*(F24/2.54-8)+800)))) -> 2.7407049 | H24: =IF(A24*$D$15>$B$15,0,F24-G24) -> 0.26010625 | I24: =IF(A24*$D$15>$B$15,0,IF(F24=0,0,(2.54*($H$4*((F24/2.54)+2)-200)^2)/($H$4*($H$4*(F24/2.54-8)+800)))) -> 1.5819146 | J24: =IF(A24*$D$15>$B$15,0,F24-I24) -> 1.4188966 | W24: 21 | X24: =W24*$D$15 -> 105 | Y24: =IF((X24)/C$59>5,"",(X24)/$C$59) | Z24: =IF($E$59*IF((X24)/C$59>5,0,IF(Y24<=1,5.60277*Y24^5-16.1238*Y24^4+13.865*Y24^3-3.00293*Y24^2+0.657237*Y24,IF(Y24>=1.8,-0.003218*Y24^5+0.0654895*Y24^4-0.539858*Y24^3+2.26576*Y24^2-4.87709*Y24+4.34827,0.3645833*Y24^6-3.832532*Y24^5+15.78165*Y24^4-31.75999*Y24^3+31.54504*Y24^2-13.92499*Y24+2.825187)))<0,0,E$59*IF((X24)/$C$59>5,0,IF(Y24<=1,5.60277*Y24^5-16.1238*Y24^4+13.865*Y24^3-3.00293*Y24^2+0.657237*Y24,IF(Y24>=1.8,-0.003218*Y24^5+0.0654895*Y24^4-0.539858*Y24^3+2.26576*Y24^2-4.87709*Y24+4.34827,0.3645833*Y24^6-3.832532*Y24^5+15.78165*Y24^4-31.75999*Y24^3+31.54504*Y24^2-13.92499*Y24+2.825187)))) -> 0 | AA24: =IF(X24>MAX($D$19:$D$55),0,I40) -> 0.15373546 | AB24: 11.022468 | AC24: =AC23+AB24*5*0.06 -> 186.98834 | AE24: 22 | AF24: =Z24 -> 0 | AG24: =AF23 -> 1.4372902e-05 | AH24: =AG23 -> 2.7857067e-05 | AI24: =AH23 -> 4.1075028e-05 | AJ24: =AI23 -> 5.9699549e-05 | AK24: =AJ23 -> 8.7540742e-05 | AL24: =AK23 -> 0.00012837388 | AM24: =AL23 -> 0.00018776725 | AN24: =AM23 -> 0.00027490994 | ... HP24: =HO23 -> 0 | HR24: 21 | HS24: =HR24*$D$15 -> 105 | HT24: =IF((HS24)/$C$60>5,"",(HS24)/C$60) | HU24: =IF($E$60*IF((HS24)/$C$60>5,0,IF(HT24<=1,5.60277*HT24^5-16.1238*HT24^4+13.865*HT24^3-3.00293*HT24^2+0.657237*HT24,IF(HT24>=1.8,-0.003218*HT24^5+0.0654895*HT24^4-0.539858*HT24^3+2.26576*HT24^2-4.87709*HT24+4.34827,0.3645833*HT24^6-3.832532*HT24^5+15.78165*HT24^4-31.75999*HT24^3+31.54504*HT24^2-13.92499*HT24+2.825187)))<0,0,E$60*IF((HS24)/$C$60>5,0,IF(HT24<=1,5.60277*HT24^5-16.1238*HT24^4+13.865*HT24^3-3.00293*HT24^2+0.657237*HT24,IF(HT24>=1.8,-0.003218*HT24^5+0.0654895*HT24^4-0.539858*HT24^3+2.26576*HT24^2-4.87709*HT24+4.34827,0.3645833*HT24^6-3.832532*HT24^5+15.78165*HT24^4-31.75999*HT24^3+31.54504*HT24^2-13.92499*HT24+2.825187)))) -> 0 | HV24: =IF(HS24>MAX($D$19:$D$55),0,G40) -> 0.73055243 | HW24: =TEXT(HS24/1440,"hh:mm") -> 01:45 | HX24: 28.190604 | HY24: =HY23+HX24*Escenario1!$D$15*0.06 -> 368.85848 | HZ24: =IF(HX24-AB24<=0,0,HX24-AB24) -> 17.168136 | IA24: =IA23+HZ24*Escenario1!$D$15*0.06 -> 181.87014 | IC24: 22 | ID24: =HU24 -> 0 | IE24: =ID23 -> 0 | IF24: =IE23 -> 0 | IG24: =IF23 -> 0 | IH24: =IG23 -> 0 | II24: =IH23 -> 0 | IJ24: =II23 -> 0 | IK24: =IJ23 -> 0 | IL24: =IK23 -> 0 | ... PN24: =PM23 -> 0
A25: 6 | B25: =IF(A25*$D$15>$B$15,0,D25*100/$B$15) -> 16.666667 | C25: =IF(A25*$D$15>$B$15,0,0.00000003820399*B25^5-0.00001104784*B25^4+0.0012780006*B25^3-0.07958462*B25^2+3.400981*B25) -> 39.689521 | D25: =IF(A25*$D$15>$B$15,0,A25*$D$15) -> 30 | E25: =IF(A25*$D$15>$B$15,0,C25*$F$15/100) -> 22.212284 | F25: =IF(A25*$D$15>$B$15,0,E25-E24) -> 2.6712159 | G25: =IF(A25*$D$15>$B$15,0,IF(F25=0,0,(2.54*($E$6*((F25/2.54)+2)-200)^2)/($E$6*($E$6*(F25/2.54-8)+800)))) -> 2.4130376 | H25: =IF(A25*$D$15>$B$15,0,F25-G25) -> 0.25817825 | I25: =IF(A25*$D$15>$B$15,0,IF(F25=0,0,(2.54*($H$4*((F25/2.54)+2)-200)^2)/($H$4*($H$4*(F25/2.54-8)+800)))) -> 1.3098632 | J25: =IF(A25*$D$15>$B$15,0,F25-I25) -> 1.3613527 | W25: 22 | X25: =W25*$D$15 -> 110 | Y25: =IF((X25)/C$59>5,"",(X25)/$C$59) | Z25: =IF($E$59*IF((X25)/C$59>5,0,IF(Y25<=1,5.60277*Y25^5-16.1238*Y25^4+13.865*Y25^3-3.00293*Y25^2+0.657237*Y25,IF(Y25>=1.8,-0.003218*Y25^5+0.0654895*Y25^4-0.539858*Y25^3+2.26576*Y25^2-4.87709*Y25+4.34827,0.3645833*Y25^6-3.832532*Y25^5+15.78165*Y25^4-31.75999*Y25^3+31.54504*Y25^2-13.92499*Y25+2.825187)))<0,0,E$59*IF((X25)/$C$59>5,0,IF(Y25<=1,5.60277*Y25^5-16.1238*Y25^4+13.865*Y25^3-3.00293*Y25^2+0.657237*Y25,IF(Y25>=1.8,-0.003218*Y25^5+0.0654895*Y25^4-0.539858*Y25^3+2.26576*Y25^2-4.87709*Y25+4.34827,0.3645833*Y25^6-3.832532*Y25^5+15.78165*Y25^4-31.75999*Y25^3+31.54504*Y25^2-13.92499*Y25+2.825187)))) -> 0 | AA25: =IF(X25>MAX($D$19:$D$55),0,I41) -> 0.13262532 | AB25: 9.6717699 | AC25: =AC24+AB25*5*0.06 -> 189.88987 | AE25: 23 | AF25: =Z25 -> 0 | AG25: =AF24 -> 0 | AH25: =AG24 -> 1.4372902e-05 | AI25: =AH24 -> 2.7857067e-05 | AJ25: =AI24 -> 4.1075028e-05 | AK25: =AJ24 -> 5.9699549e-05 | AL25: =AK24 -> 8.7540742e-05 | AM25: =AL24 -> 0.00012837388 | AN25: =AM24 -> 0.00018776725 | ... HP25: =HO24 -> 0 | HR25: 22 | HS25: =HR25*$D$15 -> 110 | HT25: =IF((HS25)/$C$60>5,"",(HS25)/C$60) | HU25: =IF($E$60*IF((HS25)/$C$60>5,0,IF(HT25<=1,5.60277*HT25^5-16.1238*HT25^4+13.865*HT25^3-3.00293*HT25^2+0.657237*HT25,IF(HT25>=1.8,-0.003218*HT25^5+0.0654895*HT25^4-0.539858*HT25^3+2.26576*HT25^2-4.87709*HT25+4.34827,0.3645833*HT25^6-3.832532*HT25^5+15.78165*HT25^4-31.75999*HT25^3+31.54504*HT25^2-13.92499*HT25+2.825187)))<0,0,E$60*IF((HS25)/$C$60>5,0,IF(HT25<=1,5.60277*HT25^5-16.1238*HT25^4+13.865*HT25^3-3.00293*HT25^2+0.657237*HT25,IF(HT25>=1.8,-0.003218*HT25^5+0.0654895*HT25^4-0.539858*HT25^3+2.26576*HT25^2-4.87709*HT25+4.34827,0.3645833*HT25^6-3.832532*HT25^5+15.78165*HT25^4-31.75999*HT25^3+31.54504*HT25^2-13.92499*HT25+2.825187)))) -> 0 | HV25: =IF(HS25>MAX($D$19:$D$55),0,G41) -> 0.68373444 | HW25: =TEXT(HS25/1440,"hh:mm") -> 01:50 | HX25: 26.564516 | HY25: =HY24+HX25*Escenario1!$D$15*0.06 -> 376.82783 | HZ25: =IF(HX25-AB25<=0,0,HX25-AB25) -> 16.892746 | IA25: =IA24+HZ25*Escenario1!$D$15*0.06 -> 186.93796 | IC25: 23 | ID25: =HU25 -> 0 | IE25: =ID24 -> 0 | IF25: =IE24 -> 0 | IG25: =IF24 -> 0 | IH25: =IG24 -> 0 | II25: =IH24 -> 0 | IJ25: =II24 -> 0 | IK25: =IJ24 -> 0 | IL25: =IK24 -> 0 | ... PN25: =PM24 -> 0
A26: 7 | B26: =IF(A26*$D$15>$B$15,0,D26*100/$B$15) -> 19.444444 | C26: =IF(A26*$D$15>$B$15,0,0.00000003820399*B26^5-0.00001104784*B26^4+0.0012780006*B26^3-0.07958462*B26^2+3.400981*B26) -> 43.962683 | D26: =IF(A26*$D$15>$B$15,0,A26*$D$15) -> 35 | E26: =IF(A26*$D$15>$B$15,0,C26*$F$15/100) -> 24.603763 | F26: =IF(A26*$D$15>$B$15,0,E26-E25) -> 2.3914799 | G26: =IF(A26*$D$15>$B$15,0,IF(F26=0,0,(2.54*($E$6*((F26/2.54)+2)-200)^2)/($E$6*($E$6*(F26/2.54-8)+800)))) -> 2.135325 | H26: =IF(A26*$D$15>$B$15,0,F26-G26) -> 0.25615485 | I26: =IF(A26*$D$15>$B$15,0,IF(F26=0,0,(2.54*($H$4*((F26/2.54)+2)-200)^2)/($H$4*($H$4*(F26/2.54-8)+800)))) -> 1.0867691 | J26: =IF(A26*$D$15>$B$15,0,F26-I26) -> 1.3047108 | W26: 23 | X26: =W26*$D$15 -> 115 | Y26: =IF((X26)/C$59>5,"",(X26)/$C$59) | Z26: =IF($E$59*IF((X26)/C$59>5,0,IF(Y26<=1,5.60277*Y26^5-16.1238*Y26^4+13.865*Y26^3-3.00293*Y26^2+0.657237*Y26,IF(Y26>=1.8,-0.003218*Y26^5+0.0654895*Y26^4-0.539858*Y26^3+2.26576*Y26^2-4.87709*Y26+4.34827,0.3645833*Y26^6-3.832532*Y26^5+15.78165*Y26^4-31.75999*Y26^3+31.54504*Y26^2-13.92499*Y26+2.825187)))<0,0,E$59*IF((X26)/$C$59>5,0,IF(Y26<=1,5.60277*Y26^5-16.1238*Y26^4+13.865*Y26^3-3.00293*Y26^2+0.657237*Y26,IF(Y26>=1.8,-0.003218*Y26^5+0.0654895*Y26^4-0.539858*Y26^3+2.26576*Y26^2-4.87709*Y26+4.34827,0.3645833*Y26^6-3.832532*Y26^5+15.78165*Y26^4-31.75999*Y26^3+31.54504*Y26^2-13.92499*Y26+2.825187)))) -> 0 | AA26: =IF(X26>MAX($D$19:$D$55),0,I42) -> 0.11276527 | AB26: 8.5017597 | AC26: =AC25+AB26*5*0.06 -> 192.4404 | AE26: 24 | AF26: =Z26 -> 0 | AG26: =AF25 -> 0 | AH26: =AG25 -> 0 | AI26: =AH25 -> 1.4372902e-05 | AJ26: =AI25 -> 2.7857067e-05 | AK26: =AJ25 -> 4.1075028e-05 | AL26: =AK25 -> 5.9699549e-05 | AM26: =AL25 -> 8.7540742e-05 | AN26: =AM25 -> 0.00012837388 | ... HP26: =HO25 -> 0 | HR26: 23 | HS26: =HR26*$D$15 -> 115 | HT26: =IF((HS26)/$C$60>5,"",(HS26)/C$60) | HU26: =IF($E$60*IF((HS26)/$C$60>5,0,IF(HT26<=1,5.60277*HT26^5-16.1238*HT26^4+13.865*HT26^3-3.00293*HT26^2+0.657237*HT26,IF(HT26>=1.8,-0.003218*HT26^5+0.0654895*HT26^4-0.539858*HT26^3+2.26576*HT26^2-4.87709*HT26+4.34827,0.3645833*HT26^6-3.832532*HT26^5+15.78165*HT26^4-31.75999*HT26^3+31.54504*HT26^2-13.92499*HT26+2.825187)))<0,0,E$60*IF((HS26)/$C$60>5,0,IF(HT26<=1,5.60277*HT26^5-16.1238*HT26^4+13.865*HT26^3-3.00293*HT26^2+0.657237*HT26,IF(HT26>=1.8,-0.003218*HT26^5+0.0654895*HT26^4-0.539858*HT26^3+2.26576*HT26^2-4.87709*HT26+4.34827,0.3645833*HT26^6-3.832532*HT26^5+15.78165*HT26^4-31.75999*HT26^3+31.54504*HT26^2-13.92499*HT26+2.825187)))) -> 0 | HV26: =IF(HS26>MAX($D$19:$D$55),0,G42) -> 0.63725834 | HW26: =TEXT(HS26/1440,"hh:mm") -> 01:55 | HX26: 24.978606 | HY26: =HY25+HX26*Escenario1!$D$15*0.06 -> 384.32141 | HZ26: =IF(HX26-AB26<=0,0,HX26-AB26) -> 16.476847 | IA26: =IA25+HZ26*Escenario1!$D$15*0.06 -> 191.88101 | IC26: 24 | ID26: =HU26 -> 0 | IE26: =ID25 -> 0 | IF26: =IE25 -> 0 | IG26: =IF25 -> 0 | IH26: =IG25 -> 0 | II26: =IH25 -> 0 | IJ26: =II25 -> 0 | IK26: =IJ25 -> 0 | IL26: =IK25 -> 0 | ... PN26: =PM25 -> 0
A27: 8 | B27: =IF(A27*$D$15>$B$15,0,D27*100/$B$15) -> 22.222222 | C27: =IF(A27*$D$15>$B$15,0,0.00000003820399*B27^5-0.00001104784*B27^4+0.0012780006*B27^3-0.07958462*B27^2+3.400981*B27) -> 47.813858 | D27: =IF(A27*$D$15>$B$15,0,A27*$D$15) -> 40 | E27: =IF(A27*$D$15>$B$15,0,C27*$F$15/100) -> 26.759078 | F27: =IF(A27*$D$15>$B$15,0,E27-E26) -> 2.1553143 | G27: =IF(A27*$D$15>$B$15,0,IF(F27=0,0,(2.54*($E$6*((F27/2.54)+2)-200)^2)/($E$6*($E$6*(F27/2.54-8)+800)))) -> 1.9012443 | H27: =IF(A27*$D$15>$B$15,0,F27-G27) -> 0.25406996 | I27: =IF(A27*$D$15>$B$15,0,IF(F27=0,0,(2.54*($H$4*((F27/2.54)+2)-200)^2)/($H$4*($H$4*(F27/2.54-8)+800)))) -> 0.90531867 | J27: =IF(A27*$D$15>$B$15,0,F27-I27) -> 1.2499956 | W27: 24 | X27: =W27*$D$15 -> 120 | Y27: =IF((X27)/C$59>5,"",(X27)/$C$59) | Z27: =IF($E$59*IF((X27)/C$59>5,0,IF(Y27<=1,5.60277*Y27^5-16.1238*Y27^4+13.865*Y27^3-3.00293*Y27^2+0.657237*Y27,IF(Y27>=1.8,-0.003218*Y27^5+0.0654895*Y27^4-0.539858*Y27^3+2.26576*Y27^2-4.87709*Y27+4.34827,0.3645833*Y27^6-3.832532*Y27^5+15.78165*Y27^4-31.75999*Y27^3+31.54504*Y27^2-13.92499*Y27+2.825187)))<0,0,E$59*IF((X27)/$C$59>5,0,IF(Y27<=1,5.60277*Y27^5-16.1238*Y27^4+13.865*Y27^3-3.00293*Y27^2+0.657237*Y27,IF(Y27>=1.8,-0.003218*Y27^5+0.0654895*Y27^4-0.539858*Y27^3+2.26576*Y27^2-4.87709*Y27+4.34827,0.3645833*Y27^6-3.832532*Y27^5+15.78165*Y27^4-31.75999*Y27^3+31.54504*Y27^2-13.92499*Y27+2.825187)))) -> 0 | AA27: =IF(X27>MAX($D$19:$D$55),0,I43) -> 0.094405086 | AB27: 7.4697315 | AC27: =AC26+AB27*5*0.06 -> 194.68132 | AE27: 25 | AF27: =Z27 -> 0 | AG27: =AF26 -> 0 | AH27: =AG26 -> 0 | AI27: =AH26 -> 0 | AJ27: =AI26 -> 1.4372902e-05 | AK27: =AJ26 -> 2.7857067e-05 | AL27: =AK26 -> 4.1075028e-05 | AM27: =AL26 -> 5.9699549e-05 | AN27: =AM26 -> 8.7540742e-05 | ... HP27: =HO26 -> 0 | HR27: 24 | HS27: =HR27*$D$15 -> 120 | HT27: =IF((HS27)/$C$60>5,"",(HS27)/C$60) | HU27: =IF($E$60*IF((HS27)/$C$60>5,0,IF(HT27<=1,5.60277*HT27^5-16.1238*HT27^4+13.865*HT27^3-3.00293*HT27^2+0.657237*HT27,IF(HT27>=1.8,-0.003218*HT27^5+0.0654895*HT27^4-0.539858*HT27^3+2.26576*HT27^2-4.87709*HT27+4.34827,0.3645833*HT27^6-3.832532*HT27^5+15.78165*HT27^4-31.75999*HT27^3+31.54504*HT27^2-13.92499*HT27+2.825187)))<0,0,E$60*IF((HS27)/$C$60>5,0,IF(HT27<=1,5.60277*HT27^5-16.1238*HT27^4+13.865*HT27^3-3.00293*HT27^2+0.657237*HT27,IF(HT27>=1.8,-0.003218*HT27^5+0.0654895*HT27^4-0.539858*HT27^3+2.26576*HT27^2-4.87709*HT27+4.34827,0.3645833*HT27^6-3.832532*HT27^5+15.78165*HT27^4-31.75999*HT27^3+31.54504*HT27^2-13.92499*HT27+2.825187)))) -> 0 | HV27: =IF(HS27>MAX($D$19:$D$55),0,G43) -> 0.59162389 | HW27: =TEXT(HS27/1440,"hh:mm") -> 02:00 | HX27: 23.415502 | HY27: =HY26+HX27*Escenario1!$D$15*0.06 -> 391.34606 | HZ27: =IF(HX27-AB27<=0,0,HX27-AB27) -> 15.945771 | IA27: =IA26+HZ27*Escenario1!$D$15*0.06 -> 196.66474 | IC27: 25 | ID27: =HU27 -> 0 | IE27: =ID26 -> 0 | IF27: =IE26 -> 0 | IG27: =IF26 -> 0 | IH27: =IG26 -> 0 | II27: =IH26 -> 0 | IJ27: =II26 -> 0 | IK27: =IJ26 -> 0 | IL27: =IK26 -> 0 | ... PN27: =PM26 -> 0
A28: 9 | B28: =IF(A28*$D$15>$B$15,0,D28*100/$B$15) -> 25 | C28: =IF(A28*$D$15>$B$15,0,0.00000003820399*B28^5-0.00001104784*B28^4+0.0012780006*B28^3-0.07958462*B28^2+3.400981*B28) -> 51.31042 | D28: =IF(A28*$D$15>$B$15,0,A28*$D$15) -> 45 | E28: =IF(A28*$D$15>$B$15,0,C28*$F$15/100) -> 28.715932 | F28: =IF(A28*$D$15>$B$15,0,E28-E27) -> 1.9568547 | G28: =IF(A28*$D$15>$B$15,0,IF(F28=0,0,(2.54*($E$6*((F28/2.54)+2)-200)^2)/($E$6*($E$6*(F28/2.54-8)+800)))) -> 1.7048923 | H28: =IF(A28*$D$15>$B$15,0,F28-G28) -> 0.25196234 | I28: =IF(A28*$D$15>$B$15,0,IF(F28=0,0,(2.54*($H$4*((F28/2.54)+2)-200)^2)/($H$4*($H$4*(F28/2.54-8)+800)))) -> 0.75875209 | J28: =IF(A28*$D$15>$B$15,0,F28-I28) -> 1.1981026 | W28: 25 | X28: =W28*$D$15 -> 125 | Y28: =IF((X28)/C$59>5,"",(X28)/$C$59) | Z28: =IF($E$59*IF((X28)/C$59>5,0,IF(Y28<=1,5.60277*Y28^5-16.1238*Y28^4+13.865*Y28^3-3.00293*Y28^2+0.657237*Y28,IF(Y28>=1.8,-0.003218*Y28^5+0.0654895*Y28^4-0.539858*Y28^3+2.26576*Y28^2-4.87709*Y28+4.34827,0.3645833*Y28^6-3.832532*Y28^5+15.78165*Y28^4-31.75999*Y28^3+31.54504*Y28^2-13.92499*Y28+2.825187)))<0,0,E$59*IF((X28)/$C$59>5,0,IF(Y28<=1,5.60277*Y28^5-16.1238*Y28^4+13.865*Y28^3-3.00293*Y28^2+0.657237*Y28,IF(Y28>=1.8,-0.003218*Y28^5+0.0654895*Y28^4-0.539858*Y28^3+2.26576*Y28^2-4.87709*Y28+4.34827,0.3645833*Y28^6-3.832532*Y28^5+15.78165*Y28^4-31.75999*Y28^3+31.54504*Y28^2-13.92499*Y28+2.825187)))) -> 0 | AA28: =IF(X28>MAX($D$19:$D$55),0,I44) -> 0.077889125 | AB28: 6.5445632 | AC28: =AC27+AB28*5*0.06 -> 196.64469 | AE28: 26 | AF28: =Z28 -> 0 | AG28: =AF27 -> 0 | AH28: =AG27 -> 0 | AI28: =AH27 -> 0 | AJ28: =AI27 -> 0 | AK28: =AJ27 -> 1.4372902e-05 | AL28: =AK27 -> 2.7857067e-05 | AM28: =AL27 -> 4.1075028e-05 | AN28: =AM27 -> 5.9699549e-05 | ... HP28: =HO27 -> 0 | HR28: 25 | HS28: =HR28*$D$15 -> 125 | HT28: =IF((HS28)/$C$60>5,"",(HS28)/C$60) | HU28: =IF($E$60*IF((HS28)/$C$60>5,0,IF(HT28<=1,5.60277*HT28^5-16.1238*HT28^4+13.865*HT28^3-3.00293*HT28^2+0.657237*HT28,IF(HT28>=1.8,-0.003218*HT28^5+0.0654895*HT28^4-0.539858*HT28^3+2.26576*HT28^2-4.87709*HT28+4.34827,0.3645833*HT28^6-3.832532*HT28^5+15.78165*HT28^4-31.75999*HT28^3+31.54504*HT28^2-13.92499*HT28+2.825187)))<0,0,E$60*IF((HS28)/$C$60>5,0,IF(HT28<=1,5.60277*HT28^5-16.1238*HT28^4+13.865*HT28^3-3.00293*HT28^2+0.657237*HT28,IF(HT28>=1.8,-0.003218*HT28^5+0.0654895*HT28^4-0.539858*HT28^3+2.26576*HT28^2-4.87709*HT28+4.34827,0.3645833*HT28^6-3.832532*HT28^5+15.78165*HT28^4-31.75999*HT28^3+31.54504*HT28^2-13.92499*HT28+2.825187)))) -> 0 | HV28: =IF(HS28>MAX($D$19:$D$55),0,G44) -> 0.54772448 | HW28: =TEXT(HS28/1440,"hh:mm") -> 02:05 | HX28: 21.87153 | HY28: =HY27+HX28*Escenario1!$D$15*0.06 -> 397.90752 | HZ28: =IF(HX28-AB28<=0,0,HX28-AB28) -> 15.326967 | IA28: =IA27+HZ28*Escenario1!$D$15*0.06 -> 201.26283 | IC28: 26 | ID28: =HU28 -> 0 | IE28: =ID27 -> 0 | IF28: =IE27 -> 0 | IG28: =IF27 -> 0 | IH28: =IG27 -> 0 | II28: =IH27 -> 0 | IJ28: =II27 -> 0 | IK28: =IJ27 -> 0 | IL28: =IK27 -> 0 | ... PN28: =PM27 -> 0
A29: 10 | B29: =IF(A29*$D$15>$B$15,0,D29*100/$B$15) -> 27.777778 | C29: =IF(A29*$D$15>$B$15,0,0.00000003820399*B29^5-0.00001104784*B29^4+0.0012780006*B29^3-0.07958462*B29^2+3.400981*B29) -> 54.510022 | D29: =IF(A29*$D$15>$B$15,0,A29*$D$15) -> 50 | E29: =IF(A29*$D$15>$B$15,0,C29*$F$15/100) -> 30.506593 | F29: =IF(A29*$D$15>$B$15,0,E29-E28) -> 1.7906608 | G29: =IF(A29*$D$15>$B$15,0,IF(F29=0,0,(2.54*($E$6*((F29/2.54)+2)-200)^2)/($E$6*($E$6*(F29/2.54-8)+800)))) -> 1.5407892 | H29: =IF(A29*$D$15>$B$15,0,F29-G29) -> 0.24987154 | I29: =IF(A29*$D$15>$B$15,0,IF(F29=0,0,(2.54*($H$4*((F29/2.54)+2)-200)^2)/($H$4*($H$4*(F29/2.54-8)+800)))) -> 0.6409463 | J29: =IF(A29*$D$15>$B$15,0,F29-I29) -> 1.1497145 | W29: 26 | X29: =W29*$D$15 -> 130 | Y29: =IF((X29)/C$59>5,"",(X29)/$C$59) | Z29: =IF($E$59*IF((X29)/C$59>5,0,IF(Y29<=1,5.60277*Y29^5-16.1238*Y29^4+13.865*Y29^3-3.00293*Y29^2+0.657237*Y29,IF(Y29>=1.8,-0.003218*Y29^5+0.0654895*Y29^4-0.539858*Y29^3+2.26576*Y29^2-4.87709*Y29+4.34827,0.3645833*Y29^6-3.832532*Y29^5+15.78165*Y29^4-31.75999*Y29^3+31.54504*Y29^2-13.92499*Y29+2.825187)))<0,0,E$59*IF((X29)/$C$59>5,0,IF(Y29<=1,5.60277*Y29^5-16.1238*Y29^4+13.865*Y29^3-3.00293*Y29^2+0.657237*Y29,IF(Y29>=1.8,-0.003218*Y29^5+0.0654895*Y29^4-0.539858*Y29^3+2.26576*Y29^2-4.87709*Y29+4.34827,0.3645833*Y29^6-3.832532*Y29^5+15.78165*Y29^4-31.75999*Y29^3+31.54504*Y29^2-13.92499*Y29+2.825187)))) -> 0 | AA29: =IF(X29>MAX($D$19:$D$55),0,I45) -> 0.063591953 | AB29: 5.7052772 | AC29: =AC28+AB29*5*0.06 -> 198.35627 | AE29: 27 | AF29: =Z29 -> 0 | AG29: =AF28 -> 0 | AH29: =AG28 -> 0 | AI29: =AH28 -> 0 | AJ29: =AI28 -> 0 | AK29: =AJ28 -> 0 | AL29: =AK28 -> 1.4372902e-05 | AM29: =AL28 -> 2.7857067e-05 | AN29: =AM28 -> 4.1075028e-05 | ... HP29: =HO28 -> 0 | HR29: 26 | HS29: =HR29*$D$15 -> 130 | HT29: =IF((HS29)/$C$60>5,"",(HS29)/C$60) | HU29: =IF($E$60*IF((HS29)/$C$60>5,0,IF(HT29<=1,5.60277*HT29^5-16.1238*HT29^4+13.865*HT29^3-3.00293*HT29^2+0.657237*HT29,IF(HT29>=1.8,-0.003218*HT29^5+0.0654895*HT29^4-0.539858*HT29^3+2.26576*HT29^2-4.87709*HT29+4.34827,0.3645833*HT29^6-3.832532*HT29^5+15.78165*HT29^4-31.75999*HT29^3+31.54504*HT29^2-13.92499*HT29+2.825187)))<0,0,E$60*IF((HS29)/$C$60>5,0,IF(HT29<=1,5.60277*HT29^5-16.1238*HT29^4+13.865*HT29^3-3.00293*HT29^2+0.657237*HT29,IF(HT29>=1.8,-0.003218*HT29^5+0.0654895*HT29^4-0.539858*HT29^3+2.26576*HT29^2-4.87709*HT29+4.34827,0.3645833*HT29^6-3.832532*HT29^5+15.78165*HT29^4-31.75999*HT29^3+31.54504*HT29^2-13.92499*HT29+2.825187)))) -> 0 | HV29: =IF(HS29>MAX($D$19:$D$55),0,G45) -> 0.50683228 | HW29: =TEXT(HS29/1440,"hh:mm") -> 02:10 | HX29: 20.356486 | HY29: =HY28+HX29*Escenario1!$D$15*0.06 -> 404.01447 | HZ29: =IF(HX29-AB29<=0,0,HX29-AB29) -> 14.651209 | IA29: =IA28+HZ29*Escenario1!$D$15*0.06 -> 205.6582 | IC29: 27 | ID29: =HU29 -> 0 | IE29: =ID28 -> 0 | IF29: =IE28 -> 0 | IG29: =IF28 -> 0 | IH29: =IG28 -> 0 | II29: =IH28 -> 0 | IJ29: =II28 -> 0 | IK29: =IJ28 -> 0 | IL29: =IK28 -> 0 | ... PN29: =PM28 -> 0
A30: 11 | B30: =IF(A30*$D$15>$B$15,0,D30*100/$B$15) -> 30.555556 | C30: =IF(A30*$D$15>$B$15,0,0.00000003820399*B30^5-0.00001104784*B30^4+0.0012780006*B30^3-0.07958462*B30^2+3.400981*B30) -> 57.461355 | D30: =IF(A30*$D$15>$B$15,0,A30*$D$15) -> 55 | E30: =IF(A30*$D$15>$B$15,0,C30*$F$15/100) -> 32.15831 | F30: =IF(A30*$D$15>$B$15,0,E30-E29) -> 1.6517167 | G30: =IF(A30*$D$15>$B$15,0,IF(F30=0,0,(2.54*($E$6*((F30/2.54)+2)-200)^2)/($E$6*($E$6*(F30/2.54-8)+800)))) -> 1.4038836 | H30: =IF(A30*$D$15>$B$15,0,F30-G30) -> 0.24783309 | I30: =IF(A30*$D$15>$B$15,0,IF(F30=0,0,(2.54*($H$4*((F30/2.54)+2)-200)^2)/($H$4*($H$4*(F30/2.54-8)+800)))) -> 0.54647192 | J30: =IF(A30*$D$15>$B$15,0,F30-I30) -> 1.1052448 | W30: 27 | X30: =W30*$D$15 -> 135 | Y30: =IF((X30)/C$59>5,"",(X30)/$C$59) | Z30: =IF($E$59*IF((X30)/C$59>5,0,IF(Y30<=1,5.60277*Y30^5-16.1238*Y30^4+13.865*Y30^3-3.00293*Y30^2+0.657237*Y30,IF(Y30>=1.8,-0.003218*Y30^5+0.0654895*Y30^4-0.539858*Y30^3+2.26576*Y30^2-4.87709*Y30+4.34827,0.3645833*Y30^6-3.832532*Y30^5+15.78165*Y30^4-31.75999*Y30^3+31.54504*Y30^2-13.92499*Y30+2.825187)))<0,0,E$59*IF((X30)/$C$59>5,0,IF(Y30<=1,5.60277*Y30^5-16.1238*Y30^4+13.865*Y30^3-3.00293*Y30^2+0.657237*Y30,IF(Y30>=1.8,-0.003218*Y30^5+0.0654895*Y30^4-0.539858*Y30^3+2.26576*Y30^2-4.87709*Y30+4.34827,0.3645833*Y30^6-3.832532*Y30^5+15.78165*Y30^4-31.75999*Y30^3+31.54504*Y30^2-13.92499*Y30+2.825187)))) -> 0 | AA30: =IF(X30>MAX($D$19:$D$55),0,I46) -> 0.051858844 | AB30: 4.9395369 | AC30: =AC29+AB30*5*0.06 -> 199.83813 | AE30: 28 | AF30: =Z30 -> 0 | AG30: =AF29 -> 0 | AH30: =AG29 -> 0 | AI30: =AH29 -> 0 | AJ30: =AI29 -> 0 | AK30: =AJ29 -> 0 | AL30: =AK29 -> 0 | AM30: =AL29 -> 1.4372902e-05 | AN30: =AM29 -> 2.7857067e-05 | ... HP30: =HO29 -> 0 | HR30: 27 | HS30: =HR30*$D$15 -> 135 | HT30: =IF((HS30)/$C$60>5,"",(HS30)/C$60) | HU30: =IF($E$60*IF((HS30)/$C$60>5,0,IF(HT30<=1,5.60277*HT30^5-16.1238*HT30^4+13.865*HT30^3-3.00293*HT30^2+0.657237*HT30,IF(HT30>=1.8,-0.003218*HT30^5+0.0654895*HT30^4-0.539858*HT30^3+2.26576*HT30^2-4.87709*HT30+4.34827,0.3645833*HT30^6-3.832532*HT30^5+15.78165*HT30^4-31.75999*HT30^3+31.54504*HT30^2-13.92499*HT30+2.825187)))<0,0,E$60*IF((HS30)/$C$60>5,0,IF(HT30<=1,5.60277*HT30^5-16.1238*HT30^4+13.865*HT30^3-3.00293*HT30^2+0.657237*HT30,IF(HT30>=1.8,-0.003218*HT30^5+0.0654895*HT30^4-0.539858*HT30^3+2.26576*HT30^2-4.87709*HT30+4.34827,0.3645833*HT30^6-3.832532*HT30^5+15.78165*HT30^4-31.75999*HT30^3+31.54504*HT30^2-13.92499*HT30+2.825187)))) -> 0 | HV30: =IF(HS30>MAX($D$19:$D$55),0,G46) -> 0.47058042 | HW30: =TEXT(HS30/1440,"hh:mm") -> 02:15 | HX30: 18.893312 | HY30: =HY29+HX30*Escenario1!$D$15*0.06 -> 409.68246 | HZ30: =IF(HX30-AB30<=0,0,HX30-AB30) -> 13.953775 | IA30: =IA29+HZ30*Escenario1!$D$15*0.06 -> 209.84433 | IC30: 28 | ID30: =HU30 -> 0 | IE30: =ID29 -> 0 | IF30: =IE29 -> 0 | IG30: =IF29 -> 0 | IH30: =IG29 -> 0 | II30: =IH29 -> 0 | IJ30: =II29 -> 0 | IK30: =IJ29 -> 0 | IL30: =IK29 -> 0 | ... PN30: =PM29 -> 0
A31: 12 | B31: =IF(A31*$D$15>$B$15,0,D31*100/$B$15) -> 33.333333 | C31: =IF(A31*$D$15>$B$15,0,0.00000003820399*B31^5-0.00001104784*B31^4+0.0012780006*B31^3-0.07958462*B31^2+3.400981*B31) -> 60.204905 | D31: =IF(A31*$D$15>$B$15,0,A31*$D$15) -> 60 | E31: =IF(A31*$D$15>$B$15,0,C31*$F$15/100) -> 33.693741 | F31: =IF(A31*$D$15>$B$15,0,E31-E30) -> 1.5354308 | G31: =IF(A31*$D$15>$B$15,0,IF(F31=0,0,(2.54*($E$6*((F31/2.54)+2)-200)^2)/($E$6*($E$6*(F31/2.54-8)+800)))) -> 1.2895569 | H31: =IF(A31*$D$15>$B$15,0,F31-G31) -> 0.2458739 | I31: =IF(A31*$D$15>$B$15,0,IF(F31=0,0,(2.54*($H$4*((F31/2.54)+2)-200)^2)/($H$4*($H$4*(F31/2.54-8)+800)))) -> 0.47061542 | J31: =IF(A31*$D$15>$B$15,0,F31-I31) -> 1.0648154 | W31: 28 | X31: =W31*$D$15 -> 140 | Y31: =IF((X31)/C$59>5,"",(X31)/$C$59) | Z31: =IF($E$59*IF((X31)/C$59>5,0,IF(Y31<=1,5.60277*Y31^5-16.1238*Y31^4+13.865*Y31^3-3.00293*Y31^2+0.657237*Y31,IF(Y31>=1.8,-0.003218*Y31^5+0.0654895*Y31^4-0.539858*Y31^3+2.26576*Y31^2-4.87709*Y31+4.34827,0.3645833*Y31^6-3.832532*Y31^5+15.78165*Y31^4-31.75999*Y31^3+31.54504*Y31^2-13.92499*Y31+2.825187)))<0,0,E$59*IF((X31)/$C$59>5,0,IF(Y31<=1,5.60277*Y31^5-16.1238*Y31^4+13.865*Y31^3-3.00293*Y31^2+0.657237*Y31,IF(Y31>=1.8,-0.003218*Y31^5+0.0654895*Y31^4-0.539858*Y31^3+2.26576*Y31^2-4.87709*Y31+4.34827,0.3645833*Y31^6-3.832532*Y31^5+15.78165*Y31^4-31.75999*Y31^3+31.54504*Y31^2-13.92499*Y31+2.825187)))) -> 0 | AA31: =IF(X31>MAX($D$19:$D$55),0,I47) -> 0.042970101 | AB31: 4.2420357 | AC31: =AC30+AB31*5*0.06 -> 201.11074 | AE31: 29 | AF31: =Z31 -> 0 | AG31: =AF30 -> 0 | AH31: =AG30 -> 0 | AI31: =AH30 -> 0 | AJ31: =AI30 -> 0 | AK31: =AJ30 -> 0 | AL31: =AK30 -> 0 | AM31: =AL30 -> 0 | AN31: =AM30 -> 1.4372902e-05 | ... HP31: =HO30 -> 0 | HR31: 28 | HS31: =HR31*$D$15 -> 140 | HT31: =IF((HS31)/$C$60>5,"",(HS31)/C$60) | HU31: =IF($E$60*IF((HS31)/$C$60>5,0,IF(HT31<=1,5.60277*HT31^5-16.1238*HT31^4+13.865*HT31^3-3.00293*HT31^2+0.657237*HT31,IF(HT31>=1.8,-0.003218*HT31^5+0.0654895*HT31^4-0.539858*HT31^3+2.26576*HT31^2-4.87709*HT31+4.34827,0.3645833*HT31^6-3.832532*HT31^5+15.78165*HT31^4-31.75999*HT31^3+31.54504*HT31^2-13.92499*HT31+2.825187)))<0,0,E$60*IF((HS31)/$C$60>5,0,IF(HT31<=1,5.60277*HT31^5-16.1238*HT31^4+13.865*HT31^3-3.00293*HT31^2+0.657237*HT31,IF(HT31>=1.8,-0.003218*HT31^5+0.0654895*HT31^4-0.539858*HT31^3+2.26576*HT31^2-4.87709*HT31+4.34827,0.3645833*HT31^6-3.832532*HT31^5+15.78165*HT31^4-31.75999*HT31^3+31.54504*HT31^2-13.92499*HT31+2.825187)))) -> 0 | HV31: =IF(HS31>MAX($D$19:$D$55),0,G47) -> 0.44094708 | HW31: =TEXT(HS31/1440,"hh:mm") -> 02:20 | HX31: 17.517656 | HY31: =HY30+HX31*Escenario1!$D$15*0.06 -> 414.93776 | HZ31: =IF(HX31-AB31<=0,0,HX31-AB31) -> 13.27562 | IA31: =IA30+HZ31*Escenario1!$D$15*0.06 -> 213.82702 | IC31: 29 | ID31: =HU31 -> 0 | IE31: =ID30 -> 0 | IF31: =IE30 -> 0 | IG31: =IF30 -> 0 | IH31: =IG30 -> 0 | II31: =IH30 -> 0 | IJ31: =II30 -> 0 | IK31: =IJ30 -> 0 | IL31: =IK30 -> 0 | ... PN31: =PM30 -> 0
... A43: 24 | B43: =IF(A43*$D$15>$B$15,0,D43*100/$B$15) -> 66.666667 | C43: =IF(A43*$D$15>$B$15,0,0.00000003820399*B43^5-0.00001104784*B43^4+0.0012780006*B43^3-0.07958462*B43^2+3.400981*B43) -> 83.770332 | D43: =IF(A43*$D$15>$B$15,0,A43*$D$15) -> 120 | E43: =IF(A43*$D$15>$B$15,0,C43*$F$15/100) -> 46.882157 | F43: =IF(A43*$D$15>$B$15,0,E43-E42) -> 0.8152105 | G43: =IF(A43*$D$15>$B$15,0,IF(F43=0,0,(2.54*($E$6*((F43/2.54)+2)-200)^2)/($E$6*($E$6*(F43/2.54-8)+800)))) -> 0.59162389 | H43: =IF(A43*$D$15>$B$15,0,F43-G43) -> 0.22358661 | I43: =IF(A43*$D$15>$B$15,0,IF(F43=0,0,(2.54*($H$4*((F43/2.54)+2)-200)^2)/($H$4*($H$4*(F43/2.54-8)+800)))) -> 0.094405086 | J43: =IF(A43*$D$15>$B$15,0,F43-I43) -> 0.72080541 | W43: 40 | X43: =W43*$D$15 -> 200 | Y43: =IF((X43)/C$59>5,"",(X43)/$C$59) | Z43: =IF($E$59*IF((X43)/C$59>5,0,IF(Y43<=1,5.60277*Y43^5-16.1238*Y43^4+13.865*Y43^3-3.00293*Y43^2+0.657237*Y43,IF(Y43>=1.8,-0.003218*Y43^5+0.0654895*Y43^4-0.539858*Y43^3+2.26576*Y43^2-4.87709*Y43+4.34827,0.3645833*Y43^6-3.832532*Y43^5+15.78165*Y43^4-31.75999*Y43^3+31.54504*Y43^2-13.92499*Y43+2.825187)))<0,0,E$59*IF((X43)/$C$59>5,0,IF(Y43<=1,5.60277*Y43^5-16.1238*Y43^4+13.865*Y43^3-3.00293*Y43^2+0.657237*Y43,IF(Y43>=1.8,-0.003218*Y43^5+0.0654895*Y43^4-0.539858*Y43^3+2.26576*Y43^2-4.87709*Y43+4.34827,0.3645833*Y43^6-3.832532*Y43^5+15.78165*Y43^4-31.75999*Y43^3+31.54504*Y43^2-13.92499*Y43+2.825187)))) -> 0 | AA43: =IF(X43>MAX($D$19:$D$55),0,I59) -> 0 | AB43: 2.6808063 | AC43: =AC42+AB43*5*0.06 -> 209.68428 | AE43: 41 | AF43: =Z43 -> 0 | AG43: =AF42 -> 0 | AH43: =AG42 -> 0 | AI43: =AH42 -> 0 | AJ43: =AI42 -> 0 | AK43: =AJ42 -> 0 | AL43: =AK42 -> 0 | AM43: =AL42 -> 0 | AN43: =AM42 -> 0 | ... HP43: =HO42 -> 0 | HR43: 40 | HS43: =HR43*$D$15 -> 200 | HT43: =IF((HS43)/$C$60>5,"",(HS43)/C$60) | HU43: =IF($E$60*IF((HS43)/$C$60>5,0,IF(HT43<=1,5.60277*HT43^5-16.1238*HT43^4+13.865*HT43^3-3.00293*HT43^2+0.657237*HT43,IF(HT43>=1.8,-0.003218*HT43^5+0.0654895*HT43^4-0.539858*HT43^3+2.26576*HT43^2-4.87709*HT43+4.34827,0.3645833*HT43^6-3.832532*HT43^5+15.78165*HT43^4-31.75999*HT43^3+31.54504*HT43^2-13.92499*HT43+2.825187)))<0,0,E$60*IF((HS43)/$C$60>5,0,IF(HT43<=1,5.60277*HT43^5-16.1238*HT43^4+13.865*HT43^3-3.00293*HT43^2+0.657237*HT43,IF(HT43>=1.8,-0.003218*HT43^5+0.0654895*HT43^4-0.539858*HT43^3+2.26576*HT43^2-4.87709*HT43+4.34827,0.3645833*HT43^6-3.832532*HT43^5+15.78165*HT43^4-31.75999*HT43^3+31.54504*HT43^2-13.92499*HT43+2.825187)))) -> 0 | HV43: =IF(HS43>MAX($D$19:$D$55),0,G59) -> 0 | HW43: =TEXT(HS43/1440,"hh:mm") -> 03:20 | HX43: 4.0592679 | HY43: =HY42+HX43*Escenario1!$D$15*0.06 -> 467.84824 | HZ43: =IF(HX43-AB43<=0,0,HX43-AB43) -> 1.3784616 | IA43: =IA42+HZ43*Escenario1!$D$15*0.06 -> 258.16396 | IC43: 41 | ID43: =HU43 -> 0 | IE43: =ID42 -> 0 | IF43: =IE42 -> 0 | IG43: =IF42 -> 0 | IH43: =IG42 -> 0 | II43: =IH42 -> 0 | IJ43: =II42 -> 0 | IK43: =IJ42 -> 0 | IL43: =IK42 -> 0 | ... PN43: =PM42 -> 0
A44: 25 | B44: =IF(A44*$D$15>$B$15,0,D44*100/$B$15) -> 69.444444 | C44: =IF(A44*$D$15>$B$15,0,0.00000003820399*B44^5-0.00001104784*B44^4+0.0012780006*B44^3-0.07958462*B44^2+3.400981*B44) -> 85.143893 | D44: =IF(A44*$D$15>$B$15,0,A44*$D$15) -> 125 | E44: =IF(A44*$D$15>$B$15,0,C44*$F$15/100) -> 47.650872 | F44: =IF(A44*$D$15>$B$15,0,E44-E43) -> 0.76871504 | G44: =IF(A44*$D$15>$B$15,0,IF(F44=0,0,(2.54*($E$6*((F44/2.54)+2)-200)^2)/($E$6*($E$6*(F44/2.54-8)+800)))) -> 0.54772448 | H44: =IF(A44*$D$15>$B$15,0,F44-G44) -> 0.22099056 | I44: =IF(A44*$D$15>$B$15,0,IF(F44=0,0,(2.54*($H$4*((F44/2.54)+2)-200)^2)/($H$4*($H$4*(F44/2.54-8)+800)))) -> 0.077889125 | J44: =IF(A44*$D$15>$B$15,0,F44-I44) -> 0.69082591 | W44: 41 | X44: =W44*$D$15 -> 205 | Y44: =IF((X44)/C$59>5,"",(X44)/$C$59) | Z44: =IF($E$59*IF((X44)/C$59>5,0,IF(Y44<=1,5.60277*Y44^5-16.1238*Y44^4+13.865*Y44^3-3.00293*Y44^2+0.657237*Y44,IF(Y44>=1.8,-0.003218*Y44^5+0.0654895*Y44^4-0.539858*Y44^3+2.26576*Y44^2-4.87709*Y44+4.34827,0.3645833*Y44^6-3.832532*Y44^5+15.78165*Y44^4-31.75999*Y44^3+31.54504*Y44^2-13.92499*Y44+2.825187)))<0,0,E$59*IF((X44)/$C$59>5,0,IF(Y44<=1,5.60277*Y44^5-16.1238*Y44^4+13.865*Y44^3-3.00293*Y44^2+0.657237*Y44,IF(Y44>=1.8,-0.003218*Y44^5+0.0654895*Y44^4-0.539858*Y44^3+2.26576*Y44^2-4.87709*Y44+4.34827,0.3645833*Y44^6-3.832532*Y44^5+15.78165*Y44^4-31.75999*Y44^3+31.54504*Y44^2-13.92499*Y44+2.825187)))) -> 0 | AA44: =IF(X44>MAX($D$19:$D$55),0,I61) -> 0 | AB44: 2.1824023 | AC44: =AC43+AB44*5*0.06 -> 210.339 | AE44: 42 | AF44: =Z44 -> 0 | AG44: =AF43 -> 0 | AH44: =AG43 -> 0 | AI44: =AH43 -> 0 | AJ44: =AI43 -> 0 | AK44: =AJ43 -> 0 | AL44: =AK43 -> 0 | AM44: =AL43 -> 0 | AN44: =AM43 -> 0 | ... HP44: =HO43 -> 0 | HR44: 41 | HS44: =HR44*$D$15 -> 205 | HT44: =IF((HS44)/$C$60>5,"",(HS44)/C$60) | HU44: =IF($E$60*IF((HS44)/$C$60>5,0,IF(HT44<=1,5.60277*HT44^5-16.1238*HT44^4+13.865*HT44^3-3.00293*HT44^2+0.657237*HT44,IF(HT44>=1.8,-0.003218*HT44^5+0.0654895*HT44^4-0.539858*HT44^3+2.26576*HT44^2-4.87709*HT44+4.34827,0.3645833*HT44^6-3.832532*HT44^5+15.78165*HT44^4-31.75999*HT44^3+31.54504*HT44^2-13.92499*HT44+2.825187)))<0,0,E$60*IF((HS44)/$C$60>5,0,IF(HT44<=1,5.60277*HT44^5-16.1238*HT44^4+13.865*HT44^3-3.00293*HT44^2+0.657237*HT44,IF(HT44>=1.8,-0.003218*HT44^5+0.0654895*HT44^4-0.539858*HT44^3+2.26576*HT44^2-4.87709*HT44+4.34827,0.3645833*HT44^6-3.832532*HT44^5+15.78165*HT44^4-31.75999*HT44^3+31.54504*HT44^2-13.92499*HT44+2.825187)))) -> 0 | HV44: =IF(HS44>MAX($D$19:$D$55),0,G61) -> 0 | HW44: =TEXT(HS44/1440,"hh:mm") -> 03:25 | HX44: 1.7265758 | HY44: =HY43+HX44*Escenario1!$D$15*0.06 -> 468.36621 | HZ44: =IF(HX44-AB44<=0,0,HX44-AB44) -> 0 | IA44: =IA43+HZ44*Escenario1!$D$15*0.06 -> 258.16396 | IC44: 42 | ID44: =HU44 -> 0 | IE44: =ID43 -> 0 | IF44: =IE43 -> 0 | IG44: =IF43 -> 0 | IH44: =IG43 -> 0 | II44: =IH43 -> 0 | IJ44: =II43 -> 0 | IK44: =IJ43 -> 0 | IL44: =IK43 -> 0 | ... PN44: =PM43 -> 0
A45: 26 | B45: =IF(A45*$D$15>$B$15,0,D45*100/$B$15) -> 72.222222 | C45: =IF(A45*$D$15>$B$15,0,0.00000003820399*B45^5-0.00001104784*B45^4+0.0012780006*B45^3-0.07958462*B45^2+3.400981*B45) -> 86.43961 | D45: =IF(A45*$D$15>$B$15,0,A45*$D$15) -> 130 | E45: =IF(A45*$D$15>$B$15,0,C45*$F$15/100) -> 48.376022 | F45: =IF(A45*$D$15>$B$15,0,E45-E44) -> 0.72514955 | G45: =IF(A45*$D$15>$B$15,0,IF(F45=0,0,(2.54*($E$6*((F45/2.54)+2)-200)^2)/($E$6*($E$6*(F45/2.54-8)+800)))) -> 0.50683228 | H45: =IF(A45*$D$15>$B$15,0,F45-G45) -> 0.21831727 | I45: =IF(A45*$D$15>$B$15,0,IF(F45=0,0,(2.54*($H$4*((F45/2.54)+2)-200)^2)/($H$4*($H$4*(F45/2.54-8)+800)))) -> 0.063591953 | J45: =IF(A45*$D$15>$B$15,0,F45-I45) -> 0.6615576 | W45: 42 | X45: =W45*$D$15 -> 210 | Y45: =IF((X45)/C$59>5,"",(X45)/$C$59) | Z45: =IF($E$59*IF((X45)/C$59>5,0,IF(Y45<=1,5.60277*Y45^5-16.1238*Y45^4+13.865*Y45^3-3.00293*Y45^2+0.657237*Y45,IF(Y45>=1.8,-0.003218*Y45^5+0.0654895*Y45^4-0.539858*Y45^3+2.26576*Y45^2-4.87709*Y45+4.34827,0.3645833*Y45^6-3.832532*Y45^5+15.78165*Y45^4-31.75999*Y45^3+31.54504*Y45^2-13.92499*Y45+2.825187)))<0,0,E$59*IF((X45)/$C$59>5,0,IF(Y45<=1,5.60277*Y45^5-16.1238*Y45^4+13.865*Y45^3-3.00293*Y45^2+0.657237*Y45,IF(Y45>=1.8,-0.003218*Y45^5+0.0654895*Y45^4-0.539858*Y45^3+2.26576*Y45^2-4.87709*Y45+4.34827,0.3645833*Y45^6-3.832532*Y45^5+15.78165*Y45^4-31.75999*Y45^3+31.54504*Y45^2-13.92499*Y45+2.825187)))) -> 0 | AA45: =IF(X45>MAX($D$19:$D$55),0,I62) -> 0 | AB45: 1.5828095 | AC45: =AC44+AB45*5*0.06 -> 210.81384 | AE45: 43 | AF45: =Z45 -> 0 | AG45: =AF44 -> 0 | AH45: =AG44 -> 0 | AI45: =AH44 -> 0 | AJ45: =AI44 -> 0 | AK45: =AJ44 -> 0 | AL45: =AK44 -> 0 | AM45: =AL44 -> 0 | AN45: =AM44 -> 0 | ... HP45: =HO44 -> 0 | HR45: 42 | HS45: =HR45*$D$15 -> 210 | HT45: =IF((HS45)/$C$60>5,"",(HS45)/C$60) | HU45: =IF($E$60*IF((HS45)/$C$60>5,0,IF(HT45<=1,5.60277*HT45^5-16.1238*HT45^4+13.865*HT45^3-3.00293*HT45^2+0.657237*HT45,IF(HT45>=1.8,-0.003218*HT45^5+0.0654895*HT45^4-0.539858*HT45^3+2.26576*HT45^2-4.87709*HT45+4.34827,0.3645833*HT45^6-3.832532*HT45^5+15.78165*HT45^4-31.75999*HT45^3+31.54504*HT45^2-13.92499*HT45+2.825187)))<0,0,E$60*IF((HS45)/$C$60>5,0,IF(HT45<=1,5.60277*HT45^5-16.1238*HT45^4+13.865*HT45^3-3.00293*HT45^2+0.657237*HT45,IF(HT45>=1.8,-0.003218*HT45^5+0.0654895*HT45^4-0.539858*HT45^3+2.26576*HT45^2-4.87709*HT45+4.34827,0.3645833*HT45^6-3.832532*HT45^5+15.78165*HT45^4-31.75999*HT45^3+31.54504*HT45^2-13.92499*HT45+2.825187)))) -> 0 | HV45: =IF(HS45>MAX($D$19:$D$55),0,G62) -> 0 | HW45: =TEXT(HS45/1440,"hh:mm") -> 03:30 | HX45: 0.73481126 | HY45: =HY44+HX45*Escenario1!$D$15*0.06 -> 468.58666 | HZ45: =IF(HX45-AB45<=0,0,HX45-AB45) -> 0 | IA45: =IA44+HZ45*Escenario1!$D$15*0.06 -> 258.16396 | IC45: 43 | ID45: =HU45 -> 0 | IE45: =ID44 -> 0 | IF45: =IE44 -> 0 | IG45: =IF44 -> 0 | IH45: =IG44 -> 0 | II45: =IH44 -> 0 | IJ45: =II44 -> 0 | IK45: =IJ44 -> 0 | IL45: =IK44 -> 0 | ... PN45: =PM44 -> 0
A46: 27 | B46: =IF(A46*$D$15>$B$15,0,D46*100/$B$15) -> 75 | C46: =IF(A46*$D$15>$B$15,0,0.00000003820399*B46^5-0.00001104784*B46^4+0.0012780006*B46^3-0.07958462*B46^2+3.400981*B46) -> 87.665887 | D46: =IF(A46*$D$15>$B$15,0,A46*$D$15) -> 135 | E46: =IF(A46*$D$15>$B$15,0,C46*$F$15/100) -> 49.062309 | F46: =IF(A46*$D$15>$B$15,0,E46-E45) -> 0.68628729 | G46: =IF(A46*$D$15>$B$15,0,IF(F46=0,0,(2.54*($E$6*((F46/2.54)+2)-200)^2)/($E$6*($E$6*(F46/2.54-8)+800)))) -> 0.47058042 | H46: =IF(A46*$D$15>$B$15,0,F46-G46) -> 0.21570687 | I46: =IF(A46*$D$15>$B$15,0,IF(F46=0,0,(2.54*($H$4*((F46/2.54)+2)-200)^2)/($H$4*($H$4*(F46/2.54-8)+800)))) -> 0.051858844 | J46: =IF(A46*$D$15>$B$15,0,F46-I46) -> 0.63442845 | W46: 43 | X46: =W46*$D$15 -> 215 | Y46: =IF((X46)/C$59>5,"",(X46)/$C$59) | Z46: =IF($E$59*IF((X46)/C$59>5,0,IF(Y46<=1,5.60277*Y46^5-16.1238*Y46^4+13.865*Y46^3-3.00293*Y46^2+0.657237*Y46,IF(Y46>=1.8,-0.003218*Y46^5+0.0654895*Y46^4-0.539858*Y46^3+2.26576*Y46^2-4.87709*Y46+4.34827,0.3645833*Y46^6-3.832532*Y46^5+15.78165*Y46^4-31.75999*Y46^3+31.54504*Y46^2-13.92499*Y46+2.825187)))<0,0,E$59*IF((X46)/$C$59>5,0,IF(Y46<=1,5.60277*Y46^5-16.1238*Y46^4+13.865*Y46^3-3.00293*Y46^2+0.657237*Y46,IF(Y46>=1.8,-0.003218*Y46^5+0.0654895*Y46^4-0.539858*Y46^3+2.26576*Y46^2-4.87709*Y46+4.34827,0.3645833*Y46^6-3.832532*Y46^5+15.78165*Y46^4-31.75999*Y46^3+31.54504*Y46^2-13.92499*Y46+2.825187)))) -> 0 | AA46: =IF(X46>MAX($D$19:$D$55),0,I63) -> 0 | AB46: 1.0609125 | AC46: =AC45+AB46*5*0.06 -> 211.13212 | AE46: 44 | AF46: =Z46 -> 0 | AG46: =AF45 -> 0 | AH46: =AG45 -> 0 | AI46: =AH45 -> 0 | AJ46: =AI45 -> 0 | AK46: =AJ45 -> 0 | AL46: =AK45 -> 0 | AM46: =AL45 -> 0 | AN46: =AM45 -> 0 | ... HP46: =HO45 -> 0 | HR46: 43 | HS46: =HR46*$D$15 -> 215 | HT46: =IF((HS46)/$C$60>5,"",(HS46)/C$60) | HU46: =IF($E$60*IF((HS46)/$C$60>5,0,IF(HT46<=1,5.60277*HT46^5-16.1238*HT46^4+13.865*HT46^3-3.00293*HT46^2+0.657237*HT46,IF(HT46>=1.8,-0.003218*HT46^5+0.0654895*HT46^4-0.539858*HT46^3+2.26576*HT46^2-4.87709*HT46+4.34827,0.3645833*HT46^6-3.832532*HT46^5+15.78165*HT46^4-31.75999*HT46^3+31.54504*HT46^2-13.92499*HT46+2.825187)))<0,0,E$60*IF((HS46)/$C$60>5,0,IF(HT46<=1,5.60277*HT46^5-16.1238*HT46^4+13.865*HT46^3-3.00293*HT46^2+0.657237*HT46,IF(HT46>=1.8,-0.003218*HT46^5+0.0654895*HT46^4-0.539858*HT46^3+2.26576*HT46^2-4.87709*HT46+4.34827,0.3645833*HT46^6-3.832532*HT46^5+15.78165*HT46^4-31.75999*HT46^3+31.54504*HT46^2-13.92499*HT46+2.825187)))) -> 0 | HV46: =IF(HS46>MAX($D$19:$D$55),0,G63) -> 0 | HW46: =TEXT(HS46/1440,"hh:mm") -> 03:35 | HX46: 0.30899197 | HY46: =HY45+HX46*Escenario1!$D$15*0.06 -> 468.67935 | HZ46: =IF(HX46-AB46<=0,0,HX46-AB46) -> 0 | IA46: =IA45+HZ46*Escenario1!$D$15*0.06 -> 258.16396 | IC46: 44 | ID46: =HU46 -> 0 | IE46: =ID45 -> 0 | IF46: =IE45 -> 0 | IG46: =IF45 -> 0 | IH46: =IG45 -> 0 | II46: =IH45 -> 0 | IJ46: =II45 -> 0 | IK46: =IJ45 -> 0 | IL46: =IK45 -> 0 | ... PN46: =PM45 -> 0
A47: 28 | B47: =IF(A47*$D$15>$B$15,0,D47*100/$B$15) -> 77.777778 | C47: =IF(A47*$D$15>$B$15,0,0.00000003820399*B47^5-0.00001104784*B47^4+0.0012780006*B47^3-0.07958462*B47^2+3.400981*B47) -> 88.835055 | D47: =IF(A47*$D$15>$B$15,0,A47*$D$15) -> 140 | E47: =IF(A47*$D$15>$B$15,0,C47*$F$15/100) -> 49.716635 | F47: =IF(A47*$D$15>$B$15,0,E47-E46) -> 0.65432583 | G47: =IF(A47*$D$15>$B$15,0,IF(F47=0,0,(2.54*($E$6*((F47/2.54)+2)-200)^2)/($E$6*($E$6*(F47/2.54-8)+800)))) -> 0.44094708 | H47: =IF(A47*$D$15>$B$15,0,F47-G47) -> 0.21337875 | I47: =IF(A47*$D$15>$B$15,0,IF(F47=0,0,(2.54*($H$4*((F47/2.54)+2)-200)^2)/($H$4*($H$4*(F47/2.54-8)+800)))) -> 0.042970101 | J47: =IF(A47*$D$15>$B$15,0,F47-I47) -> 0.61135572 | W47: 44 | X47: =W47*$D$15 -> 220 | Y47: =IF((X47)/C$59>5,"",(X47)/$C$59) | Z47: =IF($E$59*IF((X47)/C$59>5,0,IF(Y47<=1,5.60277*Y47^5-16.1238*Y47^4+13.865*Y47^3-3.00293*Y47^2+0.657237*Y47,IF(Y47>=1.8,-0.003218*Y47^5+0.0654895*Y47^4-0.539858*Y47^3+2.26576*Y47^2-4.87709*Y47+4.34827,0.3645833*Y47^6-3.832532*Y47^5+15.78165*Y47^4-31.75999*Y47^3+31.54504*Y47^2-13.92499*Y47+2.825187)))<0,0,E$59*IF((X47)/$C$59>5,0,IF(Y47<=1,5.60277*Y47^5-16.1238*Y47^4+13.865*Y47^3-3.00293*Y47^2+0.657237*Y47,IF(Y47>=1.8,-0.003218*Y47^5+0.0654895*Y47^4-0.539858*Y47^3+2.26576*Y47^2-4.87709*Y47+4.34827,0.3645833*Y47^6-3.832532*Y47^5+15.78165*Y47^4-31.75999*Y47^3+31.54504*Y47^2-13.92499*Y47+2.825187)))) -> 0 | AA47: =IF(X47>MAX($D$19:$D$55),0,I64) -> 0 | AB47: 0.70361355 | AC47: =AC46+AB47*5*0.06 -> 211.3432 | AE47: 45 | AF47: =Z47 -> 0 | AG47: =AF46 -> 0 | AH47: =AG46 -> 0 | AI47: =AH46 -> 0 | AJ47: =AI46 -> 0 | AK47: =AJ46 -> 0 | AL47: =AK46 -> 0 | AM47: =AL46 -> 0 | AN47: =AM46 -> 0 | ... HP47: =HO46 -> 0 | HR47: 44 | HS47: =HR47*$D$15 -> 220 | HT47: =IF((HS47)/$C$60>5,"",(HS47)/C$60) | HU47: =IF($E$60*IF((HS47)/$C$60>5,0,IF(HT47<=1,5.60277*HT47^5-16.1238*HT47^4+13.865*HT47^3-3.00293*HT47^2+0.657237*HT47,IF(HT47>=1.8,-0.003218*HT47^5+0.0654895*HT47^4-0.539858*HT47^3+2.26576*HT47^2-4.87709*HT47+4.34827,0.3645833*HT47^6-3.832532*HT47^5+15.78165*HT47^4-31.75999*HT47^3+31.54504*HT47^2-13.92499*HT47+2.825187)))<0,0,E$60*IF((HS47)/$C$60>5,0,IF(HT47<=1,5.60277*HT47^5-16.1238*HT47^4+13.865*HT47^3-3.00293*HT47^2+0.657237*HT47,IF(HT47>=1.8,-0.003218*HT47^5+0.0654895*HT47^4-0.539858*HT47^3+2.26576*HT47^2-4.87709*HT47+4.34827,0.3645833*HT47^6-3.832532*HT47^5+15.78165*HT47^4-31.75999*HT47^3+31.54504*HT47^2-13.92499*HT47+2.825187)))) -> 0 | HV47: =IF(HS47>MAX($D$19:$D$55),0,G64) -> 0 | HW47: =TEXT(HS47/1440,"hh:mm") -> 03:40 | HX47: 0.12109447 | HY47: =HY46+HX47*Escenario1!$D$15*0.06 -> 468.71568 | HZ47: =IF(HX47-AB47<=0,0,HX47-AB47) -> 0 | IA47: =IA46+HZ47*Escenario1!$D$15*0.06 -> 258.16396 | IC47: 45 | ID47: =HU47 -> 0 | IE47: =ID46 -> 0 | IF47: =IE46 -> 0 | IG47: =IF46 -> 0 | IH47: =IG46 -> 0 | II47: =IH46 -> 0 | IJ47: =II46 -> 0 | IK47: =IJ46 -> 0 | IL47: =IK46 -> 0 | ... PN47: =PM46 -> 0
A48: 29 | B48: =IF(A48*$D$15>$B$15,0,D48*100/$B$15) -> 80.555556 | C48: =IF(A48*$D$15>$B$15,0,0.00000003820399*B48^5-0.00001104784*B48^4+0.0012780006*B48^3-0.07958462*B48^2+3.400981*B48) -> 89.964128 | D48: =IF(A48*$D$15>$B$15,0,A48*$D$15) -> 145 | E48: =IF(A48*$D$15>$B$15,0,C48*$F$15/100) -> 50.348522 | F48: =IF(A48*$D$15>$B$15,0,E48-E47) -> 0.63188704 | G48: =IF(A48*$D$15>$B$15,0,IF(F48=0,0,(2.54*($E$6*((F48/2.54)+2)-200)^2)/($E$6*($E$6*(F48/2.54-8)+800)))) -> 0.42025168 | H48: =IF(A48*$D$15>$B$15,0,F48-G48) -> 0.21163536 | I48: =IF(A48*$D$15>$B$15,0,IF(F48=0,0,(2.54*($H$4*((F48/2.54)+2)-200)^2)/($H$4*($H$4*(F48/2.54-8)+800)))) -> 0.037158649 | J48: =IF(A48*$D$15>$B$15,0,F48-I48) -> 0.5947284 | W48: 45 | X48: =W48*$D$15 -> 225 | Y48: =IF((X48)/C$59>5,"",(X48)/$C$59) | Z48: =IF($E$59*IF((X48)/C$59>5,0,IF(Y48<=1,5.60277*Y48^5-16.1238*Y48^4+13.865*Y48^3-3.00293*Y48^2+0.657237*Y48,IF(Y48>=1.8,-0.003218*Y48^5+0.0654895*Y48^4-0.539858*Y48^3+2.26576*Y48^2-4.87709*Y48+4.34827,0.3645833*Y48^6-3.832532*Y48^5+15.78165*Y48^4-31.75999*Y48^3+31.54504*Y48^2-13.92499*Y48+2.825187)))<0,0,E$59*IF((X48)/$C$59>5,0,IF(Y48<=1,5.60277*Y48^5-16.1238*Y48^4+13.865*Y48^3-3.00293*Y48^2+0.657237*Y48,IF(Y48>=1.8,-0.003218*Y48^5+0.0654895*Y48^4-0.539858*Y48^3+2.26576*Y48^2-4.87709*Y48+4.34827,0.3645833*Y48^6-3.832532*Y48^5+15.78165*Y48^4-31.75999*Y48^3+31.54504*Y48^2-13.92499*Y48+2.825187)))) -> 0 | AA48: =IF(X48>MAX($D$19:$D$55),0,I65) -> 0 | AB48: 0.47592271 | AC48: =AC47+AB48*5*0.06 -> 211.48598 | AE48: 46 | AF48: =Z48 -> 0 | AG48: =AF47 -> 0 | AH48: =AG47 -> 0 | AI48: =AH47 -> 0 | AJ48: =AI47 -> 0 | AK48: =AJ47 -> 0 | AL48: =AK47 -> 0 | AM48: =AL47 -> 0 | AN48: =AM47 -> 0 | ... HP48: =HO47 -> 0 | HR48: 45 | HS48: =HR48*$D$15 -> 225 | HT48: =IF((HS48)/$C$60>5,"",(HS48)/C$60) | HU48: =IF($E$60*IF((HS48)/$C$60>5,0,IF(HT48<=1,5.60277*HT48^5-16.1238*HT48^4+13.865*HT48^3-3.00293*HT48^2+0.657237*HT48,IF(HT48>=1.8,-0.003218*HT48^5+0.0654895*HT48^4-0.539858*HT48^3+2.26576*HT48^2-4.87709*HT48+4.34827,0.3645833*HT48^6-3.832532*HT48^5+15.78165*HT48^4-31.75999*HT48^3+31.54504*HT48^2-13.92499*HT48+2.825187)))<0,0,E$60*IF((HS48)/$C$60>5,0,IF(HT48<=1,5.60277*HT48^5-16.1238*HT48^4+13.865*HT48^3-3.00293*HT48^2+0.657237*HT48,IF(HT48>=1.8,-0.003218*HT48^5+0.0654895*HT48^4-0.539858*HT48^3+2.26576*HT48^2-4.87709*HT48+4.34827,0.3645833*HT48^6-3.832532*HT48^5+15.78165*HT48^4-31.75999*HT48^3+31.54504*HT48^2-13.92499*HT48+2.825187)))) -> 0 | HV48: =IF(HS48>MAX($D$19:$D$55),0,G65) -> 0 | HW48: =TEXT(HS48/1440,"hh:mm") -> 03:45 | HX48: 0.03656506 | HY48: =HY47+HX48*Escenario1!$D$15*0.06 -> 468.72665 | HZ48: =IF(HX48-AB48<=0,0,HX48-AB48) -> 0 | IA48: =IA47+HZ48*Escenario1!$D$15*0.06 -> 258.16396 | IC48: 46 | ID48: =HU48 -> 0 | IE48: =ID47 -> 0 | IF48: =IE47 -> 0 | IG48: =IF47 -> 0 | IH48: =IG47 -> 0 | II48: =IH47 -> 0 | IJ48: =II47 -> 0 | IK48: =IJ47 -> 0 | IL48: =IK47 -> 0 | ... PN48: =PM47 -> 0
A49: 30 | B49: =IF(A49*$D$15>$B$15,0,D49*100/$B$15) -> 83.333333 | C49: =IF(A49*$D$15>$B$15,0,0.00000003820399*B49^5-0.00001104784*B49^4+0.0012780006*B49^3-0.07958462*B49^2+3.400981*B49) -> 91.075565 | D49: =IF(A49*$D$15>$B$15,0,A49*$D$15) -> 150 | E49: =IF(A49*$D$15>$B$15,0,C49*$F$15/100) -> 50.970539 | F49: =IF(A49*$D$15>$B$15,0,E49-E48) -> 0.62201716 | G49: =IF(A49*$D$15>$B$15,0,IF(F49=0,0,(2.54*($E$6*((F49/2.54)+2)-200)^2)/($E$6*($E$6*(F49/2.54-8)+800)))) -> 0.41117936 | H49: =IF(A49*$D$15>$B$15,0,F49-G49) -> 0.2108378 | I49: =IF(A49*$D$15>$B$15,0,IF(F49=0,0,(2.54*($H$4*((F49/2.54)+2)-200)^2)/($H$4*($H$4*(F49/2.54-8)+800)))) -> 0.034718014 | J49: =IF(A49*$D$15>$B$15,0,F49-I49) -> 0.58729915 | W49: 46 | X49: =W49*$D$15 -> 230 | Y49: =IF((X49)/C$59>5,"",(X49)/$C$59) | Z49: =IF($E$59*IF((X49)/C$59>5,0,IF(Y49<=1,5.60277*Y49^5-16.1238*Y49^4+13.865*Y49^3-3.00293*Y49^2+0.657237*Y49,IF(Y49>=1.8,-0.003218*Y49^5+0.0654895*Y49^4-0.539858*Y49^3+2.26576*Y49^2-4.87709*Y49+4.34827,0.3645833*Y49^6-3.832532*Y49^5+15.78165*Y49^4-31.75999*Y49^3+31.54504*Y49^2-13.92499*Y49+2.825187)))<0,0,E$59*IF((X49)/$C$59>5,0,IF(Y49<=1,5.60277*Y49^5-16.1238*Y49^4+13.865*Y49^3-3.00293*Y49^2+0.657237*Y49,IF(Y49>=1.8,-0.003218*Y49^5+0.0654895*Y49^4-0.539858*Y49^3+2.26576*Y49^2-4.87709*Y49+4.34827,0.3645833*Y49^6-3.832532*Y49^5+15.78165*Y49^4-31.75999*Y49^3+31.54504*Y49^2-13.92499*Y49+2.825187)))) -> 0 | AA49: =IF(X49>MAX($D$19:$D$55),0,I66) -> 0 | AB49: 0.32063733 | AC49: =AC48+AB49*5*0.06 -> 211.58217 | AE49: 47 | AF49: =Z49 -> 0 | AG49: =AF48 -> 0 | AH49: =AG48 -> 0 | AI49: =AH48 -> 0 | AJ49: =AI48 -> 0 | AK49: =AJ48 -> 0 | AL49: =AK48 -> 0 | AM49: =AL48 -> 0 | AN49: =AM48 -> 0 | ... HP49: =HO48 -> 0 | HR49: 46 | HS49: =HR49*$D$15 -> 230 | HT49: =IF((HS49)/$C$60>5,"",(HS49)/C$60) | HU49: =IF($E$60*IF((HS49)/$C$60>5,0,IF(HT49<=1,5.60277*HT49^5-16.1238*HT49^4+13.865*HT49^3-3.00293*HT49^2+0.657237*HT49,IF(HT49>=1.8,-0.003218*HT49^5+0.0654895*HT49^4-0.539858*HT49^3+2.26576*HT49^2-4.87709*HT49+4.34827,0.3645833*HT49^6-3.832532*HT49^5+15.78165*HT49^4-31.75999*HT49^3+31.54504*HT49^2-13.92499*HT49+2.825187)))<0,0,E$60*IF((HS49)/$C$60>5,0,IF(HT49<=1,5.60277*HT49^5-16.1238*HT49^4+13.865*HT49^3-3.00293*HT49^2+0.657237*HT49,IF(HT49>=1.8,-0.003218*HT49^5+0.0654895*HT49^4-0.539858*HT49^3+2.26576*HT49^2-4.87709*HT49+4.34827,0.3645833*HT49^6-3.832532*HT49^5+15.78165*HT49^4-31.75999*HT49^3+31.54504*HT49^2-13.92499*HT49+2.825187)))) -> 0 | HV49: =IF(HS49>MAX($D$19:$D$55),0,G66) -> 0 | HW49: =TEXT(HS49/1440,"hh:mm") -> 03:50 | HX49: 0 | HY49: =HY48+HX49*Escenario1!$D$15*0.06 -> 468.72665 | HZ49: =IF(HX49-AB49<=0,0,HX49-AB49) -> 0 | IA49: =IA48+HZ49*Escenario1!$D$15*0.06 -> 258.16396 | IC49: 47 | ID49: =HU49 -> 0 | IE49: =ID48 -> 0 | IF49: =IE48 -> 0 | IG49: =IF48 -> 0 | IH49: =IG48 -> 0 | II49: =IH48 -> 0 | IJ49: =II48 -> 0 | IK49: =IJ48 -> 0 | IL49: =IK48 -> 0 | ... PN49: =PM48 -> 0
A50: 31 | B50: =IF(A50*$D$15>$B$15,0,D50*100/$B$15) -> 86.111111 | C50: =IF(A50*$D$15>$B$15,0,0.00000003820399*B50^5-0.00001104784*B50^4+0.0012780006*B50^3-0.07958462*B50^2+3.400981*B50) -> 92.198027 | D50: =IF(A50*$D$15>$B$15,0,A50*$D$15) -> 155 | E50: =IF(A50*$D$15>$B$15,0,C50*$F$15/100) -> 51.598726 | F50: =IF(A50*$D$15>$B$15,0,E50-E49) -> 0.6281867 | G50: =IF(A50*$D$15>$B$15,0,IF(F50=0,0,(2.54*($E$6*((F50/2.54)+2)-200)^2)/($E$6*($E$6*(F50/2.54-8)+800)))) -> 0.41684809 | H50: =IF(A50*$D$15>$B$15,0,F50-G50) -> 0.21133862 | I50: =IF(A50*$D$15>$B$15,0,IF(F50=0,0,(2.54*($H$4*((F50/2.54)+2)-200)^2)/($H$4*($H$4*(F50/2.54-8)+800)))) -> 0.036235244 | J50: =IF(A50*$D$15>$B$15,0,F50-I50) -> 0.59195146 | W50: 47 | X50: =W50*$D$15 -> 235 | Y50: =IF((X50)/C$59>5,"",(X50)/$C$59) | Z50: =IF($E$59*IF((X50)/C$59>5,0,IF(Y50<=1,5.60277*Y50^5-16.1238*Y50^4+13.865*Y50^3-3.00293*Y50^2+0.657237*Y50,IF(Y50>=1.8,-0.003218*Y50^5+0.0654895*Y50^4-0.539858*Y50^3+2.26576*Y50^2-4.87709*Y50+4.34827,0.3645833*Y50^6-3.832532*Y50^5+15.78165*Y50^4-31.75999*Y50^3+31.54504*Y50^2-13.92499*Y50+2.825187)))<0,0,E$59*IF((X50)/$C$59>5,0,IF(Y50<=1,5.60277*Y50^5-16.1238*Y50^4+13.865*Y50^3-3.00293*Y50^2+0.657237*Y50,IF(Y50>=1.8,-0.003218*Y50^5+0.0654895*Y50^4-0.539858*Y50^3+2.26576*Y50^2-4.87709*Y50+4.34827,0.3645833*Y50^6-3.832532*Y50^5+15.78165*Y50^4-31.75999*Y50^3+31.54504*Y50^2-13.92499*Y50+2.825187)))) -> 0 | AA50: =IF(X50>MAX($D$19:$D$55),0,I67) -> 0 | AB50: 0.21595924 | AC50: =AC49+AB50*5*0.06 -> 211.64696 | AE50: 48 | AF50: =Z50 -> 0 | AG50: =AF49 -> 0 | AH50: =AG49 -> 0 | AI50: =AH49 -> 0 | AJ50: =AI49 -> 0 | AK50: =AJ49 -> 0 | AL50: =AK49 -> 0 | AM50: =AL49 -> 0 | AN50: =AM49 -> 0 | ... HP50: =HO49 -> 0 | HR50: 47 | HS50: =HR50*$D$15 -> 235 | HT50: =IF((HS50)/$C$60>5,"",(HS50)/C$60) | HU50: =IF($E$60*IF((HS50)/$C$60>5,0,IF(HT50<=1,5.60277*HT50^5-16.1238*HT50^4+13.865*HT50^3-3.00293*HT50^2+0.657237*HT50,IF(HT50>=1.8,-0.003218*HT50^5+0.0654895*HT50^4-0.539858*HT50^3+2.26576*HT50^2-4.87709*HT50+4.34827,0.3645833*HT50^6-3.832532*HT50^5+15.78165*HT50^4-31.75999*HT50^3+31.54504*HT50^2-13.92499*HT50+2.825187)))<0,0,E$60*IF((HS50)/$C$60>5,0,IF(HT50<=1,5.60277*HT50^5-16.1238*HT50^4+13.865*HT50^3-3.00293*HT50^2+0.657237*HT50,IF(HT50>=1.8,-0.003218*HT50^5+0.0654895*HT50^4-0.539858*HT50^3+2.26576*HT50^2-4.87709*HT50+4.34827,0.3645833*HT50^6-3.832532*HT50^5+15.78165*HT50^4-31.75999*HT50^3+31.54504*HT50^2-13.92499*HT50+2.825187)))) -> 0 | HV50: =IF(HS50>MAX($D$19:$D$55),0,G67) -> 0 | HW50: =TEXT(HS50/1440,"hh:mm") -> 03:55 | HX50: 0 | HY50: =HY49+HX50*Escenario1!$D$15*0.06 -> 468.72665 | HZ50: =IF(HX50-AB50<=0,0,HX50-AB50) -> 0 | IA50: =IA49+HZ50*Escenario1!$D$15*0.06 -> 258.16396 | IC50: 48 | ID50: =HU50 -> 0 | IE50: =ID49 -> 0 | IF50: =IE49 -> 0 | IG50: =IF49 -> 0 | IH50: =IG49 -> 0 | II50: =IH49 -> 0 | IJ50: =II49 -> 0 | IK50: =IJ49 -> 0 | IL50: =IK49 -> 0 | ... PN50: =PM49 -> 0
A51: 32 | B51: =IF(A51*$D$15>$B$15,0,D51*100/$B$15) -> 88.888889 | C51: =IF(A51*$D$15>$B$15,0,0.00000003820399*B51^5-0.00001104784*B51^4+0.0012780006*B51^3-0.07958462*B51^2+3.400981*B51) -> 93.367131 | D51: =IF(A51*$D$15>$B$15,0,A51*$D$15) -> 160 | E51: =IF(A51*$D$15>$B$15,0,C51*$F$15/100) -> 52.253016 | F51: =IF(A51*$D$15>$B$15,0,E51-E50) -> 0.65429053 | G51: =IF(A51*$D$15>$B$15,0,IF(F51=0,0,(2.54*($E$6*((F51/2.54)+2)-200)^2)/($E$6*($E$6*(F51/2.54-8)+800)))) -> 0.44091445 | H51: =IF(A51*$D$15>$B$15,0,F51-G51) -> 0.21337608 | I51: =IF(A51*$D$15>$B$15,0,IF(F51=0,0,(2.54*($H$4*((F51/2.54)+2)-200)^2)/($H$4*($H$4*(F51/2.54-8)+800)))) -> 0.042960677 | J51: =IF(A51*$D$15>$B$15,0,F51-I51) -> 0.61132985 | W51: 48 | X51: =W51*$D$15 -> 240 | Y51: =IF((X51)/C$59>5,"",(X51)/$C$59) | Z51: =IF($E$59*IF((X51)/C$59>5,0,IF(Y51<=1,5.60277*Y51^5-16.1238*Y51^4+13.865*Y51^3-3.00293*Y51^2+0.657237*Y51,IF(Y51>=1.8,-0.003218*Y51^5+0.0654895*Y51^4-0.539858*Y51^3+2.26576*Y51^2-4.87709*Y51+4.34827,0.3645833*Y51^6-3.832532*Y51^5+15.78165*Y51^4-31.75999*Y51^3+31.54504*Y51^2-13.92499*Y51+2.825187)))<0,0,E$59*IF((X51)/$C$59>5,0,IF(Y51<=1,5.60277*Y51^5-16.1238*Y51^4+13.865*Y51^3-3.00293*Y51^2+0.657237*Y51,IF(Y51>=1.8,-0.003218*Y51^5+0.0654895*Y51^4-0.539858*Y51^3+2.26576*Y51^2-4.87709*Y51+4.34827,0.3645833*Y51^6-3.832532*Y51^5+15.78165*Y51^4-31.75999*Y51^3+31.54504*Y51^2-13.92499*Y51+2.825187)))) -> 0 | AA51: =IF(X51>MAX($D$19:$D$55),0,I68) -> 0 | AB51: 0.14580859 | AC51: =AC50+AB51*5*0.06 -> 211.6907 | AE51: 49 | AF51: =Z51 -> 0 | AG51: =AF50 -> 0 | AH51: =AG50 -> 0 | AI51: =AH50 -> 0 | AJ51: =AI50 -> 0 | AK51: =AJ50 -> 0 | AL51: =AK50 -> 0 | AM51: =AL50 -> 0 | AN51: =AM50 -> 0 | ... HP51: =HO50 -> 0 | HR51: 48 | HS51: =HR51*$D$15 -> 240 | HT51: =IF((HS51)/$C$60>5,"",(HS51)/C$60) | HU51: =IF($E$60*IF((HS51)/$C$60>5,0,IF(HT51<=1,5.60277*HT51^5-16.1238*HT51^4+13.865*HT51^3-3.00293*HT51^2+0.657237*HT51,IF(HT51>=1.8,-0.003218*HT51^5+0.0654895*HT51^4-0.539858*HT51^3+2.26576*HT51^2-4.87709*HT51+4.34827,0.3645833*HT51^6-3.832532*HT51^5+15.78165*HT51^4-31.75999*HT51^3+31.54504*HT51^2-13.92499*HT51+2.825187)))<0,0,E$60*IF((HS51)/$C$60>5,0,IF(HT51<=1,5.60277*HT51^5-16.1238*HT51^4+13.865*HT51^3-3.00293*HT51^2+0.657237*HT51,IF(HT51>=1.8,-0.003218*HT51^5+0.0654895*HT51^4-0.539858*HT51^3+2.26576*HT51^2-4.87709*HT51+4.34827,0.3645833*HT51^6-3.832532*HT51^5+15.78165*HT51^4-31.75999*HT51^3+31.54504*HT51^2-13.92499*HT51+2.825187)))) -> 0 | HV51: =IF(HS51>MAX($D$19:$D$55),0,G68) -> 0 | HW51: =TEXT(HS51/1440,"hh:mm") -> 04:00 | HX51: 0 | HY51: =HY50+HX51*Escenario1!$D$15*0.06 -> 468.72665 | HZ51: =IF(HX51-AB51<=0,0,HX51-AB51) -> 0 | IA51: =IA50+HZ51*Escenario1!$D$15*0.06 -> 258.16396 | IC51: 49 | ID51: =HU51 -> 0 | IE51: =ID50 -> 0 | IF51: =IE50 -> 0 | IG51: =IF50 -> 0 | IH51: =IG50 -> 0 | II51: =IH50 -> 0 | IJ51: =II50 -> 0 | IK51: =IJ50 -> 0 | IL51: =IK50 -> 0 | ... PN51: =PM50 -> 0
A52: 33 | B52: =IF(A52*$D$15>$B$15,0,D52*100/$B$15) -> 91.666667 | C52: =IF(A52*$D$15>$B$15,0,0.00000003820399*B52^5-0.00001104784*B52^4+0.0012780006*B52^3-0.07958462*B52^2+3.400981*B52) -> 94.626215 | D52: =IF(A52*$D$15>$B$15,0,A52*$D$15) -> 165 | E52: =IF(A52*$D$15>$B$15,0,C52*$F$15/100) -> 52.957664 | F52: =IF(A52*$D$15>$B$15,0,E52-E51) -> 0.70464781 | G52: =IF(A52*$D$15>$B$15,0,IF(F52=0,0,(2.54*($E$6*((F52/2.54)+2)-200)^2)/($E$6*($E$6*(F52/2.54-8)+800)))) -> 0.48767921 | H52: =IF(A52*$D$15>$B$15,0,F52-G52) -> 0.2169686 | I52: =IF(A52*$D$15>$B$15,0,IF(F52=0,0,(2.54*($H$4*((F52/2.54)+2)-200)^2)/($H$4*($H$4*(F52/2.54-8)+800)))) -> 0.057278625 | J52: =IF(A52*$D$15>$B$15,0,F52-I52) -> 0.64736919 | W52: 49 | X52: =W52*$D$15 -> 245 | Y52: =IF((X52)/C$59>5,"",(X52)/$C$59) | Z52: =IF($E$59*IF((X52)/C$59>5,0,IF(Y52<=1,5.60277*Y52^5-16.1238*Y52^4+13.865*Y52^3-3.00293*Y52^2+0.657237*Y52,IF(Y52>=1.8,-0.003218*Y52^5+0.0654895*Y52^4-0.539858*Y52^3+2.26576*Y52^2-4.87709*Y52+4.34827,0.3645833*Y52^6-3.832532*Y52^5+15.78165*Y52^4-31.75999*Y52^3+31.54504*Y52^2-13.92499*Y52+2.825187)))<0,0,E$59*IF((X52)/$C$59>5,0,IF(Y52<=1,5.60277*Y52^5-16.1238*Y52^4+13.865*Y52^3-3.00293*Y52^2+0.657237*Y52,IF(Y52>=1.8,-0.003218*Y52^5+0.0654895*Y52^4-0.539858*Y52^3+2.26576*Y52^2-4.87709*Y52+4.34827,0.3645833*Y52^6-3.832532*Y52^5+15.78165*Y52^4-31.75999*Y52^3+31.54504*Y52^2-13.92499*Y52+2.825187)))) -> 0 | AA52: =IF(X52>MAX($D$19:$D$55),0,I69) -> 0 | AB52: 0.098737503 | AC52: =AC51+AB52*5*0.06 -> 211.72032 | AE52: 50 | AF52: =Z52 -> 0 | AG52: =AF51 -> 0 | AH52: =AG51 -> 0 | AI52: =AH51 -> 0 | AJ52: =AI51 -> 0 | AK52: =AJ51 -> 0 | AL52: =AK51 -> 0 | AM52: =AL51 -> 0 | AN52: =AM51 -> 0 | ... HP52: =HO51 -> 0 | HR52: 49 | HS52: =HR52*$D$15 -> 245 | HT52: =IF((HS52)/$C$60>5,"",(HS52)/C$60) | HU52: =IF($E$60*IF((HS52)/$C$60>5,0,IF(HT52<=1,5.60277*HT52^5-16.1238*HT52^4+13.865*HT52^3-3.00293*HT52^2+0.657237*HT52,IF(HT52>=1.8,-0.003218*HT52^5+0.0654895*HT52^4-0.539858*HT52^3+2.26576*HT52^2-4.87709*HT52+4.34827,0.3645833*HT52^6-3.832532*HT52^5+15.78165*HT52^4-31.75999*HT52^3+31.54504*HT52^2-13.92499*HT52+2.825187)))<0,0,E$60*IF((HS52)/$C$60>5,0,IF(HT52<=1,5.60277*HT52^5-16.1238*HT52^4+13.865*HT52^3-3.00293*HT52^2+0.657237*HT52,IF(HT52>=1.8,-0.003218*HT52^5+0.0654895*HT52^4-0.539858*HT52^3+2.26576*HT52^2-4.87709*HT52+4.34827,0.3645833*HT52^6-3.832532*HT52^5+15.78165*HT52^4-31.75999*HT52^3+31.54504*HT52^2-13.92499*HT52+2.825187)))) -> 0 | HV52: =IF(HS52>MAX($D$19:$D$55),0,G69) -> 0 | HW52: =TEXT(HS52/1440,"hh:mm") -> 04:05 | HX52: 0 | HY52: =HY51+HX52*Escenario1!$D$15*0.06 -> 468.72665 | HZ52: =IF(HX52-AB52<=0,0,HX52-AB52) -> 0 | IA52: =IA51+HZ52*Escenario1!$D$15*0.06 -> 258.16396 | IC52: 50 | ID52: =HU52 -> 0 | IE52: =ID51 -> 0 | IF52: =IE51 -> 0 | IG52: =IF51 -> 0 | IH52: =IG51 -> 0 | II52: =IH51 -> 0 | IJ52: =II51 -> 0 | IK52: =IJ51 -> 0 | IL52: =IK51 -> 0 | ... PN52: =PM51 -> 0
A53: 34 | B53: =IF(A53*$D$15>$B$15,0,D53*100/$B$15) -> 94.444444 | C53: =IF(A53*$D$15>$B$15,0,0.00000003820399*B53^5-0.00001104784*B53^4+0.0012780006*B53^3-0.07958462*B53^2+3.400981*B53) -> 96.027092 | D53: =IF(A53*$D$15>$B$15,0,A53*$D$15) -> 170 | E53: =IF(A53*$D$15>$B$15,0,C53*$F$15/100) -> 53.741666 | F53: =IF(A53*$D$15>$B$15,0,E53-E52) -> 0.78400205 | G53: =IF(A53*$D$15>$B$15,0,IF(F53=0,0,(2.54*($E$6*((F53/2.54)+2)-200)^2)/($E$6*($E$6*(F53/2.54-8)+800)))) -> 0.56213044 | H53: =IF(A53*$D$15>$B$15,0,F53-G53) -> 0.2218716 | I53: =IF(A53*$D$15>$B$15,0,IF(F53=0,0,(2.54*($H$4*((F53/2.54)+2)-200)^2)/($H$4*($H$4*(F53/2.54-8)+800)))) -> 0.083179906 | J53: =IF(A53*$D$15>$B$15,0,F53-I53) -> 0.70082214 | W53: 50 | X53: =W53*$D$15 -> 250 | Y53: =IF((X53)/C$59>5,"",(X53)/$C$59) | Z53: =IF($E$59*IF((X53)/C$59>5,0,IF(Y53<=1,5.60277*Y53^5-16.1238*Y53^4+13.865*Y53^3-3.00293*Y53^2+0.657237*Y53,IF(Y53>=1.8,-0.003218*Y53^5+0.0654895*Y53^4-0.539858*Y53^3+2.26576*Y53^2-4.87709*Y53+4.34827,0.3645833*Y53^6-3.832532*Y53^5+15.78165*Y53^4-31.75999*Y53^3+31.54504*Y53^2-13.92499*Y53+2.825187)))<0,0,E$59*IF((X53)/$C$59>5,0,IF(Y53<=1,5.60277*Y53^5-16.1238*Y53^4+13.865*Y53^3-3.00293*Y53^2+0.657237*Y53,IF(Y53>=1.8,-0.003218*Y53^5+0.0654895*Y53^4-0.539858*Y53^3+2.26576*Y53^2-4.87709*Y53+4.34827,0.3645833*Y53^6-3.832532*Y53^5+15.78165*Y53^4-31.75999*Y53^3+31.54504*Y53^2-13.92499*Y53+2.825187)))) -> 0 | AA53: =IF(X53>MAX($D$19:$D$55),0,I70) -> 0 | AB53: 0.066917451 | AC53: =AC52+AB53*5*0.06 -> 211.7404 | AE53: 51 | AF53: =Z53 -> 0 | AG53: =AF52 -> 0 | AH53: =AG52 -> 0 | AI53: =AH52 -> 0 | AJ53: =AI52 -> 0 | AK53: =AJ52 -> 0 | AL53: =AK52 -> 0 | AM53: =AL52 -> 0 | AN53: =AM52 -> 0 | ... HP53: =HO52 -> 0 | HR53: 50 | HS53: =HR53*$D$15 -> 250 | HT53: =IF((HS53)/$C$60>5,"",(HS53)/C$60) | HU53: =IF($E$60*IF((HS53)/$C$60>5,0,IF(HT53<=1,5.60277*HT53^5-16.1238*HT53^4+13.865*HT53^3-3.00293*HT53^2+0.657237*HT53,IF(HT53>=1.8,-0.003218*HT53^5+0.0654895*HT53^4-0.539858*HT53^3+2.26576*HT53^2-4.87709*HT53+4.34827,0.3645833*HT53^6-3.832532*HT53^5+15.78165*HT53^4-31.75999*HT53^3+31.54504*HT53^2-13.92499*HT53+2.825187)))<0,0,E$60*IF((HS53)/$C$60>5,0,IF(HT53<=1,5.60277*HT53^5-16.1238*HT53^4+13.865*HT53^3-3.00293*HT53^2+0.657237*HT53,IF(HT53>=1.8,-0.003218*HT53^5+0.0654895*HT53^4-0.539858*HT53^3+2.26576*HT53^2-4.87709*HT53+4.34827,0.3645833*HT53^6-3.832532*HT53^5+15.78165*HT53^4-31.75999*HT53^3+31.54504*HT53^2-13.92499*HT53+2.825187)))) -> 0 | HV53: =IF(HS53>MAX($D$19:$D$55),0,G70) -> 0 | HW53: =TEXT(HS53/1440,"hh:mm") -> 04:10 | HX53: 0 | HY53: =HY52+HX53*Escenario1!$D$15*0.06 -> 468.72665 | HZ53: =IF(HX53-AB53<=0,0,HX53-AB53) -> 0 | IA53: =IA52+HZ53*Escenario1!$D$15*0.06 -> 258.16396 | IC53: 51 | ID53: =HU53 -> 0 | IE53: =ID52 -> 0 | IF53: =IE52 -> 0 | IG53: =IF52 -> 0 | IH53: =IG52 -> 0 | II53: =IH52 -> 0 | IJ53: =II52 -> 0 | IK53: =IJ52 -> 0 | IL53: =IK52 -> 0 | ... PN53: =PM52 -> 0
A54: 35 | B54: =IF(A54*$D$15>$B$15,0,D54*100/$B$15) -> 97.222222 | C54: =IF(A54*$D$15>$B$15,0,0.00000003820399*B54^5-0.00001104784*B54^4+0.0012780006*B54^3-0.07958462*B54^2+3.400981*B54) -> 97.630807 | D54: =IF(A54*$D$15>$B$15,0,A54*$D$15) -> 175 | E54: =IF(A54*$D$15>$B$15,0,C54*$F$15/100) -> 54.639187 | F54: =IF(A54*$D$15>$B$15,0,E54-E53) -> 0.89752106 | G54: =IF(A54*$D$15>$B$15,0,IF(F54=0,0,(2.54*($E$6*((F54/2.54)+2)-200)^2)/($E$6*($E$6*(F54/2.54-8)+800)))) -> 0.66988574 | H54: =IF(A54*$D$15>$B$15,0,F54-G54) -> 0.22763532 | I54: =IF(A54*$D$15>$B$15,0,IF(F54=0,0,(2.54*($H$4*((F54/2.54)+2)-200)^2)/($H$4*($H$4*(F54/2.54-8)+800)))) -> 0.12658984 | J54: =IF(A54*$D$15>$B$15,0,F54-I54) -> 0.77093122 | W54: 51 | X54: =W54*$D$15 -> 255 | Y54: =IF((X54)/C$59>5,"",(X54)/$C$59) | Z54: =IF($E$59*IF((X54)/C$59>5,0,IF(Y54<=1,5.60277*Y54^5-16.1238*Y54^4+13.865*Y54^3-3.00293*Y54^2+0.657237*Y54,IF(Y54>=1.8,-0.003218*Y54^5+0.0654895*Y54^4-0.539858*Y54^3+2.26576*Y54^2-4.87709*Y54+4.34827,0.3645833*Y54^6-3.832532*Y54^5+15.78165*Y54^4-31.75999*Y54^3+31.54504*Y54^2-13.92499*Y54+2.825187)))<0,0,E$59*IF((X54)/$C$59>5,0,IF(Y54<=1,5.60277*Y54^5-16.1238*Y54^4+13.865*Y54^3-3.00293*Y54^2+0.657237*Y54,IF(Y54>=1.8,-0.003218*Y54^5+0.0654895*Y54^4-0.539858*Y54^3+2.26576*Y54^2-4.87709*Y54+4.34827,0.3645833*Y54^6-3.832532*Y54^5+15.78165*Y54^4-31.75999*Y54^3+31.54504*Y54^2-13.92499*Y54+2.825187)))) -> 0 | AA54: =IF(X54>MAX($D$19:$D$55),0,I71) -> 0 | AB54: 0.04520399 | AC54: =AC53+AB54*5*0.06 -> 211.75396 | AE54: 52 | AF54: =Z54 -> 0 | AG54: =AF53 -> 0 | AH54: =AG53 -> 0 | AI54: =AH53 -> 0 | AJ54: =AI53 -> 0 | AK54: =AJ53 -> 0 | AL54: =AK53 -> 0 | AM54: =AL53 -> 0 | AN54: =AM53 -> 0 | ... HP54: =HO53 -> 0 | HR54: 51 | HS54: =HR54*$D$15 -> 255 | HT54: =IF((HS54)/$C$60>5,"",(HS54)/C$60) | HU54: =IF($E$60*IF((HS54)/$C$60>5,0,IF(HT54<=1,5.60277*HT54^5-16.1238*HT54^4+13.865*HT54^3-3.00293*HT54^2+0.657237*HT54,IF(HT54>=1.8,-0.003218*HT54^5+0.0654895*HT54^4-0.539858*HT54^3+2.26576*HT54^2-4.87709*HT54+4.34827,0.3645833*HT54^6-3.832532*HT54^5+15.78165*HT54^4-31.75999*HT54^3+31.54504*HT54^2-13.92499*HT54+2.825187)))<0,0,E$60*IF((HS54)/$C$60>5,0,IF(HT54<=1,5.60277*HT54^5-16.1238*HT54^4+13.865*HT54^3-3.00293*HT54^2+0.657237*HT54,IF(HT54>=1.8,-0.003218*HT54^5+0.0654895*HT54^4-0.539858*HT54^3+2.26576*HT54^2-4.87709*HT54+4.34827,0.3645833*HT54^6-3.832532*HT54^5+15.78165*HT54^4-31.75999*HT54^3+31.54504*HT54^2-13.92499*HT54+2.825187)))) -> 0 | HV54: =IF(HS54>MAX($D$19:$D$55),0,G71) -> 0 | HW54: =TEXT(HS54/1440,"hh:mm") -> 04:15 | HX54: 0 | HY54: =HY53+HX54*Escenario1!$D$15*0.06 -> 468.72665 | HZ54: =IF(HX54-AB54<=0,0,HX54-AB54) -> 0 | IA54: =IA53+HZ54*Escenario1!$D$15*0.06 -> 258.16396 | IC54: 52 | ID54: =HU54 -> 0 | IE54: =ID53 -> 0 | IF54: =IE53 -> 0 | IG54: =IF53 -> 0 | IH54: =IG53 -> 0 | II54: =IH53 -> 0 | IJ54: =II53 -> 0 | IK54: =IJ53 -> 0 | IL54: =IK53 -> 0 | ... PN54: =PM53 -> 0
A55: 36 | B55: =IF(A55*$D$15>$B$15,0,D55*100/$B$15) -> 100 | C55: =IF(A55*$D$15>$B$15,0,0.00000003820399*B55^5-0.00001104784*B55^4+0.0012780006*B55^3-0.07958462*B55^2+3.400981*B55) -> 99.5084 | D55: =IF(A55*$D$15>$B$15,0,A55*$D$15) -> 180 | E55: =IF(A55*$D$15>$B$15,0,C55*$F$15/100) -> 55.689984 | F55: =IF(A55*$D$15>$B$15,0,E55-E54) -> 1.050797 | G55: =IF(A55*$D$15>$B$15,0,IF(F55=0,0,(2.54*($E$6*((F55/2.54)+2)-200)^2)/($E$6*($E$6*(F55/2.54-8)+800)))) -> 0.81706009 | H55: =IF(A55*$D$15>$B$15,0,F55-G55) -> 0.23373689 | I55: =IF(A55*$D$15>$B$15,0,IF(F55=0,0,(2.54*($H$4*((F55/2.54)+2)-200)^2)/($H$4*($H$4*(F55/2.54-8)+800)))) -> 0.19541462 | J55: =IF(A55*$D$15>$B$15,0,F55-I55) -> 0.85538236 | W55: 52 | X55: =W55*$D$15 -> 260 | Y55: =IF((X55)/C$59>5,"",(X55)/$C$59) | Z55: =IF($E$59*IF((X55)/C$59>5,0,IF(Y55<=1,5.60277*Y55^5-16.1238*Y55^4+13.865*Y55^3-3.00293*Y55^2+0.657237*Y55,IF(Y55>=1.8,-0.003218*Y55^5+0.0654895*Y55^4-0.539858*Y55^3+2.26576*Y55^2-4.87709*Y55+4.34827,0.3645833*Y55^6-3.832532*Y55^5+15.78165*Y55^4-31.75999*Y55^3+31.54504*Y55^2-13.92499*Y55+2.825187)))<0,0,E$59*IF((X55)/$C$59>5,0,IF(Y55<=1,5.60277*Y55^5-16.1238*Y55^4+13.865*Y55^3-3.00293*Y55^2+0.657237*Y55,IF(Y55>=1.8,-0.003218*Y55^5+0.0654895*Y55^4-0.539858*Y55^3+2.26576*Y55^2-4.87709*Y55+4.34827,0.3645833*Y55^6-3.832532*Y55^5+15.78165*Y55^4-31.75999*Y55^3+31.54504*Y55^2-13.92499*Y55+2.825187)))) -> 0 | AA55: =IF(X55>MAX($D$19:$D$55),0,I72) -> 0 | AB55: 0.030293798 | AC55: =AC54+AB55*5*0.06 -> 211.76305 | AE55: 53 | AF55: =Z55 -> 0 | AG55: =AF54 -> 0 | AH55: =AG54 -> 0 | AI55: =AH54 -> 0 | AJ55: =AI54 -> 0 | AK55: =AJ54 -> 0 | AL55: =AK54 -> 0 | AM55: =AL54 -> 0 | AN55: =AM54 -> 0 | ... HP55: =HO54 -> 0 | HR55: 52 | HS55: =HR55*$D$15 -> 260 | HT55: =IF((HS55)/$C$60>5,"",(HS55)/C$60) | HU55: =IF($E$60*IF((HS55)/$C$60>5,0,IF(HT55<=1,5.60277*HT55^5-16.1238*HT55^4+13.865*HT55^3-3.00293*HT55^2+0.657237*HT55,IF(HT55>=1.8,-0.003218*HT55^5+0.0654895*HT55^4-0.539858*HT55^3+2.26576*HT55^2-4.87709*HT55+4.34827,0.3645833*HT55^6-3.832532*HT55^5+15.78165*HT55^4-31.75999*HT55^3+31.54504*HT55^2-13.92499*HT55+2.825187)))<0,0,E$60*IF((HS55)/$C$60>5,0,IF(HT55<=1,5.60277*HT55^5-16.1238*HT55^4+13.865*HT55^3-3.00293*HT55^2+0.657237*HT55,IF(HT55>=1.8,-0.003218*HT55^5+0.0654895*HT55^4-0.539858*HT55^3+2.26576*HT55^2-4.87709*HT55+4.34827,0.3645833*HT55^6-3.832532*HT55^5+15.78165*HT55^4-31.75999*HT55^3+31.54504*HT55^2-13.92499*HT55+2.825187)))) -> 0 | HV55: =IF(HS55>MAX($D$19:$D$55),0,G72) -> 0 | HW55: =TEXT(HS55/1440,"hh:mm") -> 04:20 | HX55: 0 | HY55: =HY54+HX55*Escenario1!$D$15*0.06 -> 468.72665 | HZ55: =IF(HX55-AB55<=0,0,HX55-AB55) -> 0 | IA55: =IA54+HZ55*Escenario1!$D$15*0.06 -> 258.16396 | IC55: 53 | ID55: =HU55 -> 0 | IE55: =ID54 -> 0 | IF55: =IE54 -> 0 | IG55: =IF54 -> 0 | IH55: =IG54 -> 0 | II55: =IH54 -> 0 | IJ55: =II54 -> 0 | IK55: =IJ54 -> 0 | IL55: =IK54 -> 0 | ... PN55: =PM54 -> 0
W56: 53 | X56: =W56*$D$15 -> 265 | Y56: =IF((X56)/C$59>5,"",(X56)/$C$59) | Z56: =IF($E$59*IF((X56)/C$59>5,0,IF(Y56<=1,5.60277*Y56^5-16.1238*Y56^4+13.865*Y56^3-3.00293*Y56^2+0.657237*Y56,IF(Y56>=1.8,-0.003218*Y56^5+0.0654895*Y56^4-0.539858*Y56^3+2.26576*Y56^2-4.87709*Y56+4.34827,0.3645833*Y56^6-3.832532*Y56^5+15.78165*Y56^4-31.75999*Y56^3+31.54504*Y56^2-13.92499*Y56+2.825187)))<0,0,E$59*IF((X56)/$C$59>5,0,IF(Y56<=1,5.60277*Y56^5-16.1238*Y56^4+13.865*Y56^3-3.00293*Y56^2+0.657237*Y56,IF(Y56>=1.8,-0.003218*Y56^5+0.0654895*Y56^4-0.539858*Y56^3+2.26576*Y56^2-4.87709*Y56+4.34827,0.3645833*Y56^6-3.832532*Y56^5+15.78165*Y56^4-31.75999*Y56^3+31.54504*Y56^2-13.92499*Y56+2.825187)))) -> 0 | AA56: =IF(X56>MAX($D$19:$D$55),0,I73) -> 0 | AB56: 0.020006254 | AC56: =AC55+AB56*5*0.06 -> 211.76905 | AE56: 54 | AF56: =Z56 -> 0 | AG56: =AF55 -> 0 | AH56: =AG55 -> 0 | AI56: =AH55 -> 0 | AJ56: =AI55 -> 0 | AK56: =AJ55 -> 0 | AL56: =AK55 -> 0 | AM56: =AL55 -> 0 | AN56: =AM55 -> 0 | ... HP56: =HO55 -> 0 | HR56: 53 | HS56: =HR56*$D$15 -> 265 | HT56: =IF((HS56)/$C$60>5,"",(HS56)/C$60) | HU56: =IF($E$60*IF((HS56)/$C$60>5,0,IF(HT56<=1,5.60277*HT56^5-16.1238*HT56^4+13.865*HT56^3-3.00293*HT56^2+0.657237*HT56,IF(HT56>=1.8,-0.003218*HT56^5+0.0654895*HT56^4-0.539858*HT56^3+2.26576*HT56^2-4.87709*HT56+4.34827,0.3645833*HT56^6-3.832532*HT56^5+15.78165*HT56^4-31.75999*HT56^3+31.54504*HT56^2-13.92499*HT56+2.825187)))<0,0,E$60*IF((HS56)/$C$60>5,0,IF(HT56<=1,5.60277*HT56^5-16.1238*HT56^4+13.865*HT56^3-3.00293*HT56^2+0.657237*HT56,IF(HT56>=1.8,-0.003218*HT56^5+0.0654895*HT56^4-0.539858*HT56^3+2.26576*HT56^2-4.87709*HT56+4.34827,0.3645833*HT56^6-3.832532*HT56^5+15.78165*HT56^4-31.75999*HT56^3+31.54504*HT56^2-13.92499*HT56+2.825187)))) -> 0 | HV56: =IF(HS56>MAX($D$19:$D$55),0,G73) -> 0 | HW56: =TEXT(HS56/1440,"hh:mm") -> 04:25 | HX56: 0 | HY56: =HY55+HX56*Escenario1!$D$15*0.06 -> 468.72665 | HZ56: =IF(HX56-AB56<=0,0,HX56-AB56) -> 0 | IA56: =IA55+HZ56*Escenario1!$D$15*0.06 -> 258.16396 | IC56: 54 | ID56: =HU56 -> 0 | IE56: =ID55 -> 0 | IF56: =IE55 -> 0 | IG56: =IF55 -> 0 | IH56: =IG55 -> 0 | II56: =IH55 -> 0 | IJ56: =II55 -> 0 | IK56: =IJ55 -> 0 | IL56: =IK55 -> 0 | ... PN56: =PM55 -> 0
A57: 6. Convolución hidrograma | W57: 54 | X57: =W57*$D$15 -> 270 | Y57: =IF((X57)/C$59>5,"",(X57)/$C$59) | Z57: =IF($E$59*IF((X57)/C$59>5,0,IF(Y57<=1,5.60277*Y57^5-16.1238*Y57^4+13.865*Y57^3-3.00293*Y57^2+0.657237*Y57,IF(Y57>=1.8,-0.003218*Y57^5+0.0654895*Y57^4-0.539858*Y57^3+2.26576*Y57^2-4.87709*Y57+4.34827,0.3645833*Y57^6-3.832532*Y57^5+15.78165*Y57^4-31.75999*Y57^3+31.54504*Y57^2-13.92499*Y57+2.825187)))<0,0,E$59*IF((X57)/$C$59>5,0,IF(Y57<=1,5.60277*Y57^5-16.1238*Y57^4+13.865*Y57^3-3.00293*Y57^2+0.657237*Y57,IF(Y57>=1.8,-0.003218*Y57^5+0.0654895*Y57^4-0.539858*Y57^3+2.26576*Y57^2-4.87709*Y57+4.34827,0.3645833*Y57^6-3.832532*Y57^5+15.78165*Y57^4-31.75999*Y57^3+31.54504*Y57^2-13.92499*Y57+2.825187)))) -> 0 | AA57: =IF(X57>MAX($D$19:$D$55),0,I74) -> 0 | AB57: 0.012748619 | AC57: =AC56+AB57*5*0.06 -> 211.77287 | AE57: 55 | AF57: =Z57 -> 0 | AG57: =AF56 -> 0 | AH57: =AG56 -> 0 | AI57: =AH56 -> 0 | AJ57: =AI56 -> 0 | AK57: =AJ56 -> 0 | AL57: =AK56 -> 0 | AM57: =AL56 -> 0 | AN57: =AM56 -> 0 | ... HP57: =HO56 -> 0 | HR57: 54 | HS57: =HR57*$D$15 -> 270 | HT57: =IF((HS57)/$C$60>5,"",(HS57)/C$60) | HU57: =IF($E$60*IF((HS57)/$C$60>5,0,IF(HT57<=1,5.60277*HT57^5-16.1238*HT57^4+13.865*HT57^3-3.00293*HT57^2+0.657237*HT57,IF(HT57>=1.8,-0.003218*HT57^5+0.0654895*HT57^4-0.539858*HT57^3+2.26576*HT57^2-4.87709*HT57+4.34827,0.3645833*HT57^6-3.832532*HT57^5+15.78165*HT57^4-31.75999*HT57^3+31.54504*HT57^2-13.92499*HT57+2.825187)))<0,0,E$60*IF((HS57)/$C$60>5,0,IF(HT57<=1,5.60277*HT57^5-16.1238*HT57^4+13.865*HT57^3-3.00293*HT57^2+0.657237*HT57,IF(HT57>=1.8,-0.003218*HT57^5+0.0654895*HT57^4-0.539858*HT57^3+2.26576*HT57^2-4.87709*HT57+4.34827,0.3645833*HT57^6-3.832532*HT57^5+15.78165*HT57^4-31.75999*HT57^3+31.54504*HT57^2-13.92499*HT57+2.825187)))) -> 0 | HV57: =IF(HS57>MAX($D$19:$D$55),0,G74) -> 0 | HW57: =TEXT(HS57/1440,"hh:mm") -> 04:30 | HX57: 0 | HY57: =HY56+HX57*Escenario1!$D$15*0.06 -> 468.72665 | HZ57: =IF(HX57-AB57<=0,0,HX57-AB57) -> 0 | IA57: =IA56+HZ57*Escenario1!$D$15*0.06 -> 258.16396 | IC57: 55 | ID57: =HU57 -> 0 | IE57: =ID56 -> 0 | IF57: =IE56 -> 0 | IG57: =IF56 -> 0 | IH57: =IG56 -> 0 | II57: =IH56 -> 0 | IJ57: =II56 -> 0 | IK57: =IJ56 -> 0 | IL57: =IK56 -> 0 | ... PN57: =PM56 -> 0
A58: Condición | B58: Tiempo rezago - Lag (min): | C58: Tiempo al pico (min): | D58: Tiempo base (min): | E58: Caudal pico x 1 mm (m3/s/mm): | F58: Caudal pico x 1 mm (L/s/mm): | W58: 55 | X58: =W58*$D$15 -> 275 | Y58: =IF((X58)/C$59>5,"",(X58)/$C$59) | Z58: =IF($E$59*IF((X58)/C$59>5,0,IF(Y58<=1,5.60277*Y58^5-16.1238*Y58^4+13.865*Y58^3-3.00293*Y58^2+0.657237*Y58,IF(Y58>=1.8,-0.003218*Y58^5+0.0654895*Y58^4-0.539858*Y58^3+2.26576*Y58^2-4.87709*Y58+4.34827,0.3645833*Y58^6-3.832532*Y58^5+15.78165*Y58^4-31.75999*Y58^3+31.54504*Y58^2-13.92499*Y58+2.825187)))<0,0,E$59*IF((X58)/$C$59>5,0,IF(Y58<=1,5.60277*Y58^5-16.1238*Y58^4+13.865*Y58^3-3.00293*Y58^2+0.657237*Y58,IF(Y58>=1.8,-0.003218*Y58^5+0.0654895*Y58^4-0.539858*Y58^3+2.26576*Y58^2-4.87709*Y58+4.34827,0.3645833*Y58^6-3.832532*Y58^5+15.78165*Y58^4-31.75999*Y58^3+31.54504*Y58^2-13.92499*Y58+2.825187)))) -> 0 | AA58: =IF(X58>MAX($D$19:$D$55),0,I75) -> 0 | AB58: 0.0072631414 | AC58: =AC57+AB58*5*0.06 -> 211.77505 | AE58: 56 | AF58: =Z58 -> 0 | AG58: =AF57 -> 0 | AH58: =AG57 -> 0 | AI58: =AH57 -> 0 | AJ58: =AI57 -> 0 | AK58: =AJ57 -> 0 | AL58: =AK57 -> 0 | AM58: =AL57 -> 0 | AN58: =AM57 -> 0 | ... HP58: =HO57 -> 0 | HR58: 55 | HS58: =HR58*$D$15 -> 275 | HT58: =IF((HS58)/$C$60>5,"",(HS58)/C$60) | HU58: =IF($E$60*IF((HS58)/$C$60>5,0,IF(HT58<=1,5.60277*HT58^5-16.1238*HT58^4+13.865*HT58^3-3.00293*HT58^2+0.657237*HT58,IF(HT58>=1.8,-0.003218*HT58^5+0.0654895*HT58^4-0.539858*HT58^3+2.26576*HT58^2-4.87709*HT58+4.34827,0.3645833*HT58^6-3.832532*HT58^5+15.78165*HT58^4-31.75999*HT58^3+31.54504*HT58^2-13.92499*HT58+2.825187)))<0,0,E$60*IF((HS58)/$C$60>5,0,IF(HT58<=1,5.60277*HT58^5-16.1238*HT58^4+13.865*HT58^3-3.00293*HT58^2+0.657237*HT58,IF(HT58>=1.8,-0.003218*HT58^5+0.0654895*HT58^4-0.539858*HT58^3+2.26576*HT58^2-4.87709*HT58+4.34827,0.3645833*HT58^6-3.832532*HT58^5+15.78165*HT58^4-31.75999*HT58^3+31.54504*HT58^2-13.92499*HT58+2.825187)))) -> 0 | HV58: =IF(HS58>MAX($D$19:$D$55),0,G75) -> 0 | HW58: =TEXT(HS58/1440,"hh:mm") -> 04:35 | HX58: 0 | HY58: =HY57+HX58*Escenario1!$D$15*0.06 -> 468.72665 | HZ58: =IF(HX58-AB58<=0,0,HX58-AB58) -> 0 | IA58: =IA57+HZ58*Escenario1!$D$15*0.06 -> 258.16396 | IC58: 56 | ID58: =HU58 -> 0 | IE58: =ID57 -> 0 | IF58: =IE57 -> 0 | IG58: =IF57 -> 0 | IH58: =IG57 -> 0 | II58: =IH57 -> 0 | IJ58: =II57 -> 0 | IK58: =IJ57 -> 0 | IL58: =IK57 -> 0 | ... PN58: =PM57 -> 0
A59: Natural | B59: =0.6*G10 -> 18.360091 | C59: =D15/2+B59 -> 20.860091 | D59: =ROUND(5*C59,0) -> 104 | E59: =0.208*(B6/100)/(C59/60) -> 0.0059827159 | F59: =E59*1000 -> 5.9827159 | W59: 56 | X59: =W59*$D$15 -> 280 | Y59: =IF((X59)/C$59>5,"",(X59)/$C$59) | Z59: =IF($E$59*IF((X59)/C$59>5,0,IF(Y59<=1,5.60277*Y59^5-16.1238*Y59^4+13.865*Y59^3-3.00293*Y59^2+0.657237*Y59,IF(Y59>=1.8,-0.003218*Y59^5+0.0654895*Y59^4-0.539858*Y59^3+2.26576*Y59^2-4.87709*Y59+4.34827,0.3645833*Y59^6-3.832532*Y59^5+15.78165*Y59^4-31.75999*Y59^3+31.54504*Y59^2-13.92499*Y59+2.825187)))<0,0,E$59*IF((X59)/$C$59>5,0,IF(Y59<=1,5.60277*Y59^5-16.1238*Y59^4+13.865*Y59^3-3.00293*Y59^2+0.657237*Y59,IF(Y59>=1.8,-0.003218*Y59^5+0.0654895*Y59^4-0.539858*Y59^3+2.26576*Y59^2-4.87709*Y59+4.34827,0.3645833*Y59^6-3.832532*Y59^5+15.78165*Y59^4-31.75999*Y59^3+31.54504*Y59^2-13.92499*Y59+2.825187)))) -> 0 | AA59: =IF(X59>MAX($D$19:$D$55),0,I76) -> 0 | AB59: 0.0028086751 | AC59: =AC58+AB59*5*0.06 -> 211.77589 | AE59: 57 | AF59: =Z59 -> 0 | AG59: =AF58 -> 0 | AH59: =AG58 -> 0 | AI59: =AH58 -> 0 | AJ59: =AI58 -> 0 | AK59: =AJ58 -> 0 | AL59: =AK58 -> 0 | AM59: =AL58 -> 0 | AN59: =AM58 -> 0 | ... HP59: =HO58 -> 0 | HR59: 56 | HS59: =HR59*$D$15 -> 280 | HT59: =IF((HS59)/$C$60>5,"",(HS59)/C$60) | HU59: =IF($E$60*IF((HS59)/$C$60>5,0,IF(HT59<=1,5.60277*HT59^5-16.1238*HT59^4+13.865*HT59^3-3.00293*HT59^2+0.657237*HT59,IF(HT59>=1.8,-0.003218*HT59^5+0.0654895*HT59^4-0.539858*HT59^3+2.26576*HT59^2-4.87709*HT59+4.34827,0.3645833*HT59^6-3.832532*HT59^5+15.78165*HT59^4-31.75999*HT59^3+31.54504*HT59^2-13.92499*HT59+2.825187)))<0,0,E$60*IF((HS59)/$C$60>5,0,IF(HT59<=1,5.60277*HT59^5-16.1238*HT59^4+13.865*HT59^3-3.00293*HT59^2+0.657237*HT59,IF(HT59>=1.8,-0.003218*HT59^5+0.0654895*HT59^4-0.539858*HT59^3+2.26576*HT59^2-4.87709*HT59+4.34827,0.3645833*HT59^6-3.832532*HT59^5+15.78165*HT59^4-31.75999*HT59^3+31.54504*HT59^2-13.92499*HT59+2.825187)))) -> 0 | HV59: =IF(HS59>MAX($D$19:$D$55),0,G76) -> 0 | HW59: =TEXT(HS59/1440,"hh:mm") -> 04:40 | HX59: 0 | HY59: =HY58+HX59*Escenario1!$D$15*0.06 -> 468.72665 | HZ59: =IF(HX59-AB59<=0,0,HX59-AB59) -> 0 | IA59: =IA58+HZ59*Escenario1!$D$15*0.06 -> 258.16396 | IC59: 57 | ID59: =HU59 -> 0 | IE59: =ID58 -> 0 | IF59: =IE58 -> 0 | IG59: =IF58 -> 0 | IH59: =IG58 -> 0 | II59: =IH58 -> 0 | IJ59: =II58 -> 0 | IK59: =IJ58 -> 0 | IL59: =IK58 -> 0 | ... PN59: =PM58 -> 0
A60: Urbana | B60: =0.6*G11 -> 7.0886574 | C60: =D15/2+B60 -> 9.5886574 | D60: =ROUND(5*C60,0) -> 48 | E60: =0.208*(B6/100)/(C60/60) -> 0.013015378 | F60: =E60*1000 -> 13.015378 | W60: 57 | X60: =W60*$D$15 -> 285 | Y60: =IF((X60)/C$59>5,"",(X60)/$C$59) | Z60: =IF($E$59*IF((X60)/C$59>5,0,IF(Y60<=1,5.60277*Y60^5-16.1238*Y60^4+13.865*Y60^3-3.00293*Y60^2+0.657237*Y60,IF(Y60>=1.8,-0.003218*Y60^5+0.0654895*Y60^4-0.539858*Y60^3+2.26576*Y60^2-4.87709*Y60+4.34827,0.3645833*Y60^6-3.832532*Y60^5+15.78165*Y60^4-31.75999*Y60^3+31.54504*Y60^2-13.92499*Y60+2.825187)))<0,0,E$59*IF((X60)/$C$59>5,0,IF(Y60<=1,5.60277*Y60^5-16.1238*Y60^4+13.865*Y60^3-3.00293*Y60^2+0.657237*Y60,IF(Y60>=1.8,-0.003218*Y60^5+0.0654895*Y60^4-0.539858*Y60^3+2.26576*Y60^2-4.87709*Y60+4.34827,0.3645833*Y60^6-3.832532*Y60^5+15.78165*Y60^4-31.75999*Y60^3+31.54504*Y60^2-13.92499*Y60+2.825187)))) -> 0 | AA60: =IF(X60>MAX($D$19:$D$55),0,I77) -> 0 | AB60: 0 | AC60: =AC59+AB60*5*0.06 -> 211.77589 | AE60: 58 | AF60: =Z60 -> 0 | AG60: =AF59 -> 0 | AH60: =AG59 -> 0 | AI60: =AH59 -> 0 | AJ60: =AI59 -> 0 | AK60: =AJ59 -> 0 | AL60: =AK59 -> 0 | AM60: =AL59 -> 0 | AN60: =AM59 -> 0 | ... HP60: =HO59 -> 0 | HR60: 57 | HS60: =HR60*$D$15 -> 285 | HT60: =IF((HS60)/$C$60>5,"",(HS60)/C$60) | HU60: =IF($E$60*IF((HS60)/$C$60>5,0,IF(HT60<=1,5.60277*HT60^5-16.1238*HT60^4+13.865*HT60^3-3.00293*HT60^2+0.657237*HT60,IF(HT60>=1.8,-0.003218*HT60^5+0.0654895*HT60^4-0.539858*HT60^3+2.26576*HT60^2-4.87709*HT60+4.34827,0.3645833*HT60^6-3.832532*HT60^5+15.78165*HT60^4-31.75999*HT60^3+31.54504*HT60^2-13.92499*HT60+2.825187)))<0,0,E$60*IF((HS60)/$C$60>5,0,IF(HT60<=1,5.60277*HT60^5-16.1238*HT60^4+13.865*HT60^3-3.00293*HT60^2+0.657237*HT60,IF(HT60>=1.8,-0.003218*HT60^5+0.0654895*HT60^4-0.539858*HT60^3+2.26576*HT60^2-4.87709*HT60+4.34827,0.3645833*HT60^6-3.832532*HT60^5+15.78165*HT60^4-31.75999*HT60^3+31.54504*HT60^2-13.92499*HT60+2.825187)))) -> 0 | HV60: =IF(HS60>MAX($D$19:$D$55),0,G77) -> 0 | HW60: =TEXT(HS60/1440,"hh:mm") -> 04:45 | HX60: 0 | HY60: =HY59+HX60*Escenario1!$D$15*0.06 -> 468.72665 | HZ60: =IF(HX60-AB60<=0,0,HX60-AB60) -> 0 | IA60: =IA59+HZ60*Escenario1!$D$15*0.06 -> 258.16396 | IC60: 58 | ID60: =HU60 -> 0 | IE60: =ID59 -> 0 | IF60: =IE59 -> 0 | IG60: =IF59 -> 0 | IH60: =IG59 -> 0 | II60: =IH59 -> 0 | IJ60: =II59 -> 0 | IK60: =IJ59 -> 0 | IL60: =IK59 -> 0 | ... PN60: =PM59 -> 0
W61: 58 | X61: =W61*$D$15 -> 290 | Y61: =IF((X61)/C$59>5,"",(X61)/$C$59) | Z61: =IF($E$59*IF((X61)/C$59>5,0,IF(Y61<=1,5.60277*Y61^5-16.1238*Y61^4+13.865*Y61^3-3.00293*Y61^2+0.657237*Y61,IF(Y61>=1.8,-0.003218*Y61^5+0.0654895*Y61^4-0.539858*Y61^3+2.26576*Y61^2-4.87709*Y61+4.34827,0.3645833*Y61^6-3.832532*Y61^5+15.78165*Y61^4-31.75999*Y61^3+31.54504*Y61^2-13.92499*Y61+2.825187)))<0,0,E$59*IF((X61)/$C$59>5,0,IF(Y61<=1,5.60277*Y61^5-16.1238*Y61^4+13.865*Y61^3-3.00293*Y61^2+0.657237*Y61,IF(Y61>=1.8,-0.003218*Y61^5+0.0654895*Y61^4-0.539858*Y61^3+2.26576*Y61^2-4.87709*Y61+4.34827,0.3645833*Y61^6-3.832532*Y61^5+15.78165*Y61^4-31.75999*Y61^3+31.54504*Y61^2-13.92499*Y61+2.825187)))) -> 0 | AA61: =IF(X61>MAX($D$19:$D$55),0,I78) -> 0 | AB61: 0 | AC61: =AC60+AB61*5*0.06 -> 211.77589 | AE61: 59 | AF61: =Z61 -> 0 | AG61: =AF60 -> 0 | AH61: =AG60 -> 0 | AI61: =AH60 -> 0 | AJ61: =AI60 -> 0 | AK61: =AJ60 -> 0 | AL61: =AK60 -> 0 | AM61: =AL60 -> 0 | AN61: =AM60 -> 0 | ... HP61: =HO60 -> 0 | HR61: 58 | HS61: =HR61*$D$15 -> 290 | HT61: =IF((HS61)/$C$60>5,"",(HS61)/C$60) | HU61: =IF($E$60*IF((HS61)/$C$60>5,0,IF(HT61<=1,5.60277*HT61^5-16.1238*HT61^4+13.865*HT61^3-3.00293*HT61^2+0.657237*HT61,IF(HT61>=1.8,-0.003218*HT61^5+0.0654895*HT61^4-0.539858*HT61^3+2.26576*HT61^2-4.87709*HT61+4.34827,0.3645833*HT61^6-3.832532*HT61^5+15.78165*HT61^4-31.75999*HT61^3+31.54504*HT61^2-13.92499*HT61+2.825187)))<0,0,E$60*IF((HS61)/$C$60>5,0,IF(HT61<=1,5.60277*HT61^5-16.1238*HT61^4+13.865*HT61^3-3.00293*HT61^2+0.657237*HT61,IF(HT61>=1.8,-0.003218*HT61^5+0.0654895*HT61^4-0.539858*HT61^3+2.26576*HT61^2-4.87709*HT61+4.34827,0.3645833*HT61^6-3.832532*HT61^5+15.78165*HT61^4-31.75999*HT61^3+31.54504*HT61^2-13.92499*HT61+2.825187)))) -> 0 | HV61: =IF(HS61>MAX($D$19:$D$55),0,G78) -> 0 | HW61: =TEXT(HS61/1440,"hh:mm") -> 04:50 | HX61: 0 | HY61: =HY60+HX61*Escenario1!$D$15*0.06 -> 468.72665 | HZ61: =IF(HX61-AB61<=0,0,HX61-AB61) -> 0 | IA61: =IA60+HZ61*Escenario1!$D$15*0.06 -> 258.16396 | IC61: 59 | ID61: =HU61 -> 0 | IE61: =ID60 -> 0 | IF61: =IE60 -> 0 | IG61: =IF60 -> 0 | IH61: =IG60 -> 0 | II61: =IH60 -> 0 | IJ61: =II60 -> 0 | IK61: =IJ60 -> 0 | IL61: =IK60 -> 0 | ... PN61: =PM60 -> 0
A62: 7. Resultados | W62: 59 | X62: =W62*$D$15 -> 295 | Y62: =IF((X62)/C$59>5,"",(X62)/$C$59) | Z62: =IF($E$59*IF((X62)/C$59>5,0,IF(Y62<=1,5.60277*Y62^5-16.1238*Y62^4+13.865*Y62^3-3.00293*Y62^2+0.657237*Y62,IF(Y62>=1.8,-0.003218*Y62^5+0.0654895*Y62^4-0.539858*Y62^3+2.26576*Y62^2-4.87709*Y62+4.34827,0.3645833*Y62^6-3.832532*Y62^5+15.78165*Y62^4-31.75999*Y62^3+31.54504*Y62^2-13.92499*Y62+2.825187)))<0,0,E$59*IF((X62)/$C$59>5,0,IF(Y62<=1,5.60277*Y62^5-16.1238*Y62^4+13.865*Y62^3-3.00293*Y62^2+0.657237*Y62,IF(Y62>=1.8,-0.003218*Y62^5+0.0654895*Y62^4-0.539858*Y62^3+2.26576*Y62^2-4.87709*Y62+4.34827,0.3645833*Y62^6-3.832532*Y62^5+15.78165*Y62^4-31.75999*Y62^3+31.54504*Y62^2-13.92499*Y62+2.825187)))) -> 0 | AA62: =IF(X62>MAX($D$19:$D$55),0,I79) -> 0 | AB62: 0 | AC62: =AC61+AB62*5*0.06 -> 211.77589 | AE62: 60 | AF62: =Z62 -> 0 | AG62: =AF61 -> 0 | AH62: =AG61 -> 0 | AI62: =AH61 -> 0 | AJ62: =AI61 -> 0 | AK62: =AJ61 -> 0 | AL62: =AK61 -> 0 | AM62: =AL61 -> 0 | AN62: =AM61 -> 0 | ... HP62: =HO61 -> 0 | HR62: 59 | HS62: =HR62*$D$15 -> 295 | HT62: =IF((HS62)/$C$60>5,"",(HS62)/C$60) | HU62: =IF($E$60*IF((HS62)/$C$60>5,0,IF(HT62<=1,5.60277*HT62^5-16.1238*HT62^4+13.865*HT62^3-3.00293*HT62^2+0.657237*HT62,IF(HT62>=1.8,-0.003218*HT62^5+0.0654895*HT62^4-0.539858*HT62^3+2.26576*HT62^2-4.87709*HT62+4.34827,0.3645833*HT62^6-3.832532*HT62^5+15.78165*HT62^4-31.75999*HT62^3+31.54504*HT62^2-13.92499*HT62+2.825187)))<0,0,E$60*IF((HS62)/$C$60>5,0,IF(HT62<=1,5.60277*HT62^5-16.1238*HT62^4+13.865*HT62^3-3.00293*HT62^2+0.657237*HT62,IF(HT62>=1.8,-0.003218*HT62^5+0.0654895*HT62^4-0.539858*HT62^3+2.26576*HT62^2-4.87709*HT62+4.34827,0.3645833*HT62^6-3.832532*HT62^5+15.78165*HT62^4-31.75999*HT62^3+31.54504*HT62^2-13.92499*HT62+2.825187)))) -> 0 | HV62: =IF(HS62>MAX($D$19:$D$55),0,G79) -> 0 | HW62: =TEXT(HS62/1440,"hh:mm") -> 04:55 | HX62: 0 | HY62: =HY61+HX62*Escenario1!$D$15*0.06 -> 468.72665 | HZ62: =IF(HX62-AB62<=0,0,HX62-AB62) -> 0 | IA62: =IA61+HZ62*Escenario1!$D$15*0.06 -> 258.16396 | IC62: 60 | ID62: =HU62 -> 0 | IE62: =ID61 -> 0 | IF62: =IE61 -> 0 | IG62: =IF61 -> 0 | IH62: =IG61 -> 0 | II62: =IH61 -> 0 | IJ62: =II61 -> 0 | IK62: =IJ61 -> 0 | IL62: =IK61 -> 0 | ... PN62: =PM61 -> 0
A63: Caudal pico urbano (L/s): | B63: Caudal pico natural (L/s): | C63: Reducción caudal pico (%): | D63: Volumen acumulado urbano (m3): | E63: Volumen acumulado natural (m3): | F63: Volumen almacenamiento (m3): | W63: 60 | X63: =W63*$D$15 -> 300 | Y63: =IF((X63)/C$59>5,"",(X63)/$C$59) | Z63: =IF($E$59*IF((X63)/C$59>5,0,IF(Y63<=1,5.60277*Y63^5-16.1238*Y63^4+13.865*Y63^3-3.00293*Y63^2+0.657237*Y63,IF(Y63>=1.8,-0.003218*Y63^5+0.0654895*Y63^4-0.539858*Y63^3+2.26576*Y63^2-4.87709*Y63+4.34827,0.3645833*Y63^6-3.832532*Y63^5+15.78165*Y63^4-31.75999*Y63^3+31.54504*Y63^2-13.92499*Y63+2.825187)))<0,0,E$59*IF((X63)/$C$59>5,0,IF(Y63<=1,5.60277*Y63^5-16.1238*Y63^4+13.865*Y63^3-3.00293*Y63^2+0.657237*Y63,IF(Y63>=1.8,-0.003218*Y63^5+0.0654895*Y63^4-0.539858*Y63^3+2.26576*Y63^2-4.87709*Y63+4.34827,0.3645833*Y63^6-3.832532*Y63^5+15.78165*Y63^4-31.75999*Y63^3+31.54504*Y63^2-13.92499*Y63+2.825187)))) -> 0 | AA63: =IF(X63>MAX($D$19:$D$55),0,I80) -> 0 | AB63: 0 | AC63: =AC62+AB63*5*0.06 -> 211.77589 | AE63: 61 | AF63: =Z63 -> 0 | AG63: =AF62 -> 0 | AH63: =AG62 -> 0 | AI63: =AH62 -> 0 | AJ63: =AI62 -> 0 | AK63: =AJ62 -> 0 | AL63: =AK62 -> 0 | AM63: =AL62 -> 0 | AN63: =AM62 -> 0 | ... HP63: =HO62 -> 0 | HR63: 60 | HS63: =HR63*$D$15 -> 300 | HT63: =IF((HS63)/$C$60>5,"",(HS63)/C$60) | HU63: =IF($E$60*IF((HS63)/$C$60>5,0,IF(HT63<=1,5.60277*HT63^5-16.1238*HT63^4+13.865*HT63^3-3.00293*HT63^2+0.657237*HT63,IF(HT63>=1.8,-0.003218*HT63^5+0.0654895*HT63^4-0.539858*HT63^3+2.26576*HT63^2-4.87709*HT63+4.34827,0.3645833*HT63^6-3.832532*HT63^5+15.78165*HT63^4-31.75999*HT63^3+31.54504*HT63^2-13.92499*HT63+2.825187)))<0,0,E$60*IF((HS63)/$C$60>5,0,IF(HT63<=1,5.60277*HT63^5-16.1238*HT63^4+13.865*HT63^3-3.00293*HT63^2+0.657237*HT63,IF(HT63>=1.8,-0.003218*HT63^5+0.0654895*HT63^4-0.539858*HT63^3+2.26576*HT63^2-4.87709*HT63+4.34827,0.3645833*HT63^6-3.832532*HT63^5+15.78165*HT63^4-31.75999*HT63^3+31.54504*HT63^2-13.92499*HT63+2.825187)))) -> 0 | HV63: =IF(HS63>MAX($D$19:$D$55),0,G80) -> 0 | HW63: =TEXT(HS63/1440,"hh:mm") -> 05:00 | HX63: 0 | HY63: =HY62+HX63*Escenario1!$D$15*0.06 -> 468.72665 | HZ63: =IF(HX63-AB63<=0,0,HX63-AB63) -> 0 | IA63: =IA62+HZ63*Escenario1!$D$15*0.06 -> 258.16396 | IC63: 61 | ID63: =HU63 -> 0 | IE63: =ID62 -> 0 | IF63: =IE62 -> 0 | IG63: =IF62 -> 0 | IH63: =IG62 -> 0 | II63: =IH62 -> 0 | IJ63: =II62 -> 0 | IK63: =IJ62 -> 0 | IL63: =IK62 -> 0 | ... PN63: =PM62 -> 0
A64: =MAX(Escenario1!HX3:HX195) -> 114.54573 | B64: =MAX(Escenario1!AB3:AB195) -> 58.693406 | C64: =(A64-B64)/A64 -> 0.4875985 | D64: =MAX(Escenario1!HY3:HY195) -> 468.72665 | E64: =MAX(Escenario1!AC3:AC195) -> 211.77589 | F64: =MAX(Escenario1!IA3:IA195) -> 258.16396 | W64: 61 | X64: =W64*$D$15 -> 305 | Y64: =IF((X64)/C$59>5,"",(X64)/$C$59) | Z64: =IF($E$59*IF((X64)/C$59>5,0,IF(Y64<=1,5.60277*Y64^5-16.1238*Y64^4+13.865*Y64^3-3.00293*Y64^2+0.657237*Y64,IF(Y64>=1.8,-0.003218*Y64^5+0.0654895*Y64^4-0.539858*Y64^3+2.26576*Y64^2-4.87709*Y64+4.34827,0.3645833*Y64^6-3.832532*Y64^5+15.78165*Y64^4-31.75999*Y64^3+31.54504*Y64^2-13.92499*Y64+2.825187)))<0,0,E$59*IF((X64)/$C$59>5,0,IF(Y64<=1,5.60277*Y64^5-16.1238*Y64^4+13.865*Y64^3-3.00293*Y64^2+0.657237*Y64,IF(Y64>=1.8,-0.003218*Y64^5+0.0654895*Y64^4-0.539858*Y64^3+2.26576*Y64^2-4.87709*Y64+4.34827,0.3645833*Y64^6-3.832532*Y64^5+15.78165*Y64^4-31.75999*Y64^3+31.54504*Y64^2-13.92499*Y64+2.825187)))) -> 0 | AA64: =IF(X64>MAX($D$19:$D$55),0,I81) -> 0 | AB64: 0 | AC64: =AC63+AB64*5*0.06 -> 211.77589 | AE64: 62 | AF64: =Z64 -> 0 | AG64: =AF63 -> 0 | AH64: =AG63 -> 0 | AI64: =AH63 -> 0 | AJ64: =AI63 -> 0 | AK64: =AJ63 -> 0 | AL64: =AK63 -> 0 | AM64: =AL63 -> 0 | AN64: =AM63 -> 0 | ... HP64: =HO63 -> 0 | HR64: 61 | HS64: =HR64*$D$15 -> 305 | HT64: =IF((HS64)/$C$60>5,"",(HS64)/C$60) | HU64: =IF($E$60*IF((HS64)/$C$60>5,0,IF(HT64<=1,5.60277*HT64^5-16.1238*HT64^4+13.865*HT64^3-3.00293*HT64^2+0.657237*HT64,IF(HT64>=1.8,-0.003218*HT64^5+0.0654895*HT64^4-0.539858*HT64^3+2.26576*HT64^2-4.87709*HT64+4.34827,0.3645833*HT64^6-3.832532*HT64^5+15.78165*HT64^4-31.75999*HT64^3+31.54504*HT64^2-13.92499*HT64+2.825187)))<0,0,E$60*IF((HS64)/$C$60>5,0,IF(HT64<=1,5.60277*HT64^5-16.1238*HT64^4+13.865*HT64^3-3.00293*HT64^2+0.657237*HT64,IF(HT64>=1.8,-0.003218*HT64^5+0.0654895*HT64^4-0.539858*HT64^3+2.26576*HT64^2-4.87709*HT64+4.34827,0.3645833*HT64^6-3.832532*HT64^5+15.78165*HT64^4-31.75999*HT64^3+31.54504*HT64^2-13.92499*HT64+2.825187)))) -> 0 | HV64: =IF(HS64>MAX($D$19:$D$55),0,G81) -> 0 | HW64: =TEXT(HS64/1440,"hh:mm") -> 05:05 | HX64: 0 | HY64: =HY63+HX64*Escenario1!$D$15*0.06 -> 468.72665 | HZ64: =IF(HX64-AB64<=0,0,HX64-AB64) -> 0 | IA64: =IA63+HZ64*Escenario1!$D$15*0.06 -> 258.16396 | IC64: 62 | ID64: =HU64 -> 0 | IE64: =ID63 -> 0 | IF64: =IE63 -> 0 | IG64: =IF63 -> 0 | IH64: =IG63 -> 0 | II64: =IH63 -> 0 | IJ64: =II63 -> 0 | IK64: =IJ63 -> 0 | IL64: =IK63 -> 0 | ... PN64: =PM63 -> 0
A65: El usuario debe de validar los criterios contenidos en este aplicativo y revisar los resultados. EPM no asume responsabilidad alguna por su uso. | W65: 62 | X65: =W65*$D$15 -> 310 | Y65: =IF((X65)/C$59>5,"",(X65)/$C$59) | Z65: =IF($E$59*IF((X65)/C$59>5,0,IF(Y65<=1,5.60277*Y65^5-16.1238*Y65^4+13.865*Y65^3-3.00293*Y65^2+0.657237*Y65,IF(Y65>=1.8,-0.003218*Y65^5+0.0654895*Y65^4-0.539858*Y65^3+2.26576*Y65^2-4.87709*Y65+4.34827,0.3645833*Y65^6-3.832532*Y65^5+15.78165*Y65^4-31.75999*Y65^3+31.54504*Y65^2-13.92499*Y65+2.825187)))<0,0,E$59*IF((X65)/$C$59>5,0,IF(Y65<=1,5.60277*Y65^5-16.1238*Y65^4+13.865*Y65^3-3.00293*Y65^2+0.657237*Y65,IF(Y65>=1.8,-0.003218*Y65^5+0.0654895*Y65^4-0.539858*Y65^3+2.26576*Y65^2-4.87709*Y65+4.34827,0.3645833*Y65^6-3.832532*Y65^5+15.78165*Y65^4-31.75999*Y65^3+31.54504*Y65^2-13.92499*Y65+2.825187)))) -> 0 | AA65: =IF(X65>MAX($D$19:$D$55),0,I82) -> 0 | AB65: 0 | AC65: =AC64+AB65*5*0.06 -> 211.77589 | AE65: 63 | AF65: =Z65 -> 0 | AG65: =AF64 -> 0 | AH65: =AG64 -> 0 | AI65: =AH64 -> 0 | AJ65: =AI64 -> 0 | AK65: =AJ64 -> 0 | AL65: =AK64 -> 0 | AM65: =AL64 -> 0 | AN65: =AM64 -> 0 | ... HP65: =HO64 -> 0 | HR65: 62 | HS65: =HR65*$D$15 -> 310 | HT65: =IF((HS65)/$C$60>5,"",(HS65)/C$60) | HU65: =IF($E$60*IF((HS65)/$C$60>5,0,IF(HT65<=1,5.60277*HT65^5-16.1238*HT65^4+13.865*HT65^3-3.00293*HT65^2+0.657237*HT65,IF(HT65>=1.8,-0.003218*HT65^5+0.0654895*HT65^4-0.539858*HT65^3+2.26576*HT65^2-4.87709*HT65+4.34827,0.3645833*HT65^6-3.832532*HT65^5+15.78165*HT65^4-31.75999*HT65^3+31.54504*HT65^2-13.92499*HT65+2.825187)))<0,0,E$60*IF((HS65)/$C$60>5,0,IF(HT65<=1,5.60277*HT65^5-16.1238*HT65^4+13.865*HT65^3-3.00293*HT65^2+0.657237*HT65,IF(HT65>=1.8,-0.003218*HT65^5+0.0654895*HT65^4-0.539858*HT65^3+2.26576*HT65^2-4.87709*HT65+4.34827,0.3645833*HT65^6-3.832532*HT65^5+15.78165*HT65^4-31.75999*HT65^3+31.54504*HT65^2-13.92499*HT65+2.825187)))) -> 0 | HV65: =IF(HS65>MAX($D$19:$D$55),0,G82) -> 0 | HW65: =TEXT(HS65/1440,"hh:mm") -> 05:10 | HX65: 0 | HY65: =HY64+HX65*Escenario1!$D$15*0.06 -> 468.72665 | HZ65: =IF(HX65-AB65<=0,0,HX65-AB65) -> 0 | IA65: =IA64+HZ65*Escenario1!$D$15*0.06 -> 258.16396 | IC65: 63 | ID65: =HU65 -> 0 | IE65: =ID64 -> 0 | IF65: =IE64 -> 0 | IG65: =IF64 -> 0 | IH65: =IG64 -> 0 | II65: =IH64 -> 0 | IJ65: =II64 -> 0 | IK65: =IJ64 -> 0 | IL65: =IK64 -> 0 | ... PN65: =PM64 -> 0
W66: 63 | X66: =W66*$D$15 -> 315 | Y66: =IF((X66)/C$59>5,"",(X66)/$C$59) | Z66: =IF($E$59*IF((X66)/C$59>5,0,IF(Y66<=1,5.60277*Y66^5-16.1238*Y66^4+13.865*Y66^3-3.00293*Y66^2+0.657237*Y66,IF(Y66>=1.8,-0.003218*Y66^5+0.0654895*Y66^4-0.539858*Y66^3+2.26576*Y66^2-4.87709*Y66+4.34827,0.3645833*Y66^6-3.832532*Y66^5+15.78165*Y66^4-31.75999*Y66^3+31.54504*Y66^2-13.92499*Y66+2.825187)))<0,0,E$59*IF((X66)/$C$59>5,0,IF(Y66<=1,5.60277*Y66^5-16.1238*Y66^4+13.865*Y66^3-3.00293*Y66^2+0.657237*Y66,IF(Y66>=1.8,-0.003218*Y66^5+0.0654895*Y66^4-0.539858*Y66^3+2.26576*Y66^2-4.87709*Y66+4.34827,0.3645833*Y66^6-3.832532*Y66^5+15.78165*Y66^4-31.75999*Y66^3+31.54504*Y66^2-13.92499*Y66+2.825187)))) -> 0 | AA66: =IF(X66>MAX($D$19:$D$55),0,I83) -> 0 | AB66: 0 | AC66: =AC65+AB66*5*0.06 -> 211.77589 | AE66: 64 | AF66: =Z66 -> 0 | AG66: =AF65 -> 0 | AH66: =AG65 -> 0 | AI66: =AH65 -> 0 | AJ66: =AI65 -> 0 | AK66: =AJ65 -> 0 | AL66: =AK65 -> 0 | AM66: =AL65 -> 0 | AN66: =AM65 -> 0 | ... HP66: =HO65 -> 0 | HR66: 63 | HS66: =HR66*$D$15 -> 315 | HT66: =IF((HS66)/$C$60>5,"",(HS66)/C$60) | HU66: =IF($E$60*IF((HS66)/$C$60>5,0,IF(HT66<=1,5.60277*HT66^5-16.1238*HT66^4+13.865*HT66^3-3.00293*HT66^2+0.657237*HT66,IF(HT66>=1.8,-0.003218*HT66^5+0.0654895*HT66^4-0.539858*HT66^3+2.26576*HT66^2-4.87709*HT66+4.34827,0.3645833*HT66^6-3.832532*HT66^5+15.78165*HT66^4-31.75999*HT66^3+31.54504*HT66^2-13.92499*HT66+2.825187)))<0,0,E$60*IF((HS66)/$C$60>5,0,IF(HT66<=1,5.60277*HT66^5-16.1238*HT66^4+13.865*HT66^3-3.00293*HT66^2+0.657237*HT66,IF(HT66>=1.8,-0.003218*HT66^5+0.0654895*HT66^4-0.539858*HT66^3+2.26576*HT66^2-4.87709*HT66+4.34827,0.3645833*HT66^6-3.832532*HT66^5+15.78165*HT66^4-31.75999*HT66^3+31.54504*HT66^2-13.92499*HT66+2.825187)))) -> 0 | HV66: =IF(HS66>MAX($D$19:$D$55),0,G83) -> 0 | HW66: =TEXT(HS66/1440,"hh:mm") -> 05:15 | HX66: 0 | HY66: =HY65+HX66*Escenario1!$D$15*0.06 -> 468.72665 | HZ66: =IF(HX66-AB66<=0,0,HX66-AB66) -> 0 | IA66: =IA65+HZ66*Escenario1!$D$15*0.06 -> 258.16396 | IC66: 64 | ID66: =HU66 -> 0 | IE66: =ID65 -> 0 | IF66: =IE65 -> 0 | IG66: =IF65 -> 0 | IH66: =IG65 -> 0 | II66: =IH65 -> 0 | IJ66: =II65 -> 0 | IK66: =IJ65 -> 0 | IL66: =IK65 -> 0 | ... PN66: =PM65 -> 0
A67: Dimensionamiento del sistema de almacenamiento | W67: 64 | X67: =W67*$D$15 -> 320 | Y67: =IF((X67)/C$59>5,"",(X67)/$C$59) | Z67: =IF($E$59*IF((X67)/C$59>5,0,IF(Y67<=1,5.60277*Y67^5-16.1238*Y67^4+13.865*Y67^3-3.00293*Y67^2+0.657237*Y67,IF(Y67>=1.8,-0.003218*Y67^5+0.0654895*Y67^4-0.539858*Y67^3+2.26576*Y67^2-4.87709*Y67+4.34827,0.3645833*Y67^6-3.832532*Y67^5+15.78165*Y67^4-31.75999*Y67^3+31.54504*Y67^2-13.92499*Y67+2.825187)))<0,0,E$59*IF((X67)/$C$59>5,0,IF(Y67<=1,5.60277*Y67^5-16.1238*Y67^4+13.865*Y67^3-3.00293*Y67^2+0.657237*Y67,IF(Y67>=1.8,-0.003218*Y67^5+0.0654895*Y67^4-0.539858*Y67^3+2.26576*Y67^2-4.87709*Y67+4.34827,0.3645833*Y67^6-3.832532*Y67^5+15.78165*Y67^4-31.75999*Y67^3+31.54504*Y67^2-13.92499*Y67+2.825187)))) -> 0 | AA67: =IF(X67>MAX($D$19:$D$55),0,I84) -> 0 | AB67: 0 | AC67: =AC66+AB67*5*0.06 -> 211.77589 | AE67: 65 | AF67: =Z67 -> 0 | AG67: =AF66 -> 0 | AH67: =AG66 -> 0 | AI67: =AH66 -> 0 | AJ67: =AI66 -> 0 | AK67: =AJ66 -> 0 | AL67: =AK66 -> 0 | AM67: =AL66 -> 0 | AN67: =AM66 -> 0 | ... HP67: =HO66 -> 0 | HR67: 64 | HS67: =HR67*$D$15 -> 320 | HT67: =IF((HS67)/$C$60>5,"",(HS67)/C$60) | HU67: =IF($E$60*IF((HS67)/$C$60>5,0,IF(HT67<=1,5.60277*HT67^5-16.1238*HT67^4+13.865*HT67^3-3.00293*HT67^2+0.657237*HT67,IF(HT67>=1.8,-0.003218*HT67^5+0.0654895*HT67^4-0.539858*HT67^3+2.26576*HT67^2-4.87709*HT67+4.34827,0.3645833*HT67^6-3.832532*HT67^5+15.78165*HT67^4-31.75999*HT67^3+31.54504*HT67^2-13.92499*HT67+2.825187)))<0,0,E$60*IF((HS67)/$C$60>5,0,IF(HT67<=1,5.60277*HT67^5-16.1238*HT67^4+13.865*HT67^3-3.00293*HT67^2+0.657237*HT67,IF(HT67>=1.8,-0.003218*HT67^5+0.0654895*HT67^4-0.539858*HT67^3+2.26576*HT67^2-4.87709*HT67+4.34827,0.3645833*HT67^6-3.832532*HT67^5+15.78165*HT67^4-31.75999*HT67^3+31.54504*HT67^2-13.92499*HT67+2.825187)))) -> 0 | HV67: =IF(HS67>MAX($D$19:$D$55),0,G84) -> 0 | HW67: =TEXT(HS67/1440,"hh:mm") -> 05:20 | HX67: 0 | HY67: =HY66+HX67*Escenario1!$D$15*0.06 -> 468.72665 | HZ67: =IF(HX67-AB67<=0,0,HX67-AB67) -> 0 | IA67: =IA66+HZ67*Escenario1!$D$15*0.06 -> 258.16396 | IC67: 65 | ID67: =HU67 -> 0 | IE67: =ID66 -> 0 | IF67: =IE66 -> 0 | IG67: =IF66 -> 0 | IH67: =IG66 -> 0 | II67: =IH66 -> 0 | IJ67: =II66 -> 0 | IK67: =IJ66 -> 0 | IL67: =IK66 -> 0 | ... PN67: =PM66 -> 0
W68: 65 | X68: =W68*$D$15 -> 325 | Y68: =IF((X68)/C$59>5,"",(X68)/$C$59) | Z68: =IF($E$59*IF((X68)/C$59>5,0,IF(Y68<=1,5.60277*Y68^5-16.1238*Y68^4+13.865*Y68^3-3.00293*Y68^2+0.657237*Y68,IF(Y68>=1.8,-0.003218*Y68^5+0.0654895*Y68^4-0.539858*Y68^3+2.26576*Y68^2-4.87709*Y68+4.34827,0.3645833*Y68^6-3.832532*Y68^5+15.78165*Y68^4-31.75999*Y68^3+31.54504*Y68^2-13.92499*Y68+2.825187)))<0,0,E$59*IF((X68)/$C$59>5,0,IF(Y68<=1,5.60277*Y68^5-16.1238*Y68^4+13.865*Y68^3-3.00293*Y68^2+0.657237*Y68,IF(Y68>=1.8,-0.003218*Y68^5+0.0654895*Y68^4-0.539858*Y68^3+2.26576*Y68^2-4.87709*Y68+4.34827,0.3645833*Y68^6-3.832532*Y68^5+15.78165*Y68^4-31.75999*Y68^3+31.54504*Y68^2-13.92499*Y68+2.825187)))) -> 0 | AA68: =IF(X68>MAX($D$19:$D$55),0,I85) -> 0 | AB68: 0 | AC68: =AC67+AB68*5*0.06 -> 211.77589 | AE68: 66 | AF68: =Z68 -> 0 | AG68: =AF67 -> 0 | AH68: =AG67 -> 0 | AI68: =AH67 -> 0 | AJ68: =AI67 -> 0 | AK68: =AJ67 -> 0 | AL68: =AK67 -> 0 | AM68: =AL67 -> 0 | AN68: =AM67 -> 0 | ... HP68: =HO67 -> 0 | HR68: 65 | HS68: =HR68*$D$15 -> 325 | HT68: =IF((HS68)/$C$60>5,"",(HS68)/C$60) | HU68: =IF($E$60*IF((HS68)/$C$60>5,0,IF(HT68<=1,5.60277*HT68^5-16.1238*HT68^4+13.865*HT68^3-3.00293*HT68^2+0.657237*HT68,IF(HT68>=1.8,-0.003218*HT68^5+0.0654895*HT68^4-0.539858*HT68^3+2.26576*HT68^2-4.87709*HT68+4.34827,0.3645833*HT68^6-3.832532*HT68^5+15.78165*HT68^4-31.75999*HT68^3+31.54504*HT68^2-13.92499*HT68+2.825187)))<0,0,E$60*IF((HS68)/$C$60>5,0,IF(HT68<=1,5.60277*HT68^5-16.1238*HT68^4+13.865*HT68^3-3.00293*HT68^2+0.657237*HT68,IF(HT68>=1.8,-0.003218*HT68^5+0.0654895*HT68^4-0.539858*HT68^3+2.26576*HT68^2-4.87709*HT68+4.34827,0.3645833*HT68^6-3.832532*HT68^5+15.78165*HT68^4-31.75999*HT68^3+31.54504*HT68^2-13.92499*HT68+2.825187)))) -> 0 | HV68: =IF(HS68>MAX($D$19:$D$55),0,G85) -> 0 | HW68: =TEXT(HS68/1440,"hh:mm") -> 05:25 | HX68: 0 | HY68: =HY67+HX68*Escenario1!$D$15*0.06 -> 468.72665 | HZ68: =IF(HX68-AB68<=0,0,HX68-AB68) -> 0 | IA68: =IA67+HZ68*Escenario1!$D$15*0.06 -> 258.16396 | IC68: 66 | ID68: =HU68 -> 0 | IE68: =ID67 -> 0 | IF68: =IE67 -> 0 | IG68: =IF67 -> 0 | IH68: =IG67 -> 0 | II68: =IH67 -> 0 | IJ68: =II67 -> 0 | IK68: =IJ67 -> 0 | IL68: =IK67 -> 0 | ... PN68: =PM67 -> 0
A69: 1. Curva del almacenamiento o pondaje | W69: 66 | X69: =W69*$D$15 -> 330 | Y69: =IF((X69)/C$59>5,"",(X69)/$C$59) | Z69: =IF($E$59*IF((X69)/C$59>5,0,IF(Y69<=1,5.60277*Y69^5-16.1238*Y69^4+13.865*Y69^3-3.00293*Y69^2+0.657237*Y69,IF(Y69>=1.8,-0.003218*Y69^5+0.0654895*Y69^4-0.539858*Y69^3+2.26576*Y69^2-4.87709*Y69+4.34827,0.3645833*Y69^6-3.832532*Y69^5+15.78165*Y69^4-31.75999*Y69^3+31.54504*Y69^2-13.92499*Y69+2.825187)))<0,0,E$59*IF((X69)/$C$59>5,0,IF(Y69<=1,5.60277*Y69^5-16.1238*Y69^4+13.865*Y69^3-3.00293*Y69^2+0.657237*Y69,IF(Y69>=1.8,-0.003218*Y69^5+0.0654895*Y69^4-0.539858*Y69^3+2.26576*Y69^2-4.87709*Y69+4.34827,0.3645833*Y69^6-3.832532*Y69^5+15.78165*Y69^4-31.75999*Y69^3+31.54504*Y69^2-13.92499*Y69+2.825187)))) -> 0 | AA69: =IF(X69>MAX($D$19:$D$55),0,I86) -> 0 | AB69: 0 | AC69: =AC68+AB69*5*0.06 -> 211.77589 | AE69: 67 | AF69: =Z69 -> 0 | AG69: =AF68 -> 0 | AH69: =AG68 -> 0 | AI69: =AH68 -> 0 | AJ69: =AI68 -> 0 | AK69: =AJ68 -> 0 | AL69: =AK68 -> 0 | AM69: =AL68 -> 0 | AN69: =AM68 -> 0 | ... HP69: =HO68 -> 0 | HR69: 66 | HS69: =HR69*$D$15 -> 330 | HT69: =IF((HS69)/$C$60>5,"",(HS69)/C$60) | HU69: =IF($E$60*IF((HS69)/$C$60>5,0,IF(HT69<=1,5.60277*HT69^5-16.1238*HT69^4+13.865*HT69^3-3.00293*HT69^2+0.657237*HT69,IF(HT69>=1.8,-0.003218*HT69^5+0.0654895*HT69^4-0.539858*HT69^3+2.26576*HT69^2-4.87709*HT69+4.34827,0.3645833*HT69^6-3.832532*HT69^5+15.78165*HT69^4-31.75999*HT69^3+31.54504*HT69^2-13.92499*HT69+2.825187)))<0,0,E$60*IF((HS69)/$C$60>5,0,IF(HT69<=1,5.60277*HT69^5-16.1238*HT69^4+13.865*HT69^3-3.00293*HT69^2+0.657237*HT69,IF(HT69>=1.8,-0.003218*HT69^5+0.0654895*HT69^4-0.539858*HT69^3+2.26576*HT69^2-4.87709*HT69+4.34827,0.3645833*HT69^6-3.832532*HT69^5+15.78165*HT69^4-31.75999*HT69^3+31.54504*HT69^2-13.92499*HT69+2.825187)))) -> 0 | HV69: =IF(HS69>MAX($D$19:$D$55),0,G86) -> 0 | HW69: =TEXT(HS69/1440,"hh:mm") -> 05:30 | HX69: 0 | HY69: =HY68+HX69*Escenario1!$D$15*0.06 -> 468.72665 | HZ69: =IF(HX69-AB69<=0,0,HX69-AB69) -> 0 | IA69: =IA68+HZ69*Escenario1!$D$15*0.06 -> 258.16396 | IC69: 67 | ID69: =HU69 -> 0 | IE69: =ID68 -> 0 | IF69: =IE68 -> 0 | IG69: =IF68 -> 0 | IH69: =IG68 -> 0 | II69: =IH68 -> 0 | IJ69: =II68 -> 0 | IK69: =IJ68 -> 0 | IL69: =IK68 -> 0 | ... PN69: =PM68 -> 0
A70: Altura (m) | B70: Volumen (m3) | C70: Área (m2) | D70: Lado (m) | W70: 67 | X70: =W70*$D$15 -> 335 | Y70: =IF((X70)/C$59>5,"",(X70)/$C$59) | Z70: =IF($E$59*IF((X70)/C$59>5,0,IF(Y70<=1,5.60277*Y70^5-16.1238*Y70^4+13.865*Y70^3-3.00293*Y70^2+0.657237*Y70,IF(Y70>=1.8,-0.003218*Y70^5+0.0654895*Y70^4-0.539858*Y70^3+2.26576*Y70^2-4.87709*Y70+4.34827,0.3645833*Y70^6-3.832532*Y70^5+15.78165*Y70^4-31.75999*Y70^3+31.54504*Y70^2-13.92499*Y70+2.825187)))<0,0,E$59*IF((X70)/$C$59>5,0,IF(Y70<=1,5.60277*Y70^5-16.1238*Y70^4+13.865*Y70^3-3.00293*Y70^2+0.657237*Y70,IF(Y70>=1.8,-0.003218*Y70^5+0.0654895*Y70^4-0.539858*Y70^3+2.26576*Y70^2-4.87709*Y70+4.34827,0.3645833*Y70^6-3.832532*Y70^5+15.78165*Y70^4-31.75999*Y70^3+31.54504*Y70^2-13.92499*Y70+2.825187)))) -> 0 | AA70: =IF(X70>MAX($D$19:$D$55),0,I87) -> 0 | AB70: 0 | AC70: =AC69+AB70*5*0.06 -> 211.77589 | AE70: 68 | AF70: =Z70 -> 0 | AG70: =AF69 -> 0 | AH70: =AG69 -> 0 | AI70: =AH69 -> 0 | AJ70: =AI69 -> 0 | AK70: =AJ69 -> 0 | AL70: =AK69 -> 0 | AM70: =AL69 -> 0 | AN70: =AM69 -> 0 | ... HP70: =HO69 -> 0 | HR70: 67 | HS70: =HR70*$D$15 -> 335 | HT70: =IF((HS70)/$C$60>5,"",(HS70)/C$60) | HU70: =IF($E$60*IF((HS70)/$C$60>5,0,IF(HT70<=1,5.60277*HT70^5-16.1238*HT70^4+13.865*HT70^3-3.00293*HT70^2+0.657237*HT70,IF(HT70>=1.8,-0.003218*HT70^5+0.0654895*HT70^4-0.539858*HT70^3+2.26576*HT70^2-4.87709*HT70+4.34827,0.3645833*HT70^6-3.832532*HT70^5+15.78165*HT70^4-31.75999*HT70^3+31.54504*HT70^2-13.92499*HT70+2.825187)))<0,0,E$60*IF((HS70)/$C$60>5,0,IF(HT70<=1,5.60277*HT70^5-16.1238*HT70^4+13.865*HT70^3-3.00293*HT70^2+0.657237*HT70,IF(HT70>=1.8,-0.003218*HT70^5+0.0654895*HT70^4-0.539858*HT70^3+2.26576*HT70^2-4.87709*HT70+4.34827,0.3645833*HT70^6-3.832532*HT70^5+15.78165*HT70^4-31.75999*HT70^3+31.54504*HT70^2-13.92499*HT70+2.825187)))) -> 0 | HV70: =IF(HS70>MAX($D$19:$D$55),0,G87) -> 0 | HW70: =TEXT(HS70/1440,"hh:mm") -> 05:35 | HX70: 0 | HY70: =HY69+HX70*Escenario1!$D$15*0.06 -> 468.72665 | HZ70: =IF(HX70-AB70<=0,0,HX70-AB70) -> 0 | IA70: =IA69+HZ70*Escenario1!$D$15*0.06 -> 258.16396 | IC70: 68 | ID70: =HU70 -> 0 | IE70: =ID69 -> 0 | IF70: =IE69 -> 0 | IG70: =IF69 -> 0 | IH70: =IG69 -> 0 | II70: =IH69 -> 0 | IJ70: =II69 -> 0 | IK70: =IJ69 -> 0 | IL70: =IK69 -> 0 | ... PN70: =PM69 -> 0
A71: 0 | B71: 0 | C71: =IF(A71<=0,0,B71/A71) -> 0 | D71: =IF(A71<=0,0,SQRT(C71)) -> 0 | W71: 68 | X71: =W71*$D$15 -> 340 | Y71: =IF((X71)/C$59>5,"",(X71)/$C$59) | Z71: =IF($E$59*IF((X71)/C$59>5,0,IF(Y71<=1,5.60277*Y71^5-16.1238*Y71^4+13.865*Y71^3-3.00293*Y71^2+0.657237*Y71,IF(Y71>=1.8,-0.003218*Y71^5+0.0654895*Y71^4-0.539858*Y71^3+2.26576*Y71^2-4.87709*Y71+4.34827,0.3645833*Y71^6-3.832532*Y71^5+15.78165*Y71^4-31.75999*Y71^3+31.54504*Y71^2-13.92499*Y71+2.825187)))<0,0,E$59*IF((X71)/$C$59>5,0,IF(Y71<=1,5.60277*Y71^5-16.1238*Y71^4+13.865*Y71^3-3.00293*Y71^2+0.657237*Y71,IF(Y71>=1.8,-0.003218*Y71^5+0.0654895*Y71^4-0.539858*Y71^3+2.26576*Y71^2-4.87709*Y71+4.34827,0.3645833*Y71^6-3.832532*Y71^5+15.78165*Y71^4-31.75999*Y71^3+31.54504*Y71^2-13.92499*Y71+2.825187)))) -> 0 | AA71: =IF(X71>MAX($D$19:$D$55),0,I88) -> 0 | AB71: 0 | AC71: =AC70+AB71*5*0.06 -> 211.77589 | AE71: 69 | AF71: =Z71 -> 0 | AG71: =AF70 -> 0 | AH71: =AG70 -> 0 | AI71: =AH70 -> 0 | AJ71: =AI70 -> 0 | AK71: =AJ70 -> 0 | AL71: =AK70 -> 0 | AM71: =AL70 -> 0 | AN71: =AM70 -> 0 | ... HP71: =HO70 -> 0 | HR71: 68 | HS71: =HR71*$D$15 -> 340 | HT71: =IF((HS71)/$C$60>5,"",(HS71)/C$60) | HU71: =IF($E$60*IF((HS71)/$C$60>5,0,IF(HT71<=1,5.60277*HT71^5-16.1238*HT71^4+13.865*HT71^3-3.00293*HT71^2+0.657237*HT71,IF(HT71>=1.8,-0.003218*HT71^5+0.0654895*HT71^4-0.539858*HT71^3+2.26576*HT71^2-4.87709*HT71+4.34827,0.3645833*HT71^6-3.832532*HT71^5+15.78165*HT71^4-31.75999*HT71^3+31.54504*HT71^2-13.92499*HT71+2.825187)))<0,0,E$60*IF((HS71)/$C$60>5,0,IF(HT71<=1,5.60277*HT71^5-16.1238*HT71^4+13.865*HT71^3-3.00293*HT71^2+0.657237*HT71,IF(HT71>=1.8,-0.003218*HT71^5+0.0654895*HT71^4-0.539858*HT71^3+2.26576*HT71^2-4.87709*HT71+4.34827,0.3645833*HT71^6-3.832532*HT71^5+15.78165*HT71^4-31.75999*HT71^3+31.54504*HT71^2-13.92499*HT71+2.825187)))) -> 0 | HV71: =IF(HS71>MAX($D$19:$D$55),0,G88) -> 0 | HW71: =TEXT(HS71/1440,"hh:mm") -> 05:40 | HX71: 0 | HY71: =HY70+HX71*Escenario1!$D$15*0.06 -> 468.72665 | HZ71: =IF(HX71-AB71<=0,0,HX71-AB71) -> 0 | IA71: =IA70+HZ71*Escenario1!$D$15*0.06 -> 258.16396 | IC71: 69 | ID71: =HU71 -> 0 | IE71: =ID70 -> 0 | IF71: =IE70 -> 0 | IG71: =IF70 -> 0 | IH71: =IG70 -> 0 | II71: =IH70 -> 0 | IJ71: =II70 -> 0 | IK71: =IJ70 -> 0 | IL71: =IK70 -> 0 | ... PN71: =PM70 -> 0
A72: 10 | B72: 1000 | C72: =IF(A72<=0,0,B72/A72) -> 100 | D72: =IF(A72<=0,0,SQRT(C72)) -> 10 | W72: 69 | X72: =W72*$D$15 -> 345 | Y72: =IF((X72)/C$59>5,"",(X72)/$C$59) | Z72: =IF($E$59*IF((X72)/C$59>5,0,IF(Y72<=1,5.60277*Y72^5-16.1238*Y72^4+13.865*Y72^3-3.00293*Y72^2+0.657237*Y72,IF(Y72>=1.8,-0.003218*Y72^5+0.0654895*Y72^4-0.539858*Y72^3+2.26576*Y72^2-4.87709*Y72+4.34827,0.3645833*Y72^6-3.832532*Y72^5+15.78165*Y72^4-31.75999*Y72^3+31.54504*Y72^2-13.92499*Y72+2.825187)))<0,0,E$59*IF((X72)/$C$59>5,0,IF(Y72<=1,5.60277*Y72^5-16.1238*Y72^4+13.865*Y72^3-3.00293*Y72^2+0.657237*Y72,IF(Y72>=1.8,-0.003218*Y72^5+0.0654895*Y72^4-0.539858*Y72^3+2.26576*Y72^2-4.87709*Y72+4.34827,0.3645833*Y72^6-3.832532*Y72^5+15.78165*Y72^4-31.75999*Y72^3+31.54504*Y72^2-13.92499*Y72+2.825187)))) -> 0 | AA72: =IF(X72>MAX($D$19:$D$55),0,I89) -> 0 | AB72: 0 | AC72: =AC71+AB72*5*0.06 -> 211.77589 | AE72: 70 | AF72: =Z72 -> 0 | AG72: =AF71 -> 0 | AH72: =AG71 -> 0 | AI72: =AH71 -> 0 | AJ72: =AI71 -> 0 | AK72: =AJ71 -> 0 | AL72: =AK71 -> 0 | AM72: =AL71 -> 0 | AN72: =AM71 -> 0 | ... HP72: =HO71 -> 0 | HR72: 69 | HS72: =HR72*$D$15 -> 345 | HT72: =IF((HS72)/$C$60>5,"",(HS72)/C$60) | HU72: =IF($E$60*IF((HS72)/$C$60>5,0,IF(HT72<=1,5.60277*HT72^5-16.1238*HT72^4+13.865*HT72^3-3.00293*HT72^2+0.657237*HT72,IF(HT72>=1.8,-0.003218*HT72^5+0.0654895*HT72^4-0.539858*HT72^3+2.26576*HT72^2-4.87709*HT72+4.34827,0.3645833*HT72^6-3.832532*HT72^5+15.78165*HT72^4-31.75999*HT72^3+31.54504*HT72^2-13.92499*HT72+2.825187)))<0,0,E$60*IF((HS72)/$C$60>5,0,IF(HT72<=1,5.60277*HT72^5-16.1238*HT72^4+13.865*HT72^3-3.00293*HT72^2+0.657237*HT72,IF(HT72>=1.8,-0.003218*HT72^5+0.0654895*HT72^4-0.539858*HT72^3+2.26576*HT72^2-4.87709*HT72+4.34827,0.3645833*HT72^6-3.832532*HT72^5+15.78165*HT72^4-31.75999*HT72^3+31.54504*HT72^2-13.92499*HT72+2.825187)))) -> 0 | HV72: =IF(HS72>MAX($D$19:$D$55),0,G89) -> 0 | HW72: =TEXT(HS72/1440,"hh:mm") -> 05:45 | HX72: 0 | HY72: =HY71+HX72*Escenario1!$D$15*0.06 -> 468.72665 | HZ72: =IF(HX72-AB72<=0,0,HX72-AB72) -> 0 | IA72: =IA71+HZ72*Escenario1!$D$15*0.06 -> 258.16396 | IC72: 70 | ID72: =HU72 -> 0 | IE72: =ID71 -> 0 | IF72: =IE71 -> 0 | IG72: =IF71 -> 0 | IH72: =IG71 -> 0 | II72: =IH71 -> 0 | IJ72: =II71 -> 0 | IK72: =IJ71 -> 0 | IL72: =IK71 -> 0 | ... PN72: =PM71 -> 0
C73: =IF(A73<=0,0,B73/A73) -> 0 | D73: =IF(A73<=0,0,SQRT(C73)) -> 0 | W73: 70 | X73: =W73*$D$15 -> 350 | Y73: =IF((X73)/C$59>5,"",(X73)/$C$59) | Z73: =IF($E$59*IF((X73)/C$59>5,0,IF(Y73<=1,5.60277*Y73^5-16.1238*Y73^4+13.865*Y73^3-3.00293*Y73^2+0.657237*Y73,IF(Y73>=1.8,-0.003218*Y73^5+0.0654895*Y73^4-0.539858*Y73^3+2.26576*Y73^2-4.87709*Y73+4.34827,0.3645833*Y73^6-3.832532*Y73^5+15.78165*Y73^4-31.75999*Y73^3+31.54504*Y73^2-13.92499*Y73+2.825187)))<0,0,E$59*IF((X73)/$C$59>5,0,IF(Y73<=1,5.60277*Y73^5-16.1238*Y73^4+13.865*Y73^3-3.00293*Y73^2+0.657237*Y73,IF(Y73>=1.8,-0.003218*Y73^5+0.0654895*Y73^4-0.539858*Y73^3+2.26576*Y73^2-4.87709*Y73+4.34827,0.3645833*Y73^6-3.832532*Y73^5+15.78165*Y73^4-31.75999*Y73^3+31.54504*Y73^2-13.92499*Y73+2.825187)))) -> 0 | AA73: =IF(X73>MAX($D$19:$D$55),0,I90) -> 0 | AB73: 0 | AC73: =AC72+AB73*5*0.06 -> 211.77589 | AE73: 71 | AF73: =Z73 -> 0 | AG73: =AF72 -> 0 | AH73: =AG72 -> 0 | AI73: =AH72 -> 0 | AJ73: =AI72 -> 0 | AK73: =AJ72 -> 0 | AL73: =AK72 -> 0 | AM73: =AL72 -> 0 | AN73: =AM72 -> 0 | ... HP73: =HO72 -> 0 | HR73: 70 | HS73: =HR73*$D$15 -> 350 | HT73: =IF((HS73)/$C$60>5,"",(HS73)/C$60) | HU73: =IF($E$60*IF((HS73)/$C$60>5,0,IF(HT73<=1,5.60277*HT73^5-16.1238*HT73^4+13.865*HT73^3-3.00293*HT73^2+0.657237*HT73,IF(HT73>=1.8,-0.003218*HT73^5+0.0654895*HT73^4-0.539858*HT73^3+2.26576*HT73^2-4.87709*HT73+4.34827,0.3645833*HT73^6-3.832532*HT73^5+15.78165*HT73^4-31.75999*HT73^3+31.54504*HT73^2-13.92499*HT73+2.825187)))<0,0,E$60*IF((HS73)/$C$60>5,0,IF(HT73<=1,5.60277*HT73^5-16.1238*HT73^4+13.865*HT73^3-3.00293*HT73^2+0.657237*HT73,IF(HT73>=1.8,-0.003218*HT73^5+0.0654895*HT73^4-0.539858*HT73^3+2.26576*HT73^2-4.87709*HT73+4.34827,0.3645833*HT73^6-3.832532*HT73^5+15.78165*HT73^4-31.75999*HT73^3+31.54504*HT73^2-13.92499*HT73+2.825187)))) -> 0 | HV73: =IF(HS73>MAX($D$19:$D$55),0,G90) -> 0 | HW73: =TEXT(HS73/1440,"hh:mm") -> 05:50 | HX73: 0 | HY73: =HY72+HX73*Escenario1!$D$15*0.06 -> 468.72665 | HZ73: =IF(HX73-AB73<=0,0,HX73-AB73) -> 0 | IA73: =IA72+HZ73*Escenario1!$D$15*0.06 -> 258.16396 | IC73: 71 | ID73: =HU73 -> 0 | IE73: =ID72 -> 0 | IF73: =IE72 -> 0 | IG73: =IF72 -> 0 | IH73: =IG72 -> 0 | II73: =IH72 -> 0 | IJ73: =II72 -> 0 | IK73: =IJ72 -> 0 | IL73: =IK72 -> 0 | ... PN73: =PM72 -> 0
C74: =IF(A74<=0,0,B74/A74) -> 0 | D74: =IF(A74<=0,0,SQRT(C74)) -> 0 | W74: 71 | X74: =W74*$D$15 -> 355 | Y74: =IF((X74)/C$59>5,"",(X74)/$C$59) | Z74: =IF($E$59*IF((X74)/C$59>5,0,IF(Y74<=1,5.60277*Y74^5-16.1238*Y74^4+13.865*Y74^3-3.00293*Y74^2+0.657237*Y74,IF(Y74>=1.8,-0.003218*Y74^5+0.0654895*Y74^4-0.539858*Y74^3+2.26576*Y74^2-4.87709*Y74+4.34827,0.3645833*Y74^6-3.832532*Y74^5+15.78165*Y74^4-31.75999*Y74^3+31.54504*Y74^2-13.92499*Y74+2.825187)))<0,0,E$59*IF((X74)/$C$59>5,0,IF(Y74<=1,5.60277*Y74^5-16.1238*Y74^4+13.865*Y74^3-3.00293*Y74^2+0.657237*Y74,IF(Y74>=1.8,-0.003218*Y74^5+0.0654895*Y74^4-0.539858*Y74^3+2.26576*Y74^2-4.87709*Y74+4.34827,0.3645833*Y74^6-3.832532*Y74^5+15.78165*Y74^4-31.75999*Y74^3+31.54504*Y74^2-13.92499*Y74+2.825187)))) -> 0 | AA74: =IF(X74>MAX($D$19:$D$55),0,I91) -> 0 | AB74: 0 | AC74: =AC73+AB74*5*0.06 -> 211.77589 | AE74: 72 | AF74: =Z74 -> 0 | AG74: =AF73 -> 0 | AH74: =AG73 -> 0 | AI74: =AH73 -> 0 | AJ74: =AI73 -> 0 | AK74: =AJ73 -> 0 | AL74: =AK73 -> 0 | AM74: =AL73 -> 0 | AN74: =AM73 -> 0 | ... HP74: =HO73 -> 0 | HR74: 71 | HS74: =HR74*$D$15 -> 355 | HT74: =IF((HS74)/$C$60>5,"",(HS74)/C$60) | HU74: =IF($E$60*IF((HS74)/$C$60>5,0,IF(HT74<=1,5.60277*HT74^5-16.1238*HT74^4+13.865*HT74^3-3.00293*HT74^2+0.657237*HT74,IF(HT74>=1.8,-0.003218*HT74^5+0.0654895*HT74^4-0.539858*HT74^3+2.26576*HT74^2-4.87709*HT74+4.34827,0.3645833*HT74^6-3.832532*HT74^5+15.78165*HT74^4-31.75999*HT74^3+31.54504*HT74^2-13.92499*HT74+2.825187)))<0,0,E$60*IF((HS74)/$C$60>5,0,IF(HT74<=1,5.60277*HT74^5-16.1238*HT74^4+13.865*HT74^3-3.00293*HT74^2+0.657237*HT74,IF(HT74>=1.8,-0.003218*HT74^5+0.0654895*HT74^4-0.539858*HT74^3+2.26576*HT74^2-4.87709*HT74+4.34827,0.3645833*HT74^6-3.832532*HT74^5+15.78165*HT74^4-31.75999*HT74^3+31.54504*HT74^2-13.92499*HT74+2.825187)))) -> 0 | HV74: =IF(HS74>MAX($D$19:$D$55),0,G91) -> 0 | HW74: =TEXT(HS74/1440,"hh:mm") -> 05:55 | HX74: 0 | HY74: =HY73+HX74*Escenario1!$D$15*0.06 -> 468.72665 | HZ74: =IF(HX74-AB74<=0,0,HX74-AB74) -> 0 | IA74: =IA73+HZ74*Escenario1!$D$15*0.06 -> 258.16396 | IC74: 72 | ID74: =HU74 -> 0 | IE74: =ID73 -> 0 | IF74: =IE73 -> 0 | IG74: =IF73 -> 0 | IH74: =IG73 -> 0 | II74: =IH73 -> 0 | IJ74: =II73 -> 0 | IK74: =IJ73 -> 0 | IL74: =IK73 -> 0 | ... PN74: =PM73 -> 0
C75: =IF(A75<=0,0,B75/A75) -> 0 | D75: =IF(A75<=0,0,SQRT(C75)) -> 0 | W75: 72 | X75: =W75*$D$15 -> 360 | Y75: =IF((X75)/C$59>5,"",(X75)/$C$59) | Z75: =IF($E$59*IF((X75)/C$59>5,0,IF(Y75<=1,5.60277*Y75^5-16.1238*Y75^4+13.865*Y75^3-3.00293*Y75^2+0.657237*Y75,IF(Y75>=1.8,-0.003218*Y75^5+0.0654895*Y75^4-0.539858*Y75^3+2.26576*Y75^2-4.87709*Y75+4.34827,0.3645833*Y75^6-3.832532*Y75^5+15.78165*Y75^4-31.75999*Y75^3+31.54504*Y75^2-13.92499*Y75+2.825187)))<0,0,E$59*IF((X75)/$C$59>5,0,IF(Y75<=1,5.60277*Y75^5-16.1238*Y75^4+13.865*Y75^3-3.00293*Y75^2+0.657237*Y75,IF(Y75>=1.8,-0.003218*Y75^5+0.0654895*Y75^4-0.539858*Y75^3+2.26576*Y75^2-4.87709*Y75+4.34827,0.3645833*Y75^6-3.832532*Y75^5+15.78165*Y75^4-31.75999*Y75^3+31.54504*Y75^2-13.92499*Y75+2.825187)))) -> 0 | AA75: =IF(X75>MAX($D$19:$D$55),0,I92) -> 0 | AB75: 0 | AC75: =AC74+AB75*5*0.06 -> 211.77589 | AE75: 73 | AF75: =Z75 -> 0 | AG75: =AF74 -> 0 | AH75: =AG74 -> 0 | AI75: =AH74 -> 0 | AJ75: =AI74 -> 0 | AK75: =AJ74 -> 0 | AL75: =AK74 -> 0 | AM75: =AL74 -> 0 | AN75: =AM74 -> 0 | ... HP75: =HO74 -> 0 | HR75: 72 | HS75: =HR75*$D$15 -> 360 | HT75: =IF((HS75)/$C$60>5,"",(HS75)/C$60) | HU75: =IF($E$60*IF((HS75)/$C$60>5,0,IF(HT75<=1,5.60277*HT75^5-16.1238*HT75^4+13.865*HT75^3-3.00293*HT75^2+0.657237*HT75,IF(HT75>=1.8,-0.003218*HT75^5+0.0654895*HT75^4-0.539858*HT75^3+2.26576*HT75^2-4.87709*HT75+4.34827,0.3645833*HT75^6-3.832532*HT75^5+15.78165*HT75^4-31.75999*HT75^3+31.54504*HT75^2-13.92499*HT75+2.825187)))<0,0,E$60*IF((HS75)/$C$60>5,0,IF(HT75<=1,5.60277*HT75^5-16.1238*HT75^4+13.865*HT75^3-3.00293*HT75^2+0.657237*HT75,IF(HT75>=1.8,-0.003218*HT75^5+0.0654895*HT75^4-0.539858*HT75^3+2.26576*HT75^2-4.87709*HT75+4.34827,0.3645833*HT75^6-3.832532*HT75^5+15.78165*HT75^4-31.75999*HT75^3+31.54504*HT75^2-13.92499*HT75+2.825187)))) -> 0 | HV75: =IF(HS75>MAX($D$19:$D$55),0,G92) -> 0 | HW75: =TEXT(HS75/1440,"hh:mm") -> 06:00 | HX75: 0 | HY75: =HY74+HX75*Escenario1!$D$15*0.06 -> 468.72665 | HZ75: =IF(HX75-AB75<=0,0,HX75-AB75) -> 0 | IA75: =IA74+HZ75*Escenario1!$D$15*0.06 -> 258.16396 | IC75: 73 | ID75: =HU75 -> 0 | IE75: =ID74 -> 0 | IF75: =IE74 -> 0 | IG75: =IF74 -> 0 | IH75: =IG74 -> 0 | II75: =IH74 -> 0 | IJ75: =II74 -> 0 | IK75: =IJ74 -> 0 | IL75: =IK74 -> 0 | ... PN75: =PM74 -> 0
W76: 73 | X76: =W76*$D$15 -> 365 | Y76: =IF((X76)/C$59>5,"",(X76)/$C$59) | Z76: =IF($E$59*IF((X76)/C$59>5,0,IF(Y76<=1,5.60277*Y76^5-16.1238*Y76^4+13.865*Y76^3-3.00293*Y76^2+0.657237*Y76,IF(Y76>=1.8,-0.003218*Y76^5+0.0654895*Y76^4-0.539858*Y76^3+2.26576*Y76^2-4.87709*Y76+4.34827,0.3645833*Y76^6-3.832532*Y76^5+15.78165*Y76^4-31.75999*Y76^3+31.54504*Y76^2-13.92499*Y76+2.825187)))<0,0,E$59*IF((X76)/$C$59>5,0,IF(Y76<=1,5.60277*Y76^5-16.1238*Y76^4+13.865*Y76^3-3.00293*Y76^2+0.657237*Y76,IF(Y76>=1.8,-0.003218*Y76^5+0.0654895*Y76^4-0.539858*Y76^3+2.26576*Y76^2-4.87709*Y76+4.34827,0.3645833*Y76^6-3.832532*Y76^5+15.78165*Y76^4-31.75999*Y76^3+31.54504*Y76^2-13.92499*Y76+2.825187)))) -> 0 | AA76: =IF(X76>MAX($D$19:$D$55),0,I93) -> 0 | AB76: 0 | AC76: =AC75+AB76*5*0.06 -> 211.77589 | AE76: 74 | AF76: =Z76 -> 0 | AG76: =AF75 -> 0 | AH76: =AG75 -> 0 | AI76: =AH75 -> 0 | AJ76: =AI75 -> 0 | AK76: =AJ75 -> 0 | AL76: =AK75 -> 0 | AM76: =AL75 -> 0 | AN76: =AM75 -> 0 | ... HP76: =HO75 -> 0 | HR76: 73 | HS76: =HR76*$D$15 -> 365 | HT76: =IF((HS76)/$C$60>5,"",(HS76)/C$60) | HU76: =IF($E$60*IF((HS76)/$C$60>5,0,IF(HT76<=1,5.60277*HT76^5-16.1238*HT76^4+13.865*HT76^3-3.00293*HT76^2+0.657237*HT76,IF(HT76>=1.8,-0.003218*HT76^5+0.0654895*HT76^4-0.539858*HT76^3+2.26576*HT76^2-4.87709*HT76+4.34827,0.3645833*HT76^6-3.832532*HT76^5+15.78165*HT76^4-31.75999*HT76^3+31.54504*HT76^2-13.92499*HT76+2.825187)))<0,0,E$60*IF((HS76)/$C$60>5,0,IF(HT76<=1,5.60277*HT76^5-16.1238*HT76^4+13.865*HT76^3-3.00293*HT76^2+0.657237*HT76,IF(HT76>=1.8,-0.003218*HT76^5+0.0654895*HT76^4-0.539858*HT76^3+2.26576*HT76^2-4.87709*HT76+4.34827,0.3645833*HT76^6-3.832532*HT76^5+15.78165*HT76^4-31.75999*HT76^3+31.54504*HT76^2-13.92499*HT76+2.825187)))) -> 0 | HV76: =IF(HS76>MAX($D$19:$D$55),0,G93) -> 0 | HW76: =TEXT(HS76/1440,"hh:mm") -> 06:05 | HX76: 0 | HY76: =HY75+HX76*Escenario1!$D$15*0.06 -> 468.72665 | HZ76: =IF(HX76-AB76<=0,0,HX76-AB76) -> 0 | IA76: =IA75+HZ76*Escenario1!$D$15*0.06 -> 258.16396 | IC76: 74 | ID76: =HU76 -> 0 | IE76: =ID75 -> 0 | IF76: =IE75 -> 0 | IG76: =IF75 -> 0 | IH76: =IG75 -> 0 | II76: =IH75 -> 0 | IJ76: =II75 -> 0 | IK76: =IJ75 -> 0 | IL76: =IK75 -> 0 | ... PN76: =PM75 -> 0
A77: 2. Control de la salida con tuberías | H77: Vertedero de excesos | W77: 74 | X77: =W77*$D$15 -> 370 | Y77: =IF((X77)/C$59>5,"",(X77)/$C$59) | Z77: =IF($E$59*IF((X77)/C$59>5,0,IF(Y77<=1,5.60277*Y77^5-16.1238*Y77^4+13.865*Y77^3-3.00293*Y77^2+0.657237*Y77,IF(Y77>=1.8,-0.003218*Y77^5+0.0654895*Y77^4-0.539858*Y77^3+2.26576*Y77^2-4.87709*Y77+4.34827,0.3645833*Y77^6-3.832532*Y77^5+15.78165*Y77^4-31.75999*Y77^3+31.54504*Y77^2-13.92499*Y77+2.825187)))<0,0,E$59*IF((X77)/$C$59>5,0,IF(Y77<=1,5.60277*Y77^5-16.1238*Y77^4+13.865*Y77^3-3.00293*Y77^2+0.657237*Y77,IF(Y77>=1.8,-0.003218*Y77^5+0.0654895*Y77^4-0.539858*Y77^3+2.26576*Y77^2-4.87709*Y77+4.34827,0.3645833*Y77^6-3.832532*Y77^5+15.78165*Y77^4-31.75999*Y77^3+31.54504*Y77^2-13.92499*Y77+2.825187)))) -> 0 | AA77: =IF(X77>MAX($D$19:$D$55),0,I94) -> 0 | AB77: 0 | AC77: =AC76+AB77*5*0.06 -> 211.77589 | AE77: 75 | AF77: =Z77 -> 0 | AG77: =AF76 -> 0 | AH77: =AG76 -> 0 | AI77: =AH76 -> 0 | AJ77: =AI76 -> 0 | AK77: =AJ76 -> 0 | AL77: =AK76 -> 0 | AM77: =AL76 -> 0 | AN77: =AM76 -> 0 | ... HP77: =HO76 -> 0 | HR77: 74 | HS77: =HR77*$D$15 -> 370 | HT77: =IF((HS77)/$C$60>5,"",(HS77)/C$60) | HU77: =IF($E$60*IF((HS77)/$C$60>5,0,IF(HT77<=1,5.60277*HT77^5-16.1238*HT77^4+13.865*HT77^3-3.00293*HT77^2+0.657237*HT77,IF(HT77>=1.8,-0.003218*HT77^5+0.0654895*HT77^4-0.539858*HT77^3+2.26576*HT77^2-4.87709*HT77+4.34827,0.3645833*HT77^6-3.832532*HT77^5+15.78165*HT77^4-31.75999*HT77^3+31.54504*HT77^2-13.92499*HT77+2.825187)))<0,0,E$60*IF((HS77)/$C$60>5,0,IF(HT77<=1,5.60277*HT77^5-16.1238*HT77^4+13.865*HT77^3-3.00293*HT77^2+0.657237*HT77,IF(HT77>=1.8,-0.003218*HT77^5+0.0654895*HT77^4-0.539858*HT77^3+2.26576*HT77^2-4.87709*HT77+4.34827,0.3645833*HT77^6-3.832532*HT77^5+15.78165*HT77^4-31.75999*HT77^3+31.54504*HT77^2-13.92499*HT77+2.825187)))) -> 0 | HV77: =IF(HS77>MAX($D$19:$D$55),0,G94) -> 0 | HW77: =TEXT(HS77/1440,"hh:mm") -> 06:10 | HX77: 0 | HY77: =HY76+HX77*Escenario1!$D$15*0.06 -> 468.72665 | HZ77: =IF(HX77-AB77<=0,0,HX77-AB77) -> 0 | IA77: =IA76+HZ77*Escenario1!$D$15*0.06 -> 258.16396 | IC77: 75 | ID77: =HU77 -> 0 | IE77: =ID76 -> 0 | IF77: =IE76 -> 0 | IG77: =IF76 -> 0 | IH77: =IG76 -> 0 | II77: =IH76 -> 0 | IJ77: =II76 -> 0 | IK77: =IJ76 -> 0 | IL77: =IK76 -> 0 | ... PN77: =PM76 -> 0
A78: Cd (Coeficiente adimensional de la ecuación de orificio) | B78: Diámetro tubería de salida1 (mm) | C78: Altura desde el fondo de la salida 1 (m) | D78: Diámetro tubería de salida2 (mm) | E78: Altura desde el fondo de la salida 2 (m) | F78: Diámetro tubería de salida3 (mm) | G78: Altura desde el fondo de la salida 3 (m) | H78: Altura del vertedero Hv (m) | I78: Ancho del vertedero (m) | W78: 75 | X78: =W78*$D$15 -> 375 | Y78: =IF((X78)/C$59>5,"",(X78)/$C$59) | Z78: =IF($E$59*IF((X78)/C$59>5,0,IF(Y78<=1,5.60277*Y78^5-16.1238*Y78^4+13.865*Y78^3-3.00293*Y78^2+0.657237*Y78,IF(Y78>=1.8,-0.003218*Y78^5+0.0654895*Y78^4-0.539858*Y78^3+2.26576*Y78^2-4.87709*Y78+4.34827,0.3645833*Y78^6-3.832532*Y78^5+15.78165*Y78^4-31.75999*Y78^3+31.54504*Y78^2-13.92499*Y78+2.825187)))<0,0,E$59*IF((X78)/$C$59>5,0,IF(Y78<=1,5.60277*Y78^5-16.1238*Y78^4+13.865*Y78^3-3.00293*Y78^2+0.657237*Y78,IF(Y78>=1.8,-0.003218*Y78^5+0.0654895*Y78^4-0.539858*Y78^3+2.26576*Y78^2-4.87709*Y78+4.34827,0.3645833*Y78^6-3.832532*Y78^5+15.78165*Y78^4-31.75999*Y78^3+31.54504*Y78^2-13.92499*Y78+2.825187)))) -> 0 | AA78: =IF(X78>MAX($D$19:$D$55),0,I95) -> 0 | AB78: 0 | AC78: =AC77+AB78*5*0.06 -> 211.77589 | AE78: 76 | AF78: =Z78 -> 0 | AG78: =AF77 -> 0 | AH78: =AG77 -> 0 | AI78: =AH77 -> 0 | AJ78: =AI77 -> 0 | AK78: =AJ77 -> 0 | AL78: =AK77 -> 0 | AM78: =AL77 -> 0 | AN78: =AM77 -> 0 | ... HP78: =HO77 -> 0 | HR78: 75 | HS78: =HR78*$D$15 -> 375 | HT78: =IF((HS78)/$C$60>5,"",(HS78)/C$60) | HU78: =IF($E$60*IF((HS78)/$C$60>5,0,IF(HT78<=1,5.60277*HT78^5-16.1238*HT78^4+13.865*HT78^3-3.00293*HT78^2+0.657237*HT78,IF(HT78>=1.8,-0.003218*HT78^5+0.0654895*HT78^4-0.539858*HT78^3+2.26576*HT78^2-4.87709*HT78+4.34827,0.3645833*HT78^6-3.832532*HT78^5+15.78165*HT78^4-31.75999*HT78^3+31.54504*HT78^2-13.92499*HT78+2.825187)))<0,0,E$60*IF((HS78)/$C$60>5,0,IF(HT78<=1,5.60277*HT78^5-16.1238*HT78^4+13.865*HT78^3-3.00293*HT78^2+0.657237*HT78,IF(HT78>=1.8,-0.003218*HT78^5+0.0654895*HT78^4-0.539858*HT78^3+2.26576*HT78^2-4.87709*HT78+4.34827,0.3645833*HT78^6-3.832532*HT78^5+15.78165*HT78^4-31.75999*HT78^3+31.54504*HT78^2-13.92499*HT78+2.825187)))) -> 0 | HV78: =IF(HS78>MAX($D$19:$D$55),0,G95) -> 0 | HW78: =TEXT(HS78/1440,"hh:mm") -> 06:15 | HX78: 0 | HY78: =HY77+HX78*Escenario1!$D$15*0.06 -> 468.72665 | HZ78: =IF(HX78-AB78<=0,0,HX78-AB78) -> 0 | IA78: =IA77+HZ78*Escenario1!$D$15*0.06 -> 258.16396 | IC78: 76 | ID78: =HU78 -> 0 | IE78: =ID77 -> 0 | IF78: =IE77 -> 0 | IG78: =IF77 -> 0 | IH78: =IG77 -> 0 | II78: =IH77 -> 0 | IJ78: =II77 -> 0 | IK78: =IJ77 -> 0 | IL78: =IK77 -> 0 | ... PN78: =PM77 -> 0
A79: 0.65 | B79: 150 | C79: 0 | D79: 0 | E79: 0 | F79: 0 | G79: 0 | H79: 0 | I79: 0 | W79: 76 | X79: =W79*$D$15 -> 380 | Y79: =IF((X79)/C$59>5,"",(X79)/$C$59) | Z79: =IF($E$59*IF((X79)/C$59>5,0,IF(Y79<=1,5.60277*Y79^5-16.1238*Y79^4+13.865*Y79^3-3.00293*Y79^2+0.657237*Y79,IF(Y79>=1.8,-0.003218*Y79^5+0.0654895*Y79^4-0.539858*Y79^3+2.26576*Y79^2-4.87709*Y79+4.34827,0.3645833*Y79^6-3.832532*Y79^5+15.78165*Y79^4-31.75999*Y79^3+31.54504*Y79^2-13.92499*Y79+2.825187)))<0,0,E$59*IF((X79)/$C$59>5,0,IF(Y79<=1,5.60277*Y79^5-16.1238*Y79^4+13.865*Y79^3-3.00293*Y79^2+0.657237*Y79,IF(Y79>=1.8,-0.003218*Y79^5+0.0654895*Y79^4-0.539858*Y79^3+2.26576*Y79^2-4.87709*Y79+4.34827,0.3645833*Y79^6-3.832532*Y79^5+15.78165*Y79^4-31.75999*Y79^3+31.54504*Y79^2-13.92499*Y79+2.825187)))) -> 0 | AA79: =IF(X79>MAX($D$19:$D$55),0,I96) -> 0 | AB79: 0 | AC79: =AC78+AB79*5*0.06 -> 211.77589 | AE79: 77 | AF79: =Z79 -> 0 | AG79: =AF78 -> 0 | AH79: =AG78 -> 0 | AI79: =AH78 -> 0 | AJ79: =AI78 -> 0 | AK79: =AJ78 -> 0 | AL79: =AK78 -> 0 | AM79: =AL78 -> 0 | AN79: =AM78 -> 0 | ... HP79: =HO78 -> 0 | HR79: 76 | HS79: =HR79*$D$15 -> 380 | HT79: =IF((HS79)/$C$60>5,"",(HS79)/C$60) | HU79: =IF($E$60*IF((HS79)/$C$60>5,0,IF(HT79<=1,5.60277*HT79^5-16.1238*HT79^4+13.865*HT79^3-3.00293*HT79^2+0.657237*HT79,IF(HT79>=1.8,-0.003218*HT79^5+0.0654895*HT79^4-0.539858*HT79^3+2.26576*HT79^2-4.87709*HT79+4.34827,0.3645833*HT79^6-3.832532*HT79^5+15.78165*HT79^4-31.75999*HT79^3+31.54504*HT79^2-13.92499*HT79+2.825187)))<0,0,E$60*IF((HS79)/$C$60>5,0,IF(HT79<=1,5.60277*HT79^5-16.1238*HT79^4+13.865*HT79^3-3.00293*HT79^2+0.657237*HT79,IF(HT79>=1.8,-0.003218*HT79^5+0.0654895*HT79^4-0.539858*HT79^3+2.26576*HT79^2-4.87709*HT79+4.34827,0.3645833*HT79^6-3.832532*HT79^5+15.78165*HT79^4-31.75999*HT79^3+31.54504*HT79^2-13.92499*HT79+2.825187)))) -> 0 | HV79: =IF(HS79>MAX($D$19:$D$55),0,G96) -> 0 | HW79: =TEXT(HS79/1440,"hh:mm") -> 06:20 | HX79: 0 | HY79: =HY78+HX79*Escenario1!$D$15*0.06 -> 468.72665 | HZ79: =IF(HX79-AB79<=0,0,HX79-AB79) -> 0 | IA79: =IA78+HZ79*Escenario1!$D$15*0.06 -> 258.16396 | IC79: 77 | ID79: =HU79 -> 0 | IE79: =ID78 -> 0 | IF79: =IE78 -> 0 | IG79: =IF78 -> 0 | IH79: =IG78 -> 0 | II79: =IH78 -> 0 | IJ79: =II78 -> 0 | IK79: =IJ78 -> 0 | IL79: =IK78 -> 0 | ... PN79: =PM78 -> 0
W80: 77 | X80: =W80*$D$15 -> 385 | Y80: =IF((X80)/C$59>5,"",(X80)/$C$59) | Z80: =IF($E$59*IF((X80)/C$59>5,0,IF(Y80<=1,5.60277*Y80^5-16.1238*Y80^4+13.865*Y80^3-3.00293*Y80^2+0.657237*Y80,IF(Y80>=1.8,-0.003218*Y80^5+0.0654895*Y80^4-0.539858*Y80^3+2.26576*Y80^2-4.87709*Y80+4.34827,0.3645833*Y80^6-3.832532*Y80^5+15.78165*Y80^4-31.75999*Y80^3+31.54504*Y80^2-13.92499*Y80+2.825187)))<0,0,E$59*IF((X80)/$C$59>5,0,IF(Y80<=1,5.60277*Y80^5-16.1238*Y80^4+13.865*Y80^3-3.00293*Y80^2+0.657237*Y80,IF(Y80>=1.8,-0.003218*Y80^5+0.0654895*Y80^4-0.539858*Y80^3+2.26576*Y80^2-4.87709*Y80+4.34827,0.3645833*Y80^6-3.832532*Y80^5+15.78165*Y80^4-31.75999*Y80^3+31.54504*Y80^2-13.92499*Y80+2.825187)))) -> 0 | AA80: =IF(X80>MAX($D$19:$D$55),0,I97) -> 0 | AB80: 0 | AC80: =AC79+AB80*5*0.06 -> 211.77589 | AE80: 78 | AF80: =Z80 -> 0 | AG80: =AF79 -> 0 | AH80: =AG79 -> 0 | AI80: =AH79 -> 0 | AJ80: =AI79 -> 0 | AK80: =AJ79 -> 0 | AL80: =AK79 -> 0 | AM80: =AL79 -> 0 | AN80: =AM79 -> 0 | ... HP80: =HO79 -> 0 | HR80: 77 | HS80: =HR80*$D$15 -> 385 | HT80: =IF((HS80)/$C$60>5,"",(HS80)/C$60) | HU80: =IF($E$60*IF((HS80)/$C$60>5,0,IF(HT80<=1,5.60277*HT80^5-16.1238*HT80^4+13.865*HT80^3-3.00293*HT80^2+0.657237*HT80,IF(HT80>=1.8,-0.003218*HT80^5+0.0654895*HT80^4-0.539858*HT80^3+2.26576*HT80^2-4.87709*HT80+4.34827,0.3645833*HT80^6-3.832532*HT80^5+15.78165*HT80^4-31.75999*HT80^3+31.54504*HT80^2-13.92499*HT80+2.825187)))<0,0,E$60*IF((HS80)/$C$60>5,0,IF(HT80<=1,5.60277*HT80^5-16.1238*HT80^4+13.865*HT80^3-3.00293*HT80^2+0.657237*HT80,IF(HT80>=1.8,-0.003218*HT80^5+0.0654895*HT80^4-0.539858*HT80^3+2.26576*HT80^2-4.87709*HT80+4.34827,0.3645833*HT80^6-3.832532*HT80^5+15.78165*HT80^4-31.75999*HT80^3+31.54504*HT80^2-13.92499*HT80+2.825187)))) -> 0 | HV80: =IF(HS80>MAX($D$19:$D$55),0,G97) -> 0 | HW80: =TEXT(HS80/1440,"hh:mm") -> 06:25 | HX80: 0 | HY80: =HY79+HX80*Escenario1!$D$15*0.06 -> 468.72665 | HZ80: =IF(HX80-AB80<=0,0,HX80-AB80) -> 0 | IA80: =IA79+HZ80*Escenario1!$D$15*0.06 -> 258.16396 | IC80: 78 | ID80: =HU80 -> 0 | IE80: =ID79 -> 0 | IF80: =IE79 -> 0 | IG80: =IF79 -> 0 | IH80: =IG79 -> 0 | II80: =IH79 -> 0 | IJ80: =II79 -> 0 | IK80: =IJ79 -> 0 | IL80: =IK79 -> 0 | ... PN80: =PM79 -> 0
A81: Resultados | W81: 78 | X81: =W81*$D$15 -> 390 | Y81: =IF((X81)/C$59>5,"",(X81)/$C$59) | Z81: =IF($E$59*IF((X81)/C$59>5,0,IF(Y81<=1,5.60277*Y81^5-16.1238*Y81^4+13.865*Y81^3-3.00293*Y81^2+0.657237*Y81,IF(Y81>=1.8,-0.003218*Y81^5+0.0654895*Y81^4-0.539858*Y81^3+2.26576*Y81^2-4.87709*Y81+4.34827,0.3645833*Y81^6-3.832532*Y81^5+15.78165*Y81^4-31.75999*Y81^3+31.54504*Y81^2-13.92499*Y81+2.825187)))<0,0,E$59*IF((X81)/$C$59>5,0,IF(Y81<=1,5.60277*Y81^5-16.1238*Y81^4+13.865*Y81^3-3.00293*Y81^2+0.657237*Y81,IF(Y81>=1.8,-0.003218*Y81^5+0.0654895*Y81^4-0.539858*Y81^3+2.26576*Y81^2-4.87709*Y81+4.34827,0.3645833*Y81^6-3.832532*Y81^5+15.78165*Y81^4-31.75999*Y81^3+31.54504*Y81^2-13.92499*Y81+2.825187)))) -> 0 | AA81: =IF(X81>MAX($D$19:$D$55),0,I98) -> 0 | AB81: 0 | AC81: =AC80+AB81*5*0.06 -> 211.77589 | AE81: 79 | AF81: =Z81 -> 0 | AG81: =AF80 -> 0 | AH81: =AG80 -> 0 | AI81: =AH80 -> 0 | AJ81: =AI80 -> 0 | AK81: =AJ80 -> 0 | AL81: =AK80 -> 0 | AM81: =AL80 -> 0 | AN81: =AM80 -> 0 | ... HP81: =HO80 -> 0 | HR81: 78 | HS81: =HR81*$D$15 -> 390 | HT81: =IF((HS81)/$C$60>5,"",(HS81)/C$60) | HU81: =IF($E$60*IF((HS81)/$C$60>5,0,IF(HT81<=1,5.60277*HT81^5-16.1238*HT81^4+13.865*HT81^3-3.00293*HT81^2+0.657237*HT81,IF(HT81>=1.8,-0.003218*HT81^5+0.0654895*HT81^4-0.539858*HT81^3+2.26576*HT81^2-4.87709*HT81+4.34827,0.3645833*HT81^6-3.832532*HT81^5+15.78165*HT81^4-31.75999*HT81^3+31.54504*HT81^2-13.92499*HT81+2.825187)))<0,0,E$60*IF((HS81)/$C$60>5,0,IF(HT81<=1,5.60277*HT81^5-16.1238*HT81^4+13.865*HT81^3-3.00293*HT81^2+0.657237*HT81,IF(HT81>=1.8,-0.003218*HT81^5+0.0654895*HT81^4-0.539858*HT81^3+2.26576*HT81^2-4.87709*HT81+4.34827,0.3645833*HT81^6-3.832532*HT81^5+15.78165*HT81^4-31.75999*HT81^3+31.54504*HT81^2-13.92499*HT81+2.825187)))) -> 0 | HV81: =IF(HS81>MAX($D$19:$D$55),0,G98) -> 0 | HW81: =TEXT(HS81/1440,"hh:mm") -> 06:30 | HX81: 0 | HY81: =HY80+HX81*Escenario1!$D$15*0.06 -> 468.72665 | HZ81: =IF(HX81-AB81<=0,0,HX81-AB81) -> 0 | IA81: =IA80+HZ81*Escenario1!$D$15*0.06 -> 258.16396 | IC81: 79 | ID81: =HU81 -> 0 | IE81: =ID80 -> 0 | IF81: =IE80 -> 0 | IG81: =IF80 -> 0 | IH81: =IG80 -> 0 | II81: =IH80 -> 0 | IJ81: =II80 -> 0 | IK81: =IJ80 -> 0 | IL81: =IK80 -> 0 | ... PN81: =PM80 -> 0
A82: Caudal máximo a descargar en la red de EPM (L/s) | E82: =B64 -> 58.693406 | W82: 79 | X82: =W82*$D$15 -> 395 | Y82: =IF((X82)/C$59>5,"",(X82)/$C$59) | Z82: =IF($E$59*IF((X82)/C$59>5,0,IF(Y82<=1,5.60277*Y82^5-16.1238*Y82^4+13.865*Y82^3-3.00293*Y82^2+0.657237*Y82,IF(Y82>=1.8,-0.003218*Y82^5+0.0654895*Y82^4-0.539858*Y82^3+2.26576*Y82^2-4.87709*Y82+4.34827,0.3645833*Y82^6-3.832532*Y82^5+15.78165*Y82^4-31.75999*Y82^3+31.54504*Y82^2-13.92499*Y82+2.825187)))<0,0,E$59*IF((X82)/$C$59>5,0,IF(Y82<=1,5.60277*Y82^5-16.1238*Y82^4+13.865*Y82^3-3.00293*Y82^2+0.657237*Y82,IF(Y82>=1.8,-0.003218*Y82^5+0.0654895*Y82^4-0.539858*Y82^3+2.26576*Y82^2-4.87709*Y82+4.34827,0.3645833*Y82^6-3.832532*Y82^5+15.78165*Y82^4-31.75999*Y82^3+31.54504*Y82^2-13.92499*Y82+2.825187)))) -> 0 | AA82: =IF(X82>MAX($D$19:$D$55),0,I99) -> 0 | AB82: 0 | AC82: =AC81+AB82*5*0.06 -> 211.77589 | AE82: 80 | AF82: =Z82 -> 0 | AG82: =AF81 -> 0 | AH82: =AG81 -> 0 | AI82: =AH81 -> 0 | AJ82: =AI81 -> 0 | AK82: =AJ81 -> 0 | AL82: =AK81 -> 0 | AM82: =AL81 -> 0 | AN82: =AM81 -> 0 | ... HP82: =HO81 -> 0 | HR82: 79 | HS82: =HR82*$D$15 -> 395 | HT82: =IF((HS82)/$C$60>5,"",(HS82)/C$60) | HU82: =IF($E$60*IF((HS82)/$C$60>5,0,IF(HT82<=1,5.60277*HT82^5-16.1238*HT82^4+13.865*HT82^3-3.00293*HT82^2+0.657237*HT82,IF(HT82>=1.8,-0.003218*HT82^5+0.0654895*HT82^4-0.539858*HT82^3+2.26576*HT82^2-4.87709*HT82+4.34827,0.3645833*HT82^6-3.832532*HT82^5+15.78165*HT82^4-31.75999*HT82^3+31.54504*HT82^2-13.92499*HT82+2.825187)))<0,0,E$60*IF((HS82)/$C$60>5,0,IF(HT82<=1,5.60277*HT82^5-16.1238*HT82^4+13.865*HT82^3-3.00293*HT82^2+0.657237*HT82,IF(HT82>=1.8,-0.003218*HT82^5+0.0654895*HT82^4-0.539858*HT82^3+2.26576*HT82^2-4.87709*HT82+4.34827,0.3645833*HT82^6-3.832532*HT82^5+15.78165*HT82^4-31.75999*HT82^3+31.54504*HT82^2-13.92499*HT82+2.825187)))) -> 0 | HV82: =IF(HS82>MAX($D$19:$D$55),0,G99) -> 0 | HW82: =TEXT(HS82/1440,"hh:mm") -> 06:35 | HX82: 0 | HY82: =HY81+HX82*Escenario1!$D$15*0.06 -> 468.72665 | HZ82: =IF(HX82-AB82<=0,0,HX82-AB82) -> 0 | IA82: =IA81+HZ82*Escenario1!$D$15*0.06 -> 258.16396 | IC82: 80 | ID82: =HU82 -> 0 | IE82: =ID81 -> 0 | IF82: =IE81 -> 0 | IG82: =IF81 -> 0 | IH82: =IG81 -> 0 | II82: =IH81 -> 0 | IJ82: =II81 -> 0 | IK82: =IJ81 -> 0 | IL82: =IK81 -> 0 | ... PN82: =PM81 -> 0
A83: Altura de lamina de agua (m) | E83: =MAX(F126:F318) -> 1.312382 | W83: 80 | X83: =W83*$D$15 -> 400 | Y83: =IF((X83)/C$59>5,"",(X83)/$C$59) | Z83: =IF($E$59*IF((X83)/C$59>5,0,IF(Y83<=1,5.60277*Y83^5-16.1238*Y83^4+13.865*Y83^3-3.00293*Y83^2+0.657237*Y83,IF(Y83>=1.8,-0.003218*Y83^5+0.0654895*Y83^4-0.539858*Y83^3+2.26576*Y83^2-4.87709*Y83+4.34827,0.3645833*Y83^6-3.832532*Y83^5+15.78165*Y83^4-31.75999*Y83^3+31.54504*Y83^2-13.92499*Y83+2.825187)))<0,0,E$59*IF((X83)/$C$59>5,0,IF(Y83<=1,5.60277*Y83^5-16.1238*Y83^4+13.865*Y83^3-3.00293*Y83^2+0.657237*Y83,IF(Y83>=1.8,-0.003218*Y83^5+0.0654895*Y83^4-0.539858*Y83^3+2.26576*Y83^2-4.87709*Y83+4.34827,0.3645833*Y83^6-3.832532*Y83^5+15.78165*Y83^4-31.75999*Y83^3+31.54504*Y83^2-13.92499*Y83+2.825187)))) -> 0 | AA83: =IF(X83>MAX($D$19:$D$55),0,I100) -> 0 | AB83: 0 | AC83: =AC82+AB83*5*0.06 -> 211.77589 | AE83: 81 | AF83: =Z83 -> 0 | AG83: =AF82 -> 0 | AH83: =AG82 -> 0 | AI83: =AH82 -> 0 | AJ83: =AI82 -> 0 | AK83: =AJ82 -> 0 | AL83: =AK82 -> 0 | AM83: =AL82 -> 0 | AN83: =AM82 -> 0 | ... HP83: =HO82 -> 0 | HR83: 80 | HS83: =HR83*$D$15 -> 400 | HT83: =IF((HS83)/$C$60>5,"",(HS83)/C$60) | HU83: =IF($E$60*IF((HS83)/$C$60>5,0,IF(HT83<=1,5.60277*HT83^5-16.1238*HT83^4+13.865*HT83^3-3.00293*HT83^2+0.657237*HT83,IF(HT83>=1.8,-0.003218*HT83^5+0.0654895*HT83^4-0.539858*HT83^3+2.26576*HT83^2-4.87709*HT83+4.34827,0.3645833*HT83^6-3.832532*HT83^5+15.78165*HT83^4-31.75999*HT83^3+31.54504*HT83^2-13.92499*HT83+2.825187)))<0,0,E$60*IF((HS83)/$C$60>5,0,IF(HT83<=1,5.60277*HT83^5-16.1238*HT83^4+13.865*HT83^3-3.00293*HT83^2+0.657237*HT83,IF(HT83>=1.8,-0.003218*HT83^5+0.0654895*HT83^4-0.539858*HT83^3+2.26576*HT83^2-4.87709*HT83+4.34827,0.3645833*HT83^6-3.832532*HT83^5+15.78165*HT83^4-31.75999*HT83^3+31.54504*HT83^2-13.92499*HT83+2.825187)))) -> 0 | HV83: =IF(HS83>MAX($D$19:$D$55),0,G100) -> 0 | HW83: =TEXT(HS83/1440,"hh:mm") -> 06:40 | HX83: 0 | HY83: =HY82+HX83*Escenario1!$D$15*0.06 -> 468.72665 | HZ83: =IF(HX83-AB83<=0,0,HX83-AB83) -> 0 | IA83: =IA82+HZ83*Escenario1!$D$15*0.06 -> 258.16396 | IC83: 81 | ID83: =HU83 -> 0 | IE83: =ID82 -> 0 | IF83: =IE82 -> 0 | IG83: =IF82 -> 0 | IH83: =IG82 -> 0 | II83: =IH82 -> 0 | IJ83: =II82 -> 0 | IK83: =IJ82 -> 0 | IL83: =IK82 -> 0 | ... PN83: =PM82 -> 0
A84: Caudal que realmente descarga a la red (L/s) | E84: =MAX(L126:L318) -> 58.286153 | G84: =IF(E84=0,"",IF(E84>E82,"Redimensionar","Cumple")) -> Cumple | W84: 81 | X84: =W84*$D$15 -> 405 | Y84: =IF((X84)/C$59>5,"",(X84)/$C$59) | Z84: =IF($E$59*IF((X84)/C$59>5,0,IF(Y84<=1,5.60277*Y84^5-16.1238*Y84^4+13.865*Y84^3-3.00293*Y84^2+0.657237*Y84,IF(Y84>=1.8,-0.003218*Y84^5+0.0654895*Y84^4-0.539858*Y84^3+2.26576*Y84^2-4.87709*Y84+4.34827,0.3645833*Y84^6-3.832532*Y84^5+15.78165*Y84^4-31.75999*Y84^3+31.54504*Y84^2-13.92499*Y84+2.825187)))<0,0,E$59*IF((X84)/$C$59>5,0,IF(Y84<=1,5.60277*Y84^5-16.1238*Y84^4+13.865*Y84^3-3.00293*Y84^2+0.657237*Y84,IF(Y84>=1.8,-0.003218*Y84^5+0.0654895*Y84^4-0.539858*Y84^3+2.26576*Y84^2-4.87709*Y84+4.34827,0.3645833*Y84^6-3.832532*Y84^5+15.78165*Y84^4-31.75999*Y84^3+31.54504*Y84^2-13.92499*Y84+2.825187)))) -> 0 | AA84: =IF(X84>MAX($D$19:$D$55),0,I101) -> 0 | AB84: 0 | AC84: =AC83+AB84*5*0.06 -> 211.77589 | AE84: 82 | AF84: =Z84 -> 0 | AG84: =AF83 -> 0 | AH84: =AG83 -> 0 | AI84: =AH83 -> 0 | AJ84: =AI83 -> 0 | AK84: =AJ83 -> 0 | AL84: =AK83 -> 0 | AM84: =AL83 -> 0 | AN84: =AM83 -> 0 | ... HP84: =HO83 -> 0 | HR84: 81 | HS84: =HR84*$D$15 -> 405 | HT84: =IF((HS84)/$C$60>5,"",(HS84)/C$60) | HU84: =IF($E$60*IF((HS84)/$C$60>5,0,IF(HT84<=1,5.60277*HT84^5-16.1238*HT84^4+13.865*HT84^3-3.00293*HT84^2+0.657237*HT84,IF(HT84>=1.8,-0.003218*HT84^5+0.0654895*HT84^4-0.539858*HT84^3+2.26576*HT84^2-4.87709*HT84+4.34827,0.3645833*HT84^6-3.832532*HT84^5+15.78165*HT84^4-31.75999*HT84^3+31.54504*HT84^2-13.92499*HT84+2.825187)))<0,0,E$60*IF((HS84)/$C$60>5,0,IF(HT84<=1,5.60277*HT84^5-16.1238*HT84^4+13.865*HT84^3-3.00293*HT84^2+0.657237*HT84,IF(HT84>=1.8,-0.003218*HT84^5+0.0654895*HT84^4-0.539858*HT84^3+2.26576*HT84^2-4.87709*HT84+4.34827,0.3645833*HT84^6-3.832532*HT84^5+15.78165*HT84^4-31.75999*HT84^3+31.54504*HT84^2-13.92499*HT84+2.825187)))) -> 0 | HV84: =IF(HS84>MAX($D$19:$D$55),0,G101) -> 0 | HW84: =TEXT(HS84/1440,"hh:mm") -> 06:45 | HX84: 0 | HY84: =HY83+HX84*Escenario1!$D$15*0.06 -> 468.72665 | HZ84: =IF(HX84-AB84<=0,0,HX84-AB84) -> 0 | IA84: =IA83+HZ84*Escenario1!$D$15*0.06 -> 258.16396 | IC84: 82 | ID84: =HU84 -> 0 | IE84: =ID83 -> 0 | IF84: =IE83 -> 0 | IG84: =IF83 -> 0 | IH84: =IG83 -> 0 | II84: =IH83 -> 0 | IJ84: =II83 -> 0 | IK84: =IJ83 -> 0 | IL84: =IK83 -> 0 | ... PN84: =PM83 -> 0
A85: Volumen mínimo del tanque (m3) | E85: =MAX(E126:E318) -> 131.2382 | W85: 82 | X85: =W85*$D$15 -> 410 | Y85: =IF((X85)/C$59>5,"",(X85)/$C$59) | Z85: =IF($E$59*IF((X85)/C$59>5,0,IF(Y85<=1,5.60277*Y85^5-16.1238*Y85^4+13.865*Y85^3-3.00293*Y85^2+0.657237*Y85,IF(Y85>=1.8,-0.003218*Y85^5+0.0654895*Y85^4-0.539858*Y85^3+2.26576*Y85^2-4.87709*Y85+4.34827,0.3645833*Y85^6-3.832532*Y85^5+15.78165*Y85^4-31.75999*Y85^3+31.54504*Y85^2-13.92499*Y85+2.825187)))<0,0,E$59*IF((X85)/$C$59>5,0,IF(Y85<=1,5.60277*Y85^5-16.1238*Y85^4+13.865*Y85^3-3.00293*Y85^2+0.657237*Y85,IF(Y85>=1.8,-0.003218*Y85^5+0.0654895*Y85^4-0.539858*Y85^3+2.26576*Y85^2-4.87709*Y85+4.34827,0.3645833*Y85^6-3.832532*Y85^5+15.78165*Y85^4-31.75999*Y85^3+31.54504*Y85^2-13.92499*Y85+2.825187)))) -> 0 | AA85: =IF(X85>MAX($D$19:$D$55),0,I102) -> 0 | AB85: 0 | AC85: =AC84+AB85*5*0.06 -> 211.77589 | AE85: 83 | AF85: =Z85 -> 0 | AG85: =AF84 -> 0 | AH85: =AG84 -> 0 | AI85: =AH84 -> 0 | AJ85: =AI84 -> 0 | AK85: =AJ84 -> 0 | AL85: =AK84 -> 0 | AM85: =AL84 -> 0 | AN85: =AM84 -> 0 | ... HP85: =HO84 -> 0 | HR85: 82 | HS85: =HR85*$D$15 -> 410 | HT85: =IF((HS85)/$C$60>5,"",(HS85)/C$60) | HU85: =IF($E$60*IF((HS85)/$C$60>5,0,IF(HT85<=1,5.60277*HT85^5-16.1238*HT85^4+13.865*HT85^3-3.00293*HT85^2+0.657237*HT85,IF(HT85>=1.8,-0.003218*HT85^5+0.0654895*HT85^4-0.539858*HT85^3+2.26576*HT85^2-4.87709*HT85+4.34827,0.3645833*HT85^6-3.832532*HT85^5+15.78165*HT85^4-31.75999*HT85^3+31.54504*HT85^2-13.92499*HT85+2.825187)))<0,0,E$60*IF((HS85)/$C$60>5,0,IF(HT85<=1,5.60277*HT85^5-16.1238*HT85^4+13.865*HT85^3-3.00293*HT85^2+0.657237*HT85,IF(HT85>=1.8,-0.003218*HT85^5+0.0654895*HT85^4-0.539858*HT85^3+2.26576*HT85^2-4.87709*HT85+4.34827,0.3645833*HT85^6-3.832532*HT85^5+15.78165*HT85^4-31.75999*HT85^3+31.54504*HT85^2-13.92499*HT85+2.825187)))) -> 0 | HV85: =IF(HS85>MAX($D$19:$D$55),0,G102) -> 0 | HW85: =TEXT(HS85/1440,"hh:mm") -> 06:50 | HX85: 0 | HY85: =HY84+HX85*Escenario1!$D$15*0.06 -> 468.72665 | HZ85: =IF(HX85-AB85<=0,0,HX85-AB85) -> 0 | IA85: =IA84+HZ85*Escenario1!$D$15*0.06 -> 258.16396 | IC85: 83 | ID85: =HU85 -> 0 | IE85: =ID84 -> 0 | IF85: =IE84 -> 0 | IG85: =IF84 -> 0 | IH85: =IG84 -> 0 | II85: =IH84 -> 0 | IJ85: =II84 -> 0 | IK85: =IJ84 -> 0 | IL85: =IK84 -> 0 | ... PN85: =PM84 -> 0
A86: Tiempo de vaciado (horas) | E86: =IFERROR(INDEX(A126:A585,MATCH(0,$M$126:$M$585,0),1)/60,"Mas de 38 horas") -> 3.8333333 | W86: 83 | X86: =W86*$D$15 -> 415 | Y86: =IF((X86)/C$59>5,"",(X86)/$C$59) | Z86: =IF($E$59*IF((X86)/C$59>5,0,IF(Y86<=1,5.60277*Y86^5-16.1238*Y86^4+13.865*Y86^3-3.00293*Y86^2+0.657237*Y86,IF(Y86>=1.8,-0.003218*Y86^5+0.0654895*Y86^4-0.539858*Y86^3+2.26576*Y86^2-4.87709*Y86+4.34827,0.3645833*Y86^6-3.832532*Y86^5+15.78165*Y86^4-31.75999*Y86^3+31.54504*Y86^2-13.92499*Y86+2.825187)))<0,0,E$59*IF((X86)/$C$59>5,0,IF(Y86<=1,5.60277*Y86^5-16.1238*Y86^4+13.865*Y86^3-3.00293*Y86^2+0.657237*Y86,IF(Y86>=1.8,-0.003218*Y86^5+0.0654895*Y86^4-0.539858*Y86^3+2.26576*Y86^2-4.87709*Y86+4.34827,0.3645833*Y86^6-3.832532*Y86^5+15.78165*Y86^4-31.75999*Y86^3+31.54504*Y86^2-13.92499*Y86+2.825187)))) -> 0 | AA86: =IF(X86>MAX($D$19:$D$55),0,I103) -> 0 | AB86: 0 | AC86: =AC85+AB86*5*0.06 -> 211.77589 | AE86: 84 | AF86: =Z86 -> 0 | AG86: =AF85 -> 0 | AH86: =AG85 -> 0 | AI86: =AH85 -> 0 | AJ86: =AI85 -> 0 | AK86: =AJ85 -> 0 | AL86: =AK85 -> 0 | AM86: =AL85 -> 0 | AN86: =AM85 -> 0 | ... HP86: =HO85 -> 0 | HR86: 83 | HS86: =HR86*$D$15 -> 415 | HT86: =IF((HS86)/$C$60>5,"",(HS86)/C$60) | HU86: =IF($E$60*IF((HS86)/$C$60>5,0,IF(HT86<=1,5.60277*HT86^5-16.1238*HT86^4+13.865*HT86^3-3.00293*HT86^2+0.657237*HT86,IF(HT86>=1.8,-0.003218*HT86^5+0.0654895*HT86^4-0.539858*HT86^3+2.26576*HT86^2-4.87709*HT86+4.34827,0.3645833*HT86^6-3.832532*HT86^5+15.78165*HT86^4-31.75999*HT86^3+31.54504*HT86^2-13.92499*HT86+2.825187)))<0,0,E$60*IF((HS86)/$C$60>5,0,IF(HT86<=1,5.60277*HT86^5-16.1238*HT86^4+13.865*HT86^3-3.00293*HT86^2+0.657237*HT86,IF(HT86>=1.8,-0.003218*HT86^5+0.0654895*HT86^4-0.539858*HT86^3+2.26576*HT86^2-4.87709*HT86+4.34827,0.3645833*HT86^6-3.832532*HT86^5+15.78165*HT86^4-31.75999*HT86^3+31.54504*HT86^2-13.92499*HT86+2.825187)))) -> 0 | HV86: =IF(HS86>MAX($D$19:$D$55),0,G103) -> 0 | HW86: =TEXT(HS86/1440,"hh:mm") -> 06:55 | HX86: 0 | HY86: =HY85+HX86*Escenario1!$D$15*0.06 -> 468.72665 | HZ86: =IF(HX86-AB86<=0,0,HX86-AB86) -> 0 | IA86: =IA85+HZ86*Escenario1!$D$15*0.06 -> 258.16396 | IC86: 84 | ID86: =HU86 -> 0 | IE86: =ID85 -> 0 | IF86: =IE85 -> 0 | IG86: =IF85 -> 0 | IH86: =IG85 -> 0 | II86: =IH85 -> 0 | IJ86: =II85 -> 0 | IK86: =IJ85 -> 0 | IL86: =IK85 -> 0 | ... PN86: =PM85 -> 0
A87: Caudal máximo del vertedero de excesos (L/s) | E87: =MAX(K126:K585) -> 0 | W87: 84 | X87: =W87*$D$15 -> 420 | Y87: =IF((X87)/C$59>5,"",(X87)/$C$59) | Z87: =IF($E$59*IF((X87)/C$59>5,0,IF(Y87<=1,5.60277*Y87^5-16.1238*Y87^4+13.865*Y87^3-3.00293*Y87^2+0.657237*Y87,IF(Y87>=1.8,-0.003218*Y87^5+0.0654895*Y87^4-0.539858*Y87^3+2.26576*Y87^2-4.87709*Y87+4.34827,0.3645833*Y87^6-3.832532*Y87^5+15.78165*Y87^4-31.75999*Y87^3+31.54504*Y87^2-13.92499*Y87+2.825187)))<0,0,E$59*IF((X87)/$C$59>5,0,IF(Y87<=1,5.60277*Y87^5-16.1238*Y87^4+13.865*Y87^3-3.00293*Y87^2+0.657237*Y87,IF(Y87>=1.8,-0.003218*Y87^5+0.0654895*Y87^4-0.539858*Y87^3+2.26576*Y87^2-4.87709*Y87+4.34827,0.3645833*Y87^6-3.832532*Y87^5+15.78165*Y87^4-31.75999*Y87^3+31.54504*Y87^2-13.92499*Y87+2.825187)))) -> 0 | AA87: =IF(X87>MAX($D$19:$D$55),0,I104) -> 0 | AB87: 0 | AC87: =AC86+AB87*5*0.06 -> 211.77589 | AE87: 85 | AF87: =Z87 -> 0 | AG87: =AF86 -> 0 | AH87: =AG86 -> 0 | AI87: =AH86 -> 0 | AJ87: =AI86 -> 0 | AK87: =AJ86 -> 0 | AL87: =AK86 -> 0 | AM87: =AL86 -> 0 | AN87: =AM86 -> 0 | ... HP87: =HO86 -> 0 | HR87: 84 | HS87: =HR87*$D$15 -> 420 | HT87: =IF((HS87)/$C$60>5,"",(HS87)/C$60) | HU87: =IF($E$60*IF((HS87)/$C$60>5,0,IF(HT87<=1,5.60277*HT87^5-16.1238*HT87^4+13.865*HT87^3-3.00293*HT87^2+0.657237*HT87,IF(HT87>=1.8,-0.003218*HT87^5+0.0654895*HT87^4-0.539858*HT87^3+2.26576*HT87^2-4.87709*HT87+4.34827,0.3645833*HT87^6-3.832532*HT87^5+15.78165*HT87^4-31.75999*HT87^3+31.54504*HT87^2-13.92499*HT87+2.825187)))<0,0,E$60*IF((HS87)/$C$60>5,0,IF(HT87<=1,5.60277*HT87^5-16.1238*HT87^4+13.865*HT87^3-3.00293*HT87^2+0.657237*HT87,IF(HT87>=1.8,-0.003218*HT87^5+0.0654895*HT87^4-0.539858*HT87^3+2.26576*HT87^2-4.87709*HT87+4.34827,0.3645833*HT87^6-3.832532*HT87^5+15.78165*HT87^4-31.75999*HT87^3+31.54504*HT87^2-13.92499*HT87+2.825187)))) -> 0 | HV87: =IF(HS87>MAX($D$19:$D$55),0,G104) -> 0 | HW87: =TEXT(HS87/1440,"hh:mm") -> 07:00 | HX87: 0 | HY87: =HY86+HX87*Escenario1!$D$15*0.06 -> 468.72665 | HZ87: =IF(HX87-AB87<=0,0,HX87-AB87) -> 0 | IA87: =IA86+HZ87*Escenario1!$D$15*0.06 -> 258.16396 | IC87: 85 | ID87: =HU87 -> 0 | IE87: =ID86 -> 0 | IF87: =IE86 -> 0 | IG87: =IF86 -> 0 | IH87: =IG86 -> 0 | II87: =IH86 -> 0 | IJ87: =II86 -> 0 | IK87: =IJ86 -> 0 | IL87: =IK86 -> 0 | ... PN87: =PM86 -> 0
W88: 85 | X88: =W88*$D$15 -> 425 | Y88: =IF((X88)/C$59>5,"",(X88)/$C$59) | Z88: =IF($E$59*IF((X88)/C$59>5,0,IF(Y88<=1,5.60277*Y88^5-16.1238*Y88^4+13.865*Y88^3-3.00293*Y88^2+0.657237*Y88,IF(Y88>=1.8,-0.003218*Y88^5+0.0654895*Y88^4-0.539858*Y88^3+2.26576*Y88^2-4.87709*Y88+4.34827,0.3645833*Y88^6-3.832532*Y88^5+15.78165*Y88^4-31.75999*Y88^3+31.54504*Y88^2-13.92499*Y88+2.825187)))<0,0,E$59*IF((X88)/$C$59>5,0,IF(Y88<=1,5.60277*Y88^5-16.1238*Y88^4+13.865*Y88^3-3.00293*Y88^2+0.657237*Y88,IF(Y88>=1.8,-0.003218*Y88^5+0.0654895*Y88^4-0.539858*Y88^3+2.26576*Y88^2-4.87709*Y88+4.34827,0.3645833*Y88^6-3.832532*Y88^5+15.78165*Y88^4-31.75999*Y88^3+31.54504*Y88^2-13.92499*Y88+2.825187)))) -> 0 | AA88: =IF(X88>MAX($D$19:$D$55),0,I105) -> 0 | AB88: 0 | AC88: =AC87+AB88*5*0.06 -> 211.77589 | AE88: 86 | AF88: =Z88 -> 0 | AG88: =AF87 -> 0 | AH88: =AG87 -> 0 | AI88: =AH87 -> 0 | AJ88: =AI87 -> 0 | AK88: =AJ87 -> 0 | AL88: =AK87 -> 0 | AM88: =AL87 -> 0 | AN88: =AM87 -> 0 | ... HP88: =HO87 -> 0 | HR88: 85 | HS88: =HR88*$D$15 -> 425 | HT88: =IF((HS88)/$C$60>5,"",(HS88)/C$60) | HU88: =IF($E$60*IF((HS88)/$C$60>5,0,IF(HT88<=1,5.60277*HT88^5-16.1238*HT88^4+13.865*HT88^3-3.00293*HT88^2+0.657237*HT88,IF(HT88>=1.8,-0.003218*HT88^5+0.0654895*HT88^4-0.539858*HT88^3+2.26576*HT88^2-4.87709*HT88+4.34827,0.3645833*HT88^6-3.832532*HT88^5+15.78165*HT88^4-31.75999*HT88^3+31.54504*HT88^2-13.92499*HT88+2.825187)))<0,0,E$60*IF((HS88)/$C$60>5,0,IF(HT88<=1,5.60277*HT88^5-16.1238*HT88^4+13.865*HT88^3-3.00293*HT88^2+0.657237*HT88,IF(HT88>=1.8,-0.003218*HT88^5+0.0654895*HT88^4-0.539858*HT88^3+2.26576*HT88^2-4.87709*HT88+4.34827,0.3645833*HT88^6-3.832532*HT88^5+15.78165*HT88^4-31.75999*HT88^3+31.54504*HT88^2-13.92499*HT88+2.825187)))) -> 0 | HV88: =IF(HS88>MAX($D$19:$D$55),0,G105) -> 0 | HW88: =TEXT(HS88/1440,"hh:mm") -> 07:05 | HX88: 0 | HY88: =HY87+HX88*Escenario1!$D$15*0.06 -> 468.72665 | HZ88: =IF(HX88-AB88<=0,0,HX88-AB88) -> 0 | IA88: =IA87+HZ88*Escenario1!$D$15*0.06 -> 258.16396 | IC88: 86 | ID88: =HU88 -> 0 | IE88: =ID87 -> 0 | IF88: =IE87 -> 0 | IG88: =IF87 -> 0 | IH88: =IG87 -> 0 | II88: =IH87 -> 0 | IJ88: =II87 -> 0 | IK88: =IJ87 -> 0 | IL88: =IK87 -> 0 | ... PN88: =PM87 -> 0
