Workbook

Sheet Escenario1
A1: Cálculo del hidrograma de una creciente con el método SCS | W1: Convolución condición natural | AF1: 1 | AG1: 2 | AH1: 3 | AI1: 4 | AJ1: 5 | AK1: 6 | AL1: 7 | AM1: 8 | AN1: 9 | AO1: 10 | AP1: 11 | AQ1: 12 | AR1: 13 | AS1: 14 | AT1: 15 | AU1: 16 | AV1: 17 | AW1: 18 | AX1: 19 | AY1: 20 | AZ1: 21 | BA1: 22 | BB1: 23 | BC1: 24 | BD1: 25 | BE1: 26 | BF1: 27 | BG1: 28 | BH1: 29 | BI1: 30 | BJ1: 31 | BK1: 32 | BL1: 33 | BM1: 34 | BN1: 35 | BO1: 36 | BP1: 37 | BQ1: 38 | BR1: 39 | BS1: 40 | BT1: 41 | BU1: 42 | BV1: 43 | BW1: 44 | BX1: 45 | BY1: 46 | BZ1: 47 | CA1: 48 | CB1: 49 | CC1: 50 | CD1: 51 | CE1: 52 | CF1: 53 | CG1: 54 | CH1: 55 | CI1: 56 | CJ1: 57 | CK1: 58 | CL1: 59 | CM1: 60 | CN1: 61 | CO1: 62 | CP1: 63 | CQ1: 64 | CR1: 65 | CS1: 66 | CT1: 67 | CU1: 68 | CV1: 69 | CW1: 70 | CX1: 71 | CY1: 72 | CZ1: 73 | DA1: 74 | DB1: 75 | DC1: 76 | DD1: 77 | DE1: 78 | DF1: 79 | DG1: 80 | DH1: 81 | DI1: 82 | DJ1: 83 | DK1: 84 | DL1: 85 | DM1: 86 | DN1: 87 | DO1: 88 | DP1: 89 | DQ1: 90 | DR1: 91 | DS1: 92 | DT1: 93 | DU1: 94 | DV1: 95 | DW1: 96 | DX1: 97 | DY1: 98 | DZ1: 99 | EA1: 100 | EB1: 101 | EC1: 102 | ED1: 103 | EE1: 104 | EF1: 105 | EG1: 106 | EH1: 107 | EI1: 108 | EJ1: 109 | EK1: 110 | EL1: 111 | EM1: 112 | EN1: 113 | EO1: 114 | EP1: 115 | EQ1: 116 | ER1: 117 | ES1: 118 | ET1: 119 | EU1: 120 | EV1: 121 | EW1: 122 | EX1: 123 | EY1: 124 | EZ1: 125 | FA1: 126 | FB1: 127 | FC1: 128 | FD1: 129 | FE1: 130 | FF1: 131 | FG1: 132 | FH1: 133 | FI1: 134 | FJ1: 135 | FK1: 136 | FL1: 137 | FM1: 138 | FN1: 139 | FO1: 140 | FP1: 141 | FQ1: 142 | FR1: 143 | FS1: 144 | FT1: 145 | FU1: 146 | FV1: 147 | FW1: 148 | FX1: 149 | FY1: 150 | FZ1: 151 | GA1: 152 | GB1: 153 | GC1: 154 | GD1: 155 | GE1: 156 | GF1: 157 | GG1: 158 | GH1: 159 | GI1: 160 | GJ1: 161 | GK1: 162 | GL1: 163 | GM1: 164 | GN1: 165 | GO1: 166 | GP1: 167 | GQ1: 168 | GR1: 169 | GS1: 170 | GT1: 171 | GU1: 172 | GV1: 173 | GW1: 174 | GX1: 175 | GY1: 176 | GZ1: 177 | HA1: 178 | HB1: 179 | HC1: 180 | HD1: 181 | HE1: 182 | HF1: 183 | HG1: 184 | HH1: 185 | HI1: 186 | HJ1: 187 | HK1: 188 | HL1: 189 | HM1: 190 | HN1: 191 | HO1: 192 | HP1: 193 | HR1: Convolución condición urbanizado | ID1: 1 | IE1: 2 | IF1: 3 | IG1: 4 | IH1: 5 | II1: 6 | IJ1: 7 | IK1: 8 | IL1: 9 | IM1: 10 | IN1: 11 | IO1: 12 | IP1: 13 | IQ1: 14 | IR1: 15 | IS1: 16 | IT1: 17 | IU1: 18 | IV1: 19 | IW1: 20 | IX1: 21 | IY1: 22 | IZ1: 23 | JA1: 24 | JB1: 25 | JC1: 26 | JD1: 27 | JE1: 28 | JF1: 29 | JG1: 30 | JH1: 31 | JI1: 32 | JJ1: 33 | JK1: 34 | JL1: 35 | JM1: 36 | JN1: 37 | JO1: 38 | JP1: 39 | JQ1: 40 | JR1: 41 | JS1: 42 | JT1: 43 | JU1: 44 | JV1: 45 | JW1: 46 | JX1: 47 | JY1: 48 | JZ1: 49 | KA1: 50 | KB1: 51 | KC1: 52 | KD1: 53 | KE1: 54 | KF1: 55 | KG1: 56 | KH1: 57 | KI1: 58 | KJ1: 59 | KK1: 60 | KL1: 61 | KM1: 62 | KN1: 63 | KO1: 64 | KP1: 65 | KQ1: 66 | KR1: 67 | KS1: 68 | KT1: 69 | KU1: 70 | KV1: 71 | KW1: 72 | KX1: 73 | KY1: 74 | KZ1: 75 | LA1: 76 | LB1: 77 | LC1: 78 | LD1: 79 | LE1: 80 | LF1: 81 | LG1: 82 | LH1: 83 | LI1: 84 | LJ1: 85 | LK1: 86 | LL1: 87 | LM1: 88 | LN1: 89 | LO1: 90 | LP1: 91 | LQ1: 92 | LR1: 93 | LS1: 94 | LT1: 95 | LU1: 96 | LV1: 97 | LW1: 98 | LX1: 99 | LY1: 100 | LZ1: 101 | MA1: 102 | MB1: 103 | MC1: 104 | MD1: 105 | ME1: 106 | MF1: 107 | MG1: 108 | MH1: 109 | MI1: 110 | MJ1: 111 | MK1: 112 | ML1: 113 | MM1: 114 | MN1: 115 | MO1: 116 | MP1: 117 | MQ1: 118 | MR1: 119 | MS1: 120 | MT1: 121 | MU1: 122 | MV1: 123 | MW1: 124 | MX1: 125 | MY1: 126 | MZ1: 127 | NA1: 128 | NB1: 129 | NC1: 130 | ND1: 131 | NE1: 132 | NF1: 133 | NG1: 134 | NH1: 135 | NI1: 136 | NJ1: 137 | NK1: 138 | NL1: 139 | NM1: 140 | NN1: 141 | NO1: 142 | NP1: 143 | NQ1: 144 | NR1: 145 | NS1: 146 | NT1: 147 | NU1: 148 | NV1: 149 | NW1: 150 | NX1: 151 | NY1: 152 | NZ1: 153 | OA1: 154 | OB1: 155 | OC1: 156 | OD1: 157 | OE1: 158 | OF1: 159 | OG1: 160 | OH1: 161 | OI1: 162 | OJ1: 163 | OK1: 164 | OL1: 165 | OM1: 166 | ON1: 167 | OO1: 168 | OP1: 169 | OQ1: 170 | OR1: 171 | OS1: 172 | OT1: 173 | OU1: 174 | OV1: 175 | OW1: 176 | OX1: 177 | OY1: 178 | OZ1: 179 | PA1: 180 | PB1: 181 | PC1: 182 | PD1: 183 | PE1: 184 | PF1: 185 | PG1: 186 | PH1: 187 | PI1: 188 | PJ1: 189 | PK1: 190 | PL1: 191 | PM1: 192 | PN1: 193
A2: 1. Áreas tributarias de la condición urbanizada | G2: 2. Condición natural (Pre urbano ) | W2: =+Escenario1!A18 -> No. | X2: Tiempo (min) | Y2: T/Tp | Z2: Q/Qp | AA2: =+Escenario1!G18 -> Pe (mm) | AB2: Q (L/s) | AC2: Vol (m3) | AF2: =AF1*5 -> 5 | AG2: =AG1*5 -> 10 | AH2: =AH1*5 -> 15 | AI2: =AI1*5 -> 20 | AJ2: =AJ1*5 -> 25 | AK2: =AK1*5 -> 30 | AL2: =AL1*5 -> 35 | AM2: =AM1*5 -> 40 | ... HP2: =HP1*5 -> 965 | HR2: =+Escenario1!A18 -> No. | HS2: Tiempo (min) | HT2: T/Tp | HU2: Q/Qp | HV2: =+Escenario1!G18 -> Pe (mm) | HW2: H:MM | HX2: Q (L/s) | HY2: Vol (m3) | HZ2: Qurb-Qnat | IA2: Vol Alm | ID2: =ID1*5 -> 5 | IE2: =IE1*5 -> 10 | IF2: =IF1*5 -> 15 | IG2: =IG1*5 -> 20 | IH2: =IH1*5 -> 25 | II2: =II1*5 -> 30 | IJ2: =IJ1*5 -> 35 | IK2: =IK1*5 -> 40 | ... PN2: =PN1*5 -> 965
A3: Nombre del área | B3: Área (ha) | C3: CN-II | D3: Área (%) | E3: CN-III | G3: Número de curva CN-II | H3: Número de curva CN-III | W3: 0 | X3: =W3*$D$15 -> 0 | Y3: =IF((X3)/C$59>5,"",(X3)/$C$59) -> 0 | Z3: =IF($E$59*IF((X3)/C$59>5,0,IF(Y3<=1,5.60277*Y3^5-16.1238*Y3^4+13.865*Y3^3-3.00293*Y3^2+0.657237*Y3,IF(Y3>=1.8,-0.003218*Y3^5+0.0654895*Y3^4-0.539858*Y3^3+2.26576*Y3^2-4.87709*Y3+4.34827,0.3645833*Y3^6-3.832532*Y3^5+15.78165*Y3^4-31.75999*Y3^3+31.54504*Y3^2-13.92499*Y3+2.825187)))<0,0,E$59*IF((X3)/$C$59>5,0,IF(Y3<=1,5.60277*Y3^5-16.1238*Y3^4+13.865*Y3^3-3.00293*Y3^2+0.657237*Y3,IF(Y3>=1.8,-0.003218*Y3^5+0.0654895*Y3^4-0.539858*Y3^3+2.26576*Y3^2-4.87709*Y3+4.34827,0.3645833*Y3^6-3.832532*Y3^5+15.78165*Y3^4-31.75999*Y3^3+31.54504*Y3^2-13.92499*Y3+2.825187)))) -> 0 | AA3: =IF(X3>MAX($D$19:$D$55),0,I19) -> 0 | AB3: {=1000*MMULT(AF3:HP195,AA3:AA195)} -> 0 | AC3: 0 | AE3: 1 | AF3: =Z3 -> 0 | AG3: 0 | AH3: 0 | AI3: 0 | AJ3: 0 | AK3: 0 | AL3: 0 | AM3: 0 | AN3: 0 | AO3: 0 | AP3: 0 | AQ3: 0 | AR3: 0 | AS3: 0 | AT3: 0 | AU3: 0 | AV3: 0 | AW3: 0 | AX3: 0 | AY3: 0 | AZ3: 0 | BA3: 0 | BB3: 0 | BC3: 0 | BD3: 0 | BE3: 0 | BF3: 0 | BG3: 0 | BH3: 0 | BI3: 0 | BJ3: 0 | BK3: 0 | BL3: 0 | BM3: 0 | BN3: 0 | BO3: 0 | BP3: 0 | BQ3: 0 | BR3: 0 | BS3: 0 | BT3: 0 | BU3: 0 | BV3: 0 | BW3: 0 | BX3: 0 | BY3: 0 | BZ3: 0 | CA3: 0 | CB3: 0 | CC3: 0 | CD3: 0 | CE3: 0 | CF3: 0 | CG3: 0 | CH3: 0 | CI3: 0 | CJ3: 0 | CK3: 0 | CL3: 0 | CM3: 0 | CN3: 0 | CO3: 0 | CP3: 0 | CQ3: 0 | CR3: 0 | CS3: 0 | CT3: 0 | CU3: 0 | CV3: 0 | CW3: 0 | CX3: 0 | CY3: 0 | CZ3: 0 | DA3: 0 | DB3: 0 | DC3: 0 | DD3: 0 | DE3: 0 | DF3: 0 | DG3: 0 | DH3: 0 | DI3: 0 | DJ3: 0 | DK3: 0 | DL3: 0 | DM3: 0 | DN3: 0 | DO3: 0 | DP3: 0 | DQ3: 0 | DR3: 0 | DS3: 0 | DT3: 0 | DU3: 0 | DV3: 0 | DW3: 0 | DX3: 0 | DY3: 0 | DZ3: 0 | EA3: 0 | EB3: 0 | EC3: 0 | ED3: 0 | EE3: 0 | EF3: 0 | EG3: 0 | EH3: 0 | EI3: 0 | EJ3: 0 | EK3: 0 | EL3: 0 | EM3: 0 | EN3: 0 | EO3: 0 | EP3: 0 | EQ3: 0 | ER3: 0 | ES3: 0 | ET3: 0 | EU3: 0 | EV3: 0 | EW3: 0 | EX3: 0 | EY3: 0 | EZ3: 0 | FA3: 0 | FB3: 0 | FC3: 0 | FD3: 0 | FE3: 0 | FF3: 0 | FG3: 0 | FH3: 0 | FI3: 0 | FJ3: 0 | FK3: 0 | FL3: 0 | FM3: 0 | FN3: 0 | FO3: 0 | FP3: 0 | FQ3: 0 | FR3: 0 | FS3: 0 | FT3: 0 | FU3: 0 | FV3: 0 | FW3: 0 | FX3: 0 | FY3: 0 | FZ3: 0 | GA3: 0 | GB3: 0 | GC3: 0 | GD3: 0 | GE3: 0 | GF3: 0 | GG3: 0 | GH3: 0 | GI3: 0 | GJ3: 0 | GK3: 0 | GL3: 0 | GM3: 0 | GN3: 0 | GO3: 0 | GP3: 0 | GQ3: 0 | GR3: 0 | GS3: 0 | GT3: 0 | GU3: 0 | GV3: 0 | GW3: 0 | GX3: 0 | GY3: 0 | GZ3: 0 | HA3: 0 | HB3: 0 | HC3: 0 | HD3: 0 | HE3: 0 | HF3: 0 | HG3: 0 | HH3: 0 | HI3: 0 | HJ3: 0 | HK3: 0 | HL3: 0 | HM3: 0 | HN3: 0 | HO3: 0 | HP3: 0 | HR3: 0 | HS3: =HR3*$D$15 -> 0 | HT3: =IF((HS3)/$C$60>5,"",(HS3)/C$60) -> 0 | HU3: =IF($E$60*IF((HS3)/$C$60>5,0,IF(HT3<=1,5.60277*HT3^5-16.1238*HT3^4+13.865*HT3^3-3.00293*HT3^2+0.657237*HT3,IF(HT3>=1.8,-0.003218*HT3^5+0.0654895*HT3^4-0.539858*HT3^3+2.26576*HT3^2-4.87709*HT3+4.34827,0.3645833*HT3^6-3.832532*HT3^5+15.78165*HT3^4-31.75999*HT3^3+31.54504*HT3^2-13.92499*HT3+2.825187)))<0,0,E$60*IF((HS3)/$C$60>5,0,IF(HT3<=1,5.60277*HT3^5-16.1238*HT3^4+13.865*HT3^3-3.00293*HT3^2+0.657237*HT3,IF(HT3>=1.8,-0.003218*HT3^5+0.0654895*HT3^4-0.539858*HT3^3+2.26576*HT3^2-4.87709*HT3+4.34827,0.3645833*HT3^6-3.832532*HT3^5+15.78165*HT3^4-31.75999*HT3^3+31.54504*HT3^2-13.92499*HT3+2.825187)))) -> 0 | HV3: =IF(HS3>MAX($D$19:$D$55),0,G19) -> 0 | HW3: =TEXT(HS3/1440,"hh:mm") -> 00:00 | HX3: {=1000*MMULT(ID3:PN195,HV3:HV195)} -> 0 | HY3: 0 | HZ3: =IF(HX3-AB3<=0,0,HX3-AB3) -> 0 | IA3: 0 | IC3: 1 | ID3: =HU3 -> 0 | IE3: 0 | IF3: 0 | IG3: 0 | IH3: 0 | II3: 0 | IJ3: 0 | IK3: 0 | IL3: 0 | IM3: 0 | IN3: 0 | IO3: 0 | IP3: 0 | IQ3: 0 | IR3: 0 | IS3: 0 | IT3: 0 | IU3: 0 | IV3: 0 | IW3: 0 | IX3: 0 | IY3: 0 | IZ3: 0 | JA3: 0 | JB3: 0 | JC3: 0 | JD3: 0 | JE3: 0 | JF3: 0 | JG3: 0 | JH3: 0 | JI3: 0 | JJ3: 0 | JK3: 0 | JL3: 0 | JM3: 0 | JN3: 0 | JO3: 0 | JP3: 0 | JQ3: 0 | JR3: 0 | JS3: 0 | JT3: 0 | JU3: 0 | JV3: 0 | JW3: 0 | JX3: 0 | JY3: 0 | JZ3: 0 | KA3: 0 | KB3: 0 | KC3: 0 | KD3: 0 | KE3: 0 | KF3: 0 | KG3: 0 | KH3: 0 | KI3: 0 | KJ3: 0 | KK3: 0 | KL3: 0 | KM3: 0 | KN3: 0 | KO3: 0 | KP3: 0 | KQ3: 0 | KR3: 0 | KS3: 0 | KT3: 0 | KU3: 0 | KV3: 0 | KW3: 0 | KX3: 0 | KY3: 0 | KZ3: 0 | LA3: 0 | LB3: 0 | LC3: 0 | LD3: 0 | LE3: 0 | LF3: 0 | LG3: 0 | LH3: 0 | LI3: 0 | LJ3: 0 | LK3: 0 | LL3: 0 | LM3: 0 | LN3: 0 | LO3: 0 | LP3: 0 | LQ3: 0 | LR3: 0 | LS3: 0 | LT3: 0 | LU3: 0 | LV3: 0 | LW3: 0 | LX3: 0 | LY3: 0 | LZ3: 0 | MA3: 0 | MB3: 0 | MC3: 0 | MD3: 0 | ME3: 0 | MF3: 0 | MG3: 0 | MH3: 0 | MI3: 0 | MJ3: 0 | MK3: 0 | ML3: 0 | MM3: 0 | MN3: 0 | MO3: 0 | MP3: 0 | MQ3: 0 | MR3: 0 | MS3: 0 | MT3: 0 | MU3: 0 | MV3: 0 | MW3: 0 | MX3: 0 | MY3: 0 | MZ3: 0 | NA3: 0 | NB3: 0 | NC3: 0 | ND3: 0 | NE3: 0 | NF3: 0 | NG3: 0 | NH3: 0 | NI3: 0 | NJ3: 0 | NK3: 0 | NL3: 0 | NM3: 0 | NN3: 0 | NO3: 0 | NP3: 0 | NQ3: 0 | NR3: 0 | NS3: 0 | NT3: 0 | NU3: 0 | NV3: 0 | NW3: 0 | NX3: 0 | NY3: 0 | NZ3: 0 | OA3: 0 | OB3: 0 | OC3: 0 | OD3: 0 | OE3: 0 | OF3: 0 | OG3: 0 | OH3: 0 | OI3: 0 | OJ3: 0 | OK3: 0 | OL3: 0 | OM3: 0 | ON3: 0 | OO3: 0 | OP3: 0 | OQ3: 0 | OR3: 0 | OS3: 0 | OT3: 0 | OU3: 0 | OV3: 0 | OW3: 0 | OX3: 0 | OY3: 0 | OZ3: 0 | PA3: 0 | PB3: 0 | PC3: 0 | PD3: 0 | PE3: 0 | PF3: 0 | PG3: 0 | PH3: 0 | PI3: 0 | PJ3: 0 | PK3: 0 | PL3: 0 | PM3: 0 | PN3: 0
A4: Impermeable | B4: 1 | C4: 98 | D4: =B4*100/$B$6 -> 100 | E4: =ROUND(C4/(0.43+0.0057*C4),1) -> 99.1 | G4: 86 | H4: =G4/(0.43+0.0057*G4) -> 93.457944 | W4: 1 | X4: =W4*$D$15 -> 5 | Y4: =IF((X4)/C$59>5,"",(X4)/$C$59) -> 0.23969214 | Z4: =IF($E$59*IF((X4)/C$59>5,0,IF(Y4<=1,5.60277*Y4^5-16.1238*Y4^4+13.865*Y4^3-3.00293*Y4^2+0.657237*Y4,IF(Y4>=1.8,-0.003218*Y4^5+0.0654895*Y4^4-0.539858*Y4^3+2.26576*Y4^2-4.87709*Y4+4.34827,0.3645833*Y4^6-3.832532*Y4^5+15.78165*Y4^4-31.75999*Y4^3+31.54504*Y4^2-13.92499*Y4+2.825187)))<0,0,E$59*IF((X4)/$C$59>5,0,IF(Y4<=1,5.60277*Y4^5-16.1238*Y4^4+13.865*Y4^3-3.00293*Y4^2+0.657237*Y4,IF(Y4>=1.8,-0.003218*Y4^5+0.0654895*Y4^4-0.539858*Y4^3+2.26576*Y4^2-4.87709*Y4+4.34827,0.3645833*Y4^6-3.832532*Y4^5+15.78165*Y4^4-31.75999*Y4^3+31.54504*Y4^2-13.92499*Y4+2.825187)))) -> 0.00076072713 | AA4: =IF(X4>MAX($D$19:$D$55),0,I20) -> 3.32025 | AB4: 0 | AC4: =AC3+AB4*5*0.06 -> 0 | AE4: 2 | AF4: =Z4 -> 0.00076072713 | AG4: =AF3 -> 0 | AH4: =AG3 -> 0 | AI4: =AH3 -> 0 | AJ4: =AI3 -> 0 | AK4: =AJ3 -> 0 | AL4: =AK3 -> 0 | AM4: =AL3 -> 0 | AN4: =AM3 -> 0 | ... HP4: =HO3 -> 0 | HR4: 1 | HS4: =HR4*$D$15 -> 5 | HT4: =IF((HS4)/$C$60>5,"",(HS4)/C$60) -> 0.52144943 | HU4: =IF($E$60*IF((HS4)/$C$60>5,0,IF(HT4<=1,5.60277*HT4^5-16.1238*HT4^4+13.865*HT4^3-3.00293*HT4^2+0.657237*HT4,IF(HT4>=1.8,-0.003218*HT4^5+0.0654895*HT4^4-0.539858*HT4^3+2.26576*HT4^2-4.87709*HT4+4.34827,0.3645833*HT4^6-3.832532*HT4^5+15.78165*HT4^4-31.75999*HT4^3+31.54504*HT4^2-13.92499*HT4+2.825187)))<0,0,E$60*IF((HS4)/$C$60>5,0,IF(HT4<=1,5.60277*HT4^5-16.1238*HT4^4+13.865*HT4^3-3.00293*HT4^2+0.657237*HT4,IF(HT4>=1.8,-0.003218*HT4^5+0.0654895*HT4^4-0.539858*HT4^3+2.26576*HT4^2-4.87709*HT4+4.34827,0.3645833*HT4^6-3.832532*HT4^5+15.78165*HT4^4-31.75999*HT4^3+31.54504*HT4^2-13.92499*HT4+2.825187)))) -> 0.006715461 | HV4: =IF(HS4>MAX($D$19:$D$55),0,G20) -> 4.6919493 | HW4: =TEXT(HS4/1440,"hh:mm") -> 00:05 | HX4: 0 | HY4: =HY3+HX4*Escenario1!$D$15*0.06 -> 0 | HZ4: =IF(HX4-AB4<=0,0,HX4-AB4) -> 0 | IA4: =IA3+HZ4*Escenario1!$D$15*0.06 -> 0 | IC4: 2 | ID4: =HU4 -> 0.006715461 | IE4: =ID3 -> 0 | IF4: =IE3 -> 0 | IG4: =IF3 -> 0 | IH4: =IG3 -> 0 | II4: =IH3 -> 0 | IJ4: =II3 -> 0 | IK4: =IJ3 -> 0 | IL4: =IK3 -> 0 | ... PN4: =PM3 -> 0
A5: Permeable | B5: 0 | C5: 86 | D5: =B5*100/$B$6 -> 0 | E5: =ROUND(C5/(0.43+0.0057*C5),1) -> 93.5 | W5: 2 | X5: =W5*$D$15 -> 10 | Y5: =IF((X5)/C$59>5,"",(X5)/$C$59) -> 0.47938428 | Z5: =IF($E$59*IF((X5)/C$59>5,0,IF(Y5<=1,5.60277*Y5^5-16.1238*Y5^4+13.865*Y5^3-3.00293*Y5^2+0.657237*Y5,IF(Y5>=1.8,-0.003218*Y5^5+0.0654895*Y5^4-0.539858*Y5^3+2.26576*Y5^2-4.87709*Y5+4.34827,0.3645833*Y5^6-3.832532*Y5^5+15.78165*Y5^4-31.75999*Y5^3+31.54504*Y5^2-13.92499*Y5+2.825187)))<0,0,E$59*IF((X5)/$C$59>5,0,IF(Y5<=1,5.60277*Y5^5-16.1238*Y5^4+13.865*Y5^3-3.00293*Y5^2+0.657237*Y5,IF(Y5>=1.8,-0.003218*Y5^5+0.0654895*Y5^4-0.539858*Y5^3+2.26576*Y5^2-4.87709*Y5+4.34827,0.3645833*Y5^6-3.832532*Y5^5+15.78165*Y5^4-31.75999*Y5^3+31.54504*Y5^2-13.92499*Y5+2.825187)))) -> 0.0026488187 | AA5: =IF(X5>MAX($D$19:$D$55),0,I21) -> 2.771303 | AB5: 2.5258042 | AC5: =AC4+AB5*5*0.06 -> 0.75774127 | AE5: 3 | AF5: =Z5 -> 0.0026488187 | AG5: =AF4 -> 0.00076072713 | AH5: =AG4 -> 0 | AI5: =AH4 -> 0 | AJ5: =AI4 -> 0 | AK5: =AJ4 -> 0 | AL5: =AK4 -> 0 | AM5: =AL4 -> 0 | AN5: =AM4 -> 0 | ... HP5: =HO4 -> 0 | HR5: 2 | HS5: =HR5*$D$15 -> 10 | HT5: =IF((HS5)/$C$60>5,"",(HS5)/C$60) -> 1.0428989 | HU5: =IF($E$60*IF((HS5)/$C$60>5,0,IF(HT5<=1,5.60277*HT5^5-16.1238*HT5^4+13.865*HT5^3-3.00293*HT5^2+0.657237*HT5,IF(HT5>=1.8,-0.003218*HT5^5+0.0654895*HT5^4-0.539858*HT5^3+2.26576*HT5^2-4.87709*HT5+4.34827,0.3645833*HT5^6-3.832532*HT5^5+15.78165*HT5^4-31.75999*HT5^3+31.54504*HT5^2-13.92499*HT5+2.825187)))<0,0,E$60*IF((HS5)/$C$60>5,0,IF(HT5<=1,5.60277*HT5^5-16.1238*HT5^4+13.865*HT5^3-3.00293*HT5^2+0.657237*HT5,IF(HT5>=1.8,-0.003218*HT5^5+0.0654895*HT5^4-0.539858*HT5^3+2.26576*HT5^2-4.87709*HT5+4.34827,0.3645833*HT5^6-3.832532*HT5^5+15.78165*HT5^4-31.75999*HT5^3+31.54504*HT5^2-13.92499*HT5+2.825187)))) -> 0.012976986 | HV5: =IF(HS5>MAX($D$19:$D$55),0,G21) -> 4.0929092 | HW5: =TEXT(HS5/1440,"hh:mm") -> 00:10 | HX5: 31.508602 | HY5: =HY4+HX5*Escenario1!$D$15*0.06 -> 9.4525807 | HZ5: =IF(HX5-AB5<=0,0,HX5-AB5) -> 28.982798 | IA5: =IA4+HZ5*Escenario1!$D$15*0.06 -> 8.6948394 | IC5: 3 | ID5: =HU5 -> 0.012976986 | IE5: =ID4 -> 0.006715461 | IF5: =IE4 -> 0 | IG5: =IF4 -> 0 | IH5: =IG4 -> 0 | II5: =IH4 -> 0 | IJ5: =II4 -> 0 | IK5: =IJ4 -> 0 | IL5: =IK4 -> 0 | ... PN5: =PM4 -> 0
A6: Total | B6: =SUM(B4:B5) -> 1 | C6: =ROUND(SUMPRODUCT(D4:D5,C4:C5)/100,1) -> 98 | D6: =SUM(D4:D5) -> 100 | E6: =ROUND(SUMPRODUCT(D4:D5,E4:E5)/100,1) -> 99.1 | W6: 3 | X6: =W6*$D$15 -> 15 | Y6: =IF((X6)/C$59>5,"",(X6)/$C$59) -> 0.71907643 | Z6: =IF($E$59*IF((X6)/C$59>5,0,IF(Y6<=1,5.60277*Y6^5-16.1238*Y6^4+13.865*Y6^3-3.00293*Y6^2+0.657237*Y6,IF(Y6>=1.8,-0.003218*Y6^5+0.0654895*Y6^4-0.539858*Y6^3+2.26576*Y6^2-4.87709*Y6+4.34827,0.3645833*Y6^6-3.832532*Y6^5+15.78165*Y6^4-31.75999*Y6^3+31.54504*Y6^2-13.92499*Y6+2.825187)))<0,0,E$59*IF((X6)/$C$59>5,0,IF(Y6<=1,5.60277*Y6^5-16.1238*Y6^4+13.865*Y6^3-3.00293*Y6^2+0.657237*Y6,IF(Y6>=1.8,-0.003218*Y6^5+0.0654895*Y6^4-0.539858*Y6^3+2.26576*Y6^2-4.87709*Y6+4.34827,0.3645833*Y6^6-3.832532*Y6^5+15.78165*Y6^4-31.75999*Y6^3+31.54504*Y6^2-13.92499*Y6+2.825187)))) -> 0.0050334268 | AA6: =IF(X6>MAX($D$19:$D$55),0,I22) -> 2.3043463 | AB6: 10.902946 | AC6: =AC5+AB6*5*0.06 -> 4.028625 | AE6: 4 | AF6: =Z6 -> 0.0050334268 | AG6: =AF5 -> 0.0026488187 | AH6: =AG5 -> 0.00076072713 | AI6: =AH5 -> 0 | AJ6: =AI5 -> 0 | AK6: =AJ5 -> 0 | AL6: =AK5 -> 0 | AM6: =AL5 -> 0 | AN6: =AM5 -> 0 | ... HP6: =HO5 -> 0 | HR6: 3 | HS6: =HR6*$D$15 -> 15 | HT6: =IF((HS6)/$C$60>5,"",(HS6)/C$60) -> 1.5643483 | HU6: =IF($E$60*IF((HS6)/$C$60>5,0,IF(HT6<=1,5.60277*HT6^5-16.1238*HT6^4+13.865*HT6^3-3.00293*HT6^2+0.657237*HT6,IF(HT6>=1.8,-0.003218*HT6^5+0.0654895*HT6^4-0.539858*HT6^3+2.26576*HT6^2-4.87709*HT6+4.34827,0.3645833*HT6^6-3.832532*HT6^5+15.78165*HT6^4-31.75999*HT6^3+31.54504*HT6^2-13.92499*HT6+2.825187)))<0,0,E$60*IF((HS6)/$C$60>5,0,IF(HT6<=1,5.60277*HT6^5-16.1238*HT6^4+13.865*HT6^3-3.00293*HT6^2+0.657237*HT6,IF(HT6>=1.8,-0.003218*HT6^5+0.0654895*HT6^4-0.539858*HT6^3+2.26576*HT6^2-4.87709*HT6+4.34827,0.3645833*HT6^6-3.832532*HT6^5+15.78165*HT6^4-31.75999*HT6^3+31.54504*HT6^2-13.92499*HT6+2.825187)))) -> 0.007850434 | HV6: =IF(HS6>MAX($D$19:$D$55),0,G22) -> 3.5732776 | HW6: =TEXT(HS6/1440,"hh:mm") -> 00:15 | HX6: 88.373132 | HY6: =HY5+HX6*Escenario1!$D$15*0.06 -> 35.96452 | HZ6: =IF(HX6-AB6<=0,0,HX6-AB6) -> 77.470186 | IA6: =IA5+HZ6*Escenario1!$D$15*0.06 -> 31.935895 | IC6: 4 | ID6: =HU6 -> 0.007850434 | IE6: =ID5 -> 0.012976986 | IF6: =IE5 -> 0.006715461 | IG6: =IF5 -> 0 | IH6: =IG5 -> 0 | II6: =IH5 -> 0 | IJ6: =II5 -> 0 | IK6: =IJ5 -> 0 | IL6: =IK5 -> 0 | ... PN6: =PM5 -> 0
W7: 4 | X7: =W7*$D$15 -> 20 | Y7: =IF((X7)/C$59>5,"",(X7)/$C$59) -> 0.95876857 | Z7: =IF($E$59*IF((X7)/C$59>5,0,IF(Y7<=1,5.60277*Y7^5-16.1238*Y7^4+13.865*Y7^3-3.00293*Y7^2+0.657237*Y7,IF(Y7>=1.8,-0.003218*Y7^5+0.0654895*Y7^4-0.539858*Y7^3+2.26576*Y7^2-4.87709*Y7+4.34827,0.3645833*Y7^6-3.832532*Y7^5+15.78165*Y7^4-31.75999*Y7^3+31.54504*Y7^2-13.92499*Y7+2.825187)))<0,0,E$59*IF((X7)/$C$59>5,0,IF(Y7<=1,5.60277*Y7^5-16.1238*Y7^4+13.865*Y7^3-3.00293*Y7^2+0.657237*Y7,IF(Y7>=1.8,-0.003218*Y7^5+0.0654895*Y7^4-0.539858*Y7^3+2.26576*Y7^2-4.87709*Y7+4.34827,0.3645833*Y7^6-3.832532*Y7^5+15.78165*Y7^4-31.75999*Y7^3+31.54504*Y7^2-13.92499*Y7+2.825187)))) -> 0.006006715 | AA7: =IF(X7>MAX($D$19:$D$55),0,I23) -> 1.9106955 | AB7: 25.805893 | AC7: =AC6+AB7*5*0.06 -> 11.770393 | AE7: 5 | AF7: =Z7 -> 0.006006715 | AG7: =AF6 -> 0.0050334268 | AH7: =AG6 -> 0.0026488187 | AI7: =AH6 -> 0.00076072713 | AJ7: =AI6 -> 0 | AK7: =AJ6 -> 0 | AL7: =AK6 -> 0 | AM7: =AL6 -> 0 | AN7: =AM6 -> 0 | ... HP7: =HO6 -> 0 | HR7: 4 | HS7: =HR7*$D$15 -> 20 | HT7: =IF((HS7)/$C$60>5,"",(HS7)/C$60) -> 2.0857977 | HU7: =IF($E$60*IF((HS7)/$C$60>5,0,IF(HT7<=1,5.60277*HT7^5-16.1238*HT7^4+13.865*HT7^3-3.00293*HT7^2+0.657237*HT7,IF(HT7>=1.8,-0.003218*HT7^5+0.0654895*HT7^4-0.539858*HT7^3+2.26576*HT7^2-4.87709*HT7+4.34827,0.3645833*HT7^6-3.832532*HT7^5+15.78165*HT7^4-31.75999*HT7^3+31.54504*HT7^2-13.92499*HT7+2.825187)))<0,0,E$60*IF((HS7)/$C$60>5,0,IF(HT7<=1,5.60277*HT7^5-16.1238*HT7^4+13.865*HT7^3-3.00293*HT7^2+0.657237*HT7,IF(HT7>=1.8,-0.003218*HT7^5+0.0654895*HT7^4-0.539858*HT7^3+2.26576*HT7^2-4.87709*HT7+4.34827,0.3645833*HT7^6-3.832532*HT7^5+15.78165*HT7^4-31.75999*HT7^3+31.54504*HT7^2-13.92499*HT7+2.825187)))) -> 0.0032093238 | HV7: =IF(HS7>MAX($D$19:$D$55),0,G23) -> 3.1250666 | HW7: =TEXT(HS7/1440,"hh:mm") -> 00:20 | HX7: 113.94367 | HY7: =HY6+HX7*Escenario1!$D$15*0.06 -> 70.147621 | HZ7: =IF(HX7-AB7<=0,0,HX7-AB7) -> 88.137776 | IA7: =IA6+HZ7*Escenario1!$D$15*0.06 -> 58.377228 | IC7: 5 | ID7: =HU7 -> 0.0032093238 | IE7: =ID6 -> 0.007850434 | IF7: =IE6 -> 0.012976986 | IG7: =IF6 -> 0.006715461 | IH7: =IG6 -> 0 | II7: =IH6 -> 0 | IJ7: =II6 -> 0 | IK7: =IJ6 -> 0 | IL7: =IK6 -> 0 | ... PN7: =PM6 -> 0
A8: 3. Tiempo de concentración | W8: 5 | X8: =W8*$D$15 -> 25 | Y8: =IF((X8)/C$59>5,"",(X8)/$C$59) -> 1.1984607 | Z8: =IF($E$59*IF((X8)/C$59>5,0,IF(Y8<=1,5.60277*Y8^5-16.1238*Y8^4+13.865*Y8^3-3.00293*Y8^2+0.657237*Y8,IF(Y8>=1.8,-0.003218*Y8^5+0.0654895*Y8^4-0.539858*Y8^3+2.26576*Y8^2-4.87709*Y8+4.34827,0.3645833*Y8^6-3.832532*Y8^5+15.78165*Y8^4-31.75999*Y8^3+31.54504*Y8^2-13.92499*Y8+2.825187)))<0,0,E$59*IF((X8)/$C$59>5,0,IF(Y8<=1,5.60277*Y8^5-16.1238*Y8^4+13.865*Y8^3-3.00293*Y8^2+0.657237*Y8,IF(Y8>=1.8,-0.003218*Y8^5+0.0654895*Y8^4-0.539858*Y8^3+2.26576*Y8^2-4.87709*Y8+4.34827,0.3645833*Y8^6-3.832532*Y8^5+15.78165*Y8^4-31.75999*Y8^3+31.54504*Y8^2-13.92499*Y8+2.825187)))) -> 0.0056037914 | AA8: =IF(X8>MAX($D$19:$D$55),0,I24) -> 1.5819146 | AB8: 41.45026 | AC8: =AC7+AB8*5*0.06 -> 24.205471 | AE8: 6 | AF8: =Z8 -> 0.0056037914 | AG8: =AF7 -> 0.006006715 | AH8: =AG7 -> 0.0050334268 | AI8: =AH7 -> 0.0026488187 | AJ8: =AI7 -> 0.00076072713 | AK8: =AJ7 -> 0 | AL8: =AK7 -> 0 | AM8: =AL7 -> 0 | AN8: =AM7 -> 0 | ... HP8: =HO7 -> 0 | HR8: 5 | HS8: =HR8*$D$15 -> 25 | HT8: =IF((HS8)/$C$60>5,"",(HS8)/C$60) -> 2.6072472 | HU8: =IF($E$60*IF((HS8)/$C$60>5,0,IF(HT8<=1,5.60277*HT8^5-16.1238*HT8^4+13.865*HT8^3-3.00293*HT8^2+0.657237*HT8,IF(HT8>=1.8,-0.003218*HT8^5+0.0654895*HT8^4-0.539858*HT8^3+2.26576*HT8^2-4.87709*HT8+4.34827,0.3645833*HT8^6-3.832532*HT8^5+15.78165*HT8^4-31.75999*HT8^3+31.54504*HT8^2-13.92499*HT8+2.825187)))<0,0,E$60*IF((HS8)/$C$60>5,0,IF(HT8<=1,5.60277*HT8^5-16.1238*HT8^4+13.865*HT8^3-3.00293*HT8^2+0.657237*HT8,IF(HT8>=1.8,-0.003218*HT8^5+0.0654895*HT8^4-0.539858*HT8^3+2.26576*HT8^2-4.87709*HT8+4.34827,0.3645833*HT8^6-3.832532*HT8^5+15.78165*HT8^4-31.75999*HT8^3+31.54504*HT8^2-13.92499*HT8+2.825187)))) -> 0.001365863 | HV8: =IF(HS8>MAX($D$19:$D$55),0,G24) -> 2.7407049 | HW8: =TEXT(HS8/1440,"hh:mm") -> 00:25 | HX8: 114.54573 | HY8: =HY7+HX8*Escenario1!$D$15*0.06 -> 104.51134 | HZ8: =IF(HX8-AB8<=0,0,HX8-AB8) -> 73.095474 | IA8: =IA7+HZ8*Escenario1!$D$15*0.06 -> 80.30587 | IC8: 6 | ID8: =HU8 -> 0.001365863 | IE8: =ID7 -> 0.0032093238 | IF8: =IE7 -> 0.007850434 | IG8: =IF7 -> 0.012976986 | IH8: =IG7 -> 0.006715461 | II8: =IH7 -> 0 | IJ8: =II7 -> 0 | IK8: =IJ7 -> 0 | IL8: =IK7 -> 0 | ... PN8: =PM7 -> 0
A9: Condición | B9: S (m/m) | C9: L (m) | D9: C (adim) | E9: Te (min) | F9: Tt (min) | G9: Tc (min) | W9: 6 | X9: =W9*$D$15 -> 30 | Y9: =IF((X9)/C$59>5,"",(X9)/$C$59) -> 1.4381529 | Z9: =IF($E$59*IF((X9)/C$59>5,0,IF(Y9<=1,5.60277*Y9^5-16.1238*Y9^4+13.865*Y9^3-3.00293*Y9^2+0.657237*Y9,IF(Y9>=1.8,-0.003218*Y9^5+0.0654895*Y9^4-0.539858*Y9^3+2.26576*Y9^2-4.87709*Y9+4.34827,0.3645833*Y9^6-3.832532*Y9^5+15.78165*Y9^4-31.75999*Y9^3+31.54504*Y9^2-13.92499*Y9+2.825187)))<0,0,E$59*IF((X9)/$C$59>5,0,IF(Y9<=1,5.60277*Y9^5-16.1238*Y9^4+13.865*Y9^3-3.00293*Y9^2+0.657237*Y9,IF(Y9>=1.8,-0.003218*Y9^5+0.0654895*Y9^4-0.539858*Y9^3+2.26576*Y9^2-4.87709*Y9+4.34827,0.3645833*Y9^6-3.832532*Y9^5+15.78165*Y9^4-31.75999*Y9^3+31.54504*Y9^2-13.92499*Y9+2.825187)))) -> 0.0043725777 | AA9: =IF(X9>MAX($D$19:$D$55),0,I25) -> 1.3098632 | AB9: 53.115665 | AC9: =AC8+AB9*5*0.06 -> 40.140171 | AE9: 7 | AF9: =Z9 -> 0.0043725777 | AG9: =AF8 -> 0.0056037914 | AH9: =AG8 -> 0.006006715 | AI9: =AH8 -> 0.0050334268 | AJ9: =AI8 -> 0.0026488187 | AK9: =AJ8 -> 0.00076072713 | AL9: =AK8 -> 0 | AM9: =AL8 -> 0 | AN9: =AM8 -> 0 | ... HP9: =HO8 -> 0 | HR9: 6 | HS9: =HR9*$D$15 -> 30 | HT9: =IF((HS9)/$C$60>5,"",(HS9)/C$60) -> 3.1286966 | HU9: =IF($E$60*IF((HS9)/$C$60>5,0,IF(HT9<=1,5.60277*HT9^5-16.1238*HT9^4+13.865*HT9^3-3.00293*HT9^2+0.657237*HT9,IF(HT9>=1.8,-0.003218*HT9^5+0.0654895*HT9^4-0.539858*HT9^3+2.26576*HT9^2-4.87709*HT9+4.34827,0.3645833*HT9^6-3.832532*HT9^5+15.78165*HT9^4-31.75999*HT9^3+31.54504*HT9^2-13.92499*HT9+2.825187)))<0,0,E$60*IF((HS9)/$C$60>5,0,IF(HT9<=1,5.60277*HT9^5-16.1238*HT9^4+13.865*HT9^3-3.00293*HT9^2+0.657237*HT9,IF(HT9>=1.8,-0.003218*HT9^5+0.0654895*HT9^4-0.539858*HT9^3+2.26576*HT9^2-4.87709*HT9+4.34827,0.3645833*HT9^6-3.832532*HT9^5+15.78165*HT9^4-31.75999*HT9^3+31.54504*HT9^2-13.92499*HT9+2.825187)))) -> 0.00058604982 | HV9: =IF(HS9>MAX($D$19:$D$55),0,G25) -> 2.4130376 | HW9: =TEXT(HS9/1440,"hh:mm") -> 00:30 | HX9: 106.55485 | HY9: =HY8+HX9*Escenario1!$D$15*0.06 -> 136.4778 | HZ9: =IF(HX9-AB9<=0,0,HX9-AB9) -> 53.439187 | IA9: =IA8+HZ9*Escenario1!$D$15*0.06 -> 96.337627 | IC9: 7 | ID9: =HU9 -> 0.00058604982 | IE9: =ID8 -> 0.001365863 | IF9: =IE8 -> 0.0032093238 | IG9: =IF8 -> 0.007850434 | IH9: =IG8 -> 0.012976986 | II9: =IH8 -> 0.006715461 | IJ9: =II8 -> 0 | IK9: =IJ8 -> 0 | IL9: =IK8 -> 0 | ... PN9: =PM8 -> 0
A10: Natural | B10: 0.02 | C10: 200 | D10: =0.85*0.3+0.15 -> 0.405 | E10: =0.707*(1.1-D10)*SQRT(C10)/(B10^(1/3)) -> 25.600152 | F10: 5 | G10: =+F10+E10 -> 30.600152 | W10: 7 | X10: =W10*$D$15 -> 35 | Y10: =IF((X10)/C$59>5,"",(X10)/$C$59) -> 1.677845 | Z10: =IF($E$59*IF((X10)/C$59>5,0,IF(Y10<=1,5.60277*Y10^5-16.1238*Y10^4+13.865*Y10^3-3.00293*Y10^2+0.657237*Y10,IF(Y10>=1.8,-0.003218*Y10^5+0.0654895*Y10^4-0.539858*Y10^3+2.26576*Y10^2-4.87709*Y10+4.34827,0.3645833*Y10^6-3.832532*Y10^5+15.78165*Y10^4-31.75999*Y10^3+31.54504*Y10^2-13.92499*Y10+2.825187)))<0,0,E$59*IF((X10)/$C$59>5,0,IF(Y10<=1,5.60277*Y10^5-16.1238*Y10^4+13.865*Y10^3-3.00293*Y10^2+0.657237*Y10,IF(Y10>=1.8,-0.003218*Y10^5+0.0654895*Y10^4-0.539858*Y10^3+2.26576*Y10^2-4.87709*Y10+4.34827,0.3645833*Y10^6-3.832532*Y10^5+15.78165*Y10^4-31.75999*Y10^3+31.54504*Y10^2-13.92499*Y10+2.825187)))) -> 0.0029578824 | AA10: =IF(X10>MAX($D$19:$D$55),0,I26) -> 1.0867691 | AB10: 58.693406 | AC10: =AC9+AB10*5*0.06 -> 57.748192 | AE10: 8 | AF10: =Z10 -> 0.0029578824 | AG10: =AF9 -> 0.0043725777 | AH10: =AG9 -> 0.0056037914 | AI10: =AH9 -> 0.006006715 | AJ10: =AI9 -> 0.0050334268 | AK10: =AJ9 -> 0.0026488187 | AL10: =AK9 -> 0.00076072713 | AM10: =AL9 -> 0 | AN10: =AM9 -> 0 | ... HP10: =HO9 -> 0 | HR10: 7 | HS10: =HR10*$D$15 -> 35 | HT10: =IF((HS10)/$C$60>5,"",(HS10)/C$60) -> 3.650146 | HU10: =IF($E$60*IF((HS10)/$C$60>5,0,IF(HT10<=1,5.60277*HT10^5-16.1238*HT10^4+13.865*HT10^3-3.00293*HT10^2+0.657237*HT10,IF(HT10>=1.8,-0.003218*HT10^5+0.0654895*HT10^4-0.539858*HT10^3+2.26576*HT10^2-4.87709*HT10+4.34827,0.3645833*HT10^6-3.832532*HT10^5+15.78165*HT10^4-31.75999*HT10^3+31.54504*HT10^2-13.92499*HT10+2.825187)))<0,0,E$60*IF((HS10)/$C$60>5,0,IF(HT10<=1,5.60277*HT10^5-16.1238*HT10^4+13.865*HT10^3-3.00293*HT10^2+0.657237*HT10,IF(HT10>=1.8,-0.003218*HT10^5+0.0654895*HT10^4-0.539858*HT10^3+2.26576*HT10^2-4.87709*HT10+4.34827,0.3645833*HT10^6-3.832532*HT10^5+15.78165*HT10^4-31.75999*HT10^3+31.54504*HT10^2-13.92499*HT10+2.825187)))) -> 0.00025595688 | HV10: =IF(HS10>MAX($D$19:$D$55),0,G26) -> 2.135325 | HW10: =TEXT(HS10/1440,"hh:mm") -> 00:35 | HX10: 96.111752 | HY10: =HY9+HX10*Escenario1!$D$15*0.06 -> 165.31132 | HZ10: =IF(HX10-AB10<=0,0,HX10-AB10) -> 37.418346 | IA10: =IA9+HZ10*Escenario1!$D$15*0.06 -> 107.56313 | IC10: 8 | ID10: =HU10 -> 0.00025595688 | IE10: =ID9 -> 0.00058604982 | IF10: =IE9 -> 0.001365863 | IG10: =IF9 -> 0.0032093238 | IH10: =IG9 -> 0.007850434 | II10: =IH9 -> 0.012976986 | IJ10: =II9 -> 0.006715461 | IK10: =IJ9 -> 0 | IL10: =IK9 -> 0 | ... PN10: =PM9 -> 0
A11: Urbana | B11: 0.02 | C11: 200 | D11: =(0.85*0.3+0.15)*D5/100+(0.85*0.9+0.15)*D4/100 -> 0.915 | E11: =0.707*(1.1-D11)*SQRT(C11)/(B11^(1/3)) -> 6.8144291 | F11: 5 | G11: =+F11+E11 -> 11.814429 | W11: 8 | X11: =W11*$D$15 -> 40 | Y11: =IF((X11)/C$59>5,"",(X11)/$C$59) -> 1.9175371 | Z11: =IF($E$59*IF((X11)/C$59>5,0,IF(Y11<=1,5.60277*Y11^5-16.1238*Y11^4+13.865*Y11^3-3.00293*Y11^2+0.657237*Y11,IF(Y11>=1.8,-0.003218*Y11^5+0.0654895*Y11^4-0.539858*Y11^3+2.26576*Y11^2-4.87709*Y11+4.34827,0.3645833*Y11^6-3.832532*Y11^5+15.78165*Y11^4-31.75999*Y11^3+31.54504*Y11^2-13.92499*Y11+2.825187)))<0,0,E$59*IF((X11)/$C$59>5,0,IF(Y11<=1,5.60277*Y11^5-16.1238*Y11^4+13.865*Y11^3-3.00293*Y11^2+0.657237*Y11,IF(Y11>=1.8,-0.003218*Y11^5+0.0654895*Y11^4-0.539858*Y11^3+2.26576*Y11^2-4.87709*Y11+4.34827,0.3645833*Y11^6-3.832532*Y11^5+15.78165*Y11^4-31.75999*Y11^3+31.54504*Y11^2-13.92499*Y11+2.825187)))) -> 0.0019322448 | AA11: =IF(X11>MAX($D$19:$D$55),0,I27) -> 0.90531867 | AB11: 58.587502 | AC11: =AC10+AB11*5*0.06 -> 75.324443 | AE11: 9 | AF11: =Z11 -> 0.0019322448 | AG11: =AF10 -> 0.0029578824 | AH11: =AG10 -> 0.0043725777 | AI11: =AH10 -> 0.0056037914 | AJ11: =AI10 -> 0.006006715 | AK11: =AJ10 -> 0.0050334268 | AL11: =AK10 -> 0.0026488187 | AM11: =AL10 -> 0.00076072713 | AN11: =AM10 -> 0 | ... HP11: =HO10 -> 0 | HR11: 8 | HS11: =HR11*$D$15 -> 40 | HT11: =IF((HS11)/$C$60>5,"",(HS11)/C$60) -> 4.1715955 | HU11: =IF($E$60*IF((HS11)/$C$60>5,0,IF(HT11<=1,5.60277*HT11^5-16.1238*HT11^4+13.865*HT11^3-3.00293*HT11^2+0.657237*HT11,IF(HT11>=1.8,-0.003218*HT11^5+0.0654895*HT11^4-0.539858*HT11^3+2.26576*HT11^2-4.87709*HT11+4.34827,0.3645833*HT11^6-3.832532*HT11^5+15.78165*HT11^4-31.75999*HT11^3+31.54504*HT11^2-13.92499*HT11+2.825187)))<0,0,E$60*IF((HS11)/$C$60>5,0,IF(HT11<=1,5.60277*HT11^5-16.1238*HT11^4+13.865*HT11^3-3.00293*HT11^2+0.657237*HT11,IF(HT11>=1.8,-0.003218*HT11^5+0.0654895*HT11^4-0.539858*HT11^3+2.26576*HT11^2-4.87709*HT11+4.34827,0.3645833*HT11^6-3.832532*HT11^5+15.78165*HT11^4-31.75999*HT11^3+31.54504*HT11^2-13.92499*HT11+2.825187)))) -> 0.00011151658 | HV11: =IF(HS11>MAX($D$19:$D$55),0,G27) -> 1.9012443 | HW11: =TEXT(HS11/1440,"hh:mm") -> 00:40 | HX11: 85.678913 | HY11: =HY10+HX11*Escenario1!$D$15*0.06 -> 191.015 | HZ11: =IF(HX11-AB11<=0,0,HX11-AB11) -> 27.091411 | IA11: =IA10+HZ11*Escenario1!$D$15*0.06 -> 115.69055 | IC11: 9 | ID11: =HU11 -> 0.00011151658 | IE11: =ID10 -> 0.00025595688 | IF11: =IE10 -> 0.00058604982 | IG11: =IF10 -> 0.001365863 | IH11: =IG10 -> 0.0032093238 | II11: =IH10 -> 0.007850434 | IJ11: =II10 -> 0.012976986 | IK11: =IJ10 -> 0.006715461 | IL11: =IK10 -> 0 | ... PN11: =PM10 -> 0
W12: 9 | X12: =W12*$D$15 -> 45 | Y12: =IF((X12)/C$59>5,"",(X12)/$C$59) -> 2.1572293 | Z12: =IF($E$59*IF((X12)/C$59>5,0,IF(Y12<=1,5.60277*Y12^5-16.1238*Y12^4+13.865*Y12^3-3.00293*Y12^2+0.657237*Y12,IF(Y12>=1.8,-0.003218*Y12^5+0.0654895*Y12^4-0.539858*Y12^3+2.26576*Y12^2-4.87709*Y12+4.34827,0.3645833*Y12^6-3.832532*Y12^5+15.78165*Y12^4-31.75999*Y12^3+31.54504*Y12^2-13.92499*Y12+2.825187)))<0,0,E$59*IF((X12)/$C$59>5,0,IF(Y12<=1,5.60277*Y12^5-16.1238*Y12^4+13.865*Y12^3-3.00293*Y12^2+0.657237*Y12,IF(Y12>=1.8,-0.003218*Y12^5+0.0654895*Y12^4-0.539858*Y12^3+2.26576*Y12^2-4.87709*Y12+4.34827,0.3645833*Y12^6-3.832532*Y12^5+15.78165*Y12^4-31.75999*Y12^3+31.54504*Y12^2-13.92499*Y12+2.825187)))) -> 0.0013138426 | AA12: =IF(X12>MAX($D$19:$D$55),0,I28) -> 0.75875209 | AB12: 55.058362 | AC12: =AC11+AB12*5*0.06 -> 91.841951 | AE12: 10 | AF12: =Z12 -> 0.0013138426 | AG12: =AF11 -> 0.0019322448 | AH12: =AG11 -> 0.0029578824 | AI12: =AH11 -> 0.0043725777 | AJ12: =AI11 -> 0.0056037914 | AK12: =AJ11 -> 0.006006715 | AL12: =AK11 -> 0.0050334268 | AM12: =AL11 -> 0.0026488187 | AN12: =AM11 -> 0.00076072713 | ... HP12: =HO11 -> 0 | HR12: 9 | HS12: =HR12*$D$15 -> 45 | HT12: =IF((HS12)/$C$60>5,"",(HS12)/C$60) -> 4.6930449 | HU12: =IF($E$60*IF((HS12)/$C$60>5,0,IF(HT12<=1,5.60277*HT12^5-16.1238*HT12^4+13.865*HT12^3-3.00293*HT12^2+0.657237*HT12,IF(HT12>=1.8,-0.003218*HT12^5+0.0654895*HT12^4-0.539858*HT12^3+2.26576*HT12^2-4.87709*HT12+4.34827,0.3645833*HT12^6-3.832532*HT12^5+15.78165*HT12^4-31.75999*HT12^3+31.54504*HT12^2-13.92499*HT12+2.825187)))<0,0,E$60*IF((HS12)/$C$60>5,0,IF(HT12<=1,5.60277*HT12^5-16.1238*HT12^4+13.865*HT12^3-3.00293*HT12^2+0.657237*HT12,IF(HT12>=1.8,-0.003218*HT12^5+0.0654895*HT12^4-0.539858*HT12^3+2.26576*HT12^2-4.87709*HT12+4.34827,0.3645833*HT12^6-3.832532*HT12^5+15.78165*HT12^4-31.75999*HT12^3+31.54504*HT12^2-13.92499*HT12+2.825187)))) -> 4.4751984e-05 | HV12: =IF(HS12>MAX($D$19:$D$55),0,G28) -> 1.7048923 | HW12: =TEXT(HS12/1440,"hh:mm") -> 00:45 | HX12: 76.150387 | HY12: =HY11+HX12*Escenario1!$D$15*0.06 -> 213.86011 | HZ12: =IF(HX12-AB12<=0,0,HX12-AB12) -> 21.092025 | IA12: =IA11+HZ12*Escenario1!$D$15*0.06 -> 122.01816 | IC12: 10 | ID12: =HU12 -> 4.4751984e-05 | IE12: =ID11 -> 0.00011151658 | IF12: =IE11 -> 0.00025595688 | IG12: =IF11 -> 0.00058604982 | IH12: =IG11 -> 0.001365863 | II12: =IH11 -> 0.0032093238 | IJ12: =II11 -> 0.007850434 | IK12: =IJ11 -> 0.012976986 | IL12: =IK11 -> 0.006715461 | ... PN12: =PM11 -> 0
A13: 4. Definición de la lluvia | W13: 10 | X13: =W13*$D$15 -> 50 | Y13: =IF((X13)/C$59>5,"",(X13)/$C$59) -> 2.3969214 | Z13: =IF($E$59*IF((X13)/C$59>5,0,IF(Y13<=1,5.60277*Y13^5-16.1238*Y13^4+13.865*Y13^3-3.00293*Y13^2+0.657237*Y13,IF(Y13>=1.8,-0.003218*Y13^5+0.0654895*Y13^4-0.539858*Y13^3+2.26576*Y13^2-4.87709*Y13+4.34827,0.3645833*Y13^6-3.832532*Y13^5+15.78165*Y13^4-31.75999*Y13^3+31.54504*Y13^2-13.92499*Y13+2.825187)))<0,0,E$59*IF((X13)/$C$59>5,0,IF(Y13<=1,5.60277*Y13^5-16.1238*Y13^4+13.865*Y13^3-3.00293*Y13^2+0.657237*Y13,IF(Y13>=1.8,-0.003218*Y13^5+0.0654895*Y13^4-0.539858*Y13^3+2.26576*Y13^2-4.87709*Y13+4.34827,0.3645833*Y13^6-3.832532*Y13^5+15.78165*Y13^4-31.75999*Y13^3+31.54504*Y13^2-13.92499*Y13+2.825187)))) -> 0.00088742146 | AA13: =IF(X13>MAX($D$19:$D$55),0,I29) -> 0.6409463 | AB13: 50.065867 | AC13: =AC12+AB13*5*0.06 -> 106.86171 | AE13: 11 | AF13: =Z13 -> 0.00088742146 | AG13: =AF12 -> 0.0013138426 | AH13: =AG12 -> 0.0019322448 | AI13: =AH12 -> 0.0029578824 | AJ13: =AI12 -> 0.0043725777 | AK13: =AJ12 -> 0.0056037914 | AL13: =AK12 -> 0.006006715 | AM13: =AL12 -> 0.0050334268 | AN13: =AM12 -> 0.0026488187 | ... HP13: =HO12 -> 0 | HR13: 10 | HS13: =HR13*$D$15 -> 50 | HT13: =IF((HS13)/$C$60>5,"",(HS13)/C$60) | HU13: =IF($E$60*IF((HS13)/$C$60>5,0,IF(HT13<=1,5.60277*HT13^5-16.1238*HT13^4+13.865*HT13^3-3.00293*HT13^2+0.657237*HT13,IF(HT13>=1.8,-0.003218*HT13^5+0.0654895*HT13^4-0.539858*HT13^3+2.26576*HT13^2-4.87709*HT13+4.34827,0.3645833*HT13^6-3.832532*HT13^5+15.78165*HT13^4-31.75999*HT13^3+31.54504*HT13^2-13.92499*HT13+2.825187)))<0,0,E$60*IF((HS13)/$C$60>5,0,IF(HT13<=1,5.60277*HT13^5-16.1238*HT13^4+13.865*HT13^3-3.00293*HT13^2+0.657237*HT13,IF(HT13>=1.8,-0.003218*HT13^5+0.0654895*HT13^4-0.539858*HT13^3+2.26576*HT13^2-4.87709*HT13+4.34827,0.3645833*HT13^6-3.832532*HT13^5+15.78165*HT13^4-31.75999*HT13^3+31.54504*HT13^2-13.92499*HT13+2.825187)))) -> 0 | HV13: =IF(HS13>MAX($D$19:$D$55),0,G29) -> 1.5407892 | HW13: =TEXT(HS13/1440,"hh:mm") -> 00:50 | HX13: 67.784884 | HY13: =HY12+HX13*Escenario1!$D$15*0.06 -> 234.19558 | HZ13: =IF(HX13-AB13<=0,0,HX13-AB13) -> 17.719017 | IA13: =IA12+HZ13*Escenario1!$D$15*0.06 -> 127.33387 | IC13: 11 | ID13: =HU13 -> 0 | IE13: =ID12 -> 4.4751984e-05 | IF13: =IE12 -> 0.00011151658 | IG13: =IF12 -> 0.00025595688 | IH13: =IG12 -> 0.00058604982 | II13: =IH12 -> 0.001365863 | IJ13: =II12 -> 0.0032093238 | IK13: =IJ12 -> 0.007850434 | IL13: =IK12 -> 0.012976986 | ... PN13: =PM12 -> 0
A14: Estación | B14: Duración (min): | C14: Periodo Retorno (año) | D14: Paso de tiempo (min) | E14: Intensidad lluvia (mm/h) | F14: Precipitación total (mm) | W14: 11 | X14: =W14*$D$15 -> 55 | Y14: =IF((X14)/C$59>5,"",(X14)/$C$59) -> 2.6366136 | Z14: =IF($E$59*IF((X14)/C$59>5,0,IF(Y14<=1,5.60277*Y14^5-16.1238*Y14^4+13.865*Y14^3-3.00293*Y14^2+0.657237*Y14,IF(Y14>=1.8,-0.003218*Y14^5+0.0654895*Y14^4-0.539858*Y14^3+2.26576*Y14^2-4.87709*Y14+4.34827,0.3645833*Y14^6-3.832532*Y14^5+15.78165*Y14^4-31.75999*Y14^3+31.54504*Y14^2-13.92499*Y14+2.825187)))<0,0,E$59*IF((X14)/$C$59>5,0,IF(Y14<=1,5.60277*Y14^5-16.1238*Y14^4+13.865*Y14^3-3.00293*Y14^2+0.657237*Y14,IF(Y14>=1.8,-0.003218*Y14^5+0.0654895*Y14^4-0.539858*Y14^3+2.26576*Y14^2-4.87709*Y14+4.34827,0.3645833*Y14^6-3.832532*Y14^5+15.78165*Y14^4-31.75999*Y14^3+31.54504*Y14^2-13.92499*Y14+2.825187)))) -> 0.00059827069 | AA14: =IF(X14>MAX($D$19:$D$55),0,I30) -> 0.54647192 | AB14: 44.531085 | AC14: =AC13+AB14*5*0.06 -> 120.22104 | AE14: 12 | AF14: =Z14 -> 0.00059827069 | AG14: =AF13 -> 0.00088742146 | AH14: =AG13 -> 0.0013138426 | AI14: =AH13 -> 0.0019322448 | AJ14: =AI13 -> 0.0029578824 | AK14: =AJ13 -> 0.0043725777 | AL14: =AK13 -> 0.0056037914 | AM14: =AL13 -> 0.006006715 | AN14: =AM13 -> 0.0050334268 | ... HP14: =HO13 -> 0 | HR14: 11 | HS14: =HR14*$D$15 -> 55 | HT14: =IF((HS14)/$C$60>5,"",(HS14)/C$60) | HU14: =IF($E$60*IF((HS14)/$C$60>5,0,IF(HT14<=1,5.60277*HT14^5-16.1238*HT14^4+13.865*HT14^3-3.00293*HT14^2+0.657237*HT14,IF(HT14>=1.8,-0.003218*HT14^5+0.0654895*HT14^4-0.539858*HT14^3+2.26576*HT14^2-4.87709*HT14+4.34827,0.3645833*HT14^6-3.832532*HT14^5+15.78165*HT14^4-31.75999*HT14^3+31.54504*HT14^2-13.92499*HT14+2.825187)))<0,0,E$60*IF((HS14)/$C$60>5,0,IF(HT14<=1,5.60277*HT14^5-16.1238*HT14^4+13.865*HT14^3-3.00293*HT14^2+0.657237*HT14,IF(HT14>=1.8,-0.003218*HT14^5+0.0654895*HT14^4-0.539858*HT14^3+2.26576*HT14^2-4.87709*HT14+4.34827,0.3645833*HT14^6-3.832532*HT14^5+15.78165*HT14^4-31.75999*HT14^3+31.54504*HT14^2-13.92499*HT14+2.825187)))) -> 0 | HV14: =IF(HS14>MAX($D$19:$D$55),0,G30) -> 1.4038836 | HW14: =TEXT(HS14/1440,"hh:mm") -> 00:55 | HX14: 60.533612 | HY14: =HY13+HX14*Escenario1!$D$15*0.06 -> 252.35566 | HZ14: =IF(HX14-AB14<=0,0,HX14-AB14) -> 16.002528 | IA14: =IA13+HZ14*Escenario1!$D$15*0.06 -> 132.13462 | IC14: 12 | ID14: =HU14 -> 0 | IE14: =ID13 -> 0 | IF14: =IE13 -> 4.4751984e-05 | IG14: =IF13 -> 0.00011151658 | IH14: =IG13 -> 0.00025595688 | II14: =IH13 -> 0.00058604982 | IJ14: =II13 -> 0.001365863 | IK14: =IJ13 -> 0.0032093238 | IL14: =IK13 -> 0.007850434 | ... PN14: =PM13 -> 0
A15: Medellin | B15: 180 | C15: 10 | D15: 5 | E15: =INDEX(Tablas!$B$3:$H$44,MATCH($A$15&"k",Tablas!$A$3:$A$44,0),MATCH($C$15,Tablas!$B$2:$H$2,0))/(INDEX(Tablas!$B$3:$H$44,MATCH($A$15&"c",Tablas!$A$3:$A$44,0),MATCH($C$15,Tablas!$B$2:$H$2,0))+B15/60)^(INDEX(Tablas!$B$3:$H$44,MATCH($A$15&"n",Tablas!$A$3:$A$44,0),MATCH($C$15,Tablas!$B$2:$H$2,0))) -> 18.655036 | F15: =E15*B15/60 -> 55.965109 | W15: 12 | X15: =W15*$D$15 -> 60 | Y15: =IF((X15)/C$59>5,"",(X15)/$C$59) -> 2.8763057 | Z15: =IF($E$59*IF((X15)/C$59>5,0,IF(Y15<=1,5.60277*Y15^5-16.1238*Y15^4+13.865*Y15^3-3.00293*Y15^2+0.657237*Y15,IF(Y15>=1.8,-0.003218*Y15^5+0.0654895*Y15^4-0.539858*Y15^3+2.26576*Y15^2-4.87709*Y15+4.34827,0.3645833*Y15^6-3.832532*Y15^5+15.78165*Y15^4-31.75999*Y15^3+31.54504*Y15^2-13.92499*Y15+2.825187)))<0,0,E$59*IF((X15)/$C$59>5,0,IF(Y15<=1,5.60277*Y15^5-16.1238*Y15^4+13.865*Y15^3-3.00293*Y15^2+0.657237*Y15,IF(Y15>=1.8,-0.003218*Y15^5+0.0654895*Y15^4-0.539858*Y15^3+2.26576*Y15^2-4.87709*Y15+4.34827,0.3645833*Y15^6-3.832532*Y15^5+15.78165*Y15^4-31.75999*Y15^3+31.54504*Y15^2-13.92499*Y15+2.825187)))) -> 0.00040443968 | AA15: =IF(X15>MAX($D$19:$D$55),0,I31) -> 0.47061542 | AB15: 39.032406 | AC15: =AC14+AB15*5*0.06 -> 131.93076 | AE15: 13 | AF15: =Z15 -> 0.00040443968 | AG15: =AF14 -> 0.00059827069 | AH15: =AG14 -> 0.00088742146 | AI15: =AH14 -> 0.0013138426 | AJ15: =AI14 -> 0.0019322448 | AK15: =AJ14 -> 0.0029578824 | AL15: =AK14 -> 0.0043725777 | AM15: =AL14 -> 0.0056037914 | AN15: =AM14 -> 0.006006715 | ... HP15: =HO14 -> 0 | HR15: 12 | HS15: =HR15*$D$15 -> 60 | HT15: =IF((HS15)/$C$60>5,"",(HS15)/C$60) | HU15: =IF($E$60*IF((HS15)/$C$60>5,0,IF(HT15<=1,5.60277*HT15^5-16.1238*HT15^4+13.865*HT15^3-3.00293*HT15^2+0.657237*HT15,IF(HT15>=1.8,-0.003218*HT15^5+0.0654895*HT15^4-0.539858*HT15^3+2.26576*HT15^2-4.87709*HT15+4.34827,0.3645833*HT15^6-3.832532*HT15^5+15.78165*HT15^4-31.75999*HT15^3+31.54504*HT15^2-13.92499*HT15+2.825187)))<0,0,E$60*IF((HS15)/$C$60>5,0,IF(HT15<=1,5.60277*HT15^5-16.1238*HT15^4+13.865*HT15^3-3.00293*HT15^2+0.657237*HT15,IF(HT15>=1.8,-0.003218*HT15^5+0.0654895*HT15^4-0.539858*HT15^3+2.26576*HT15^2-4.87709*HT15+4.34827,0.3645833*HT15^6-3.832532*HT15^5+15.78165*HT15^4-31.75999*HT15^3+31.54504*HT15^2-13.92499*HT15+2.825187)))) -> 0 | HV15: =IF(HS15>MAX($D$19:$D$55),0,G31) -> 1.2895569 | HW15: =TEXT(HS15/1440,"hh:mm") -> 01:00 | HX15: 54.449011 | HY15: =HY14+HX15*Escenario1!$D$15*0.06 -> 268.69036 | HZ15: =IF(HX15-AB15<=0,0,HX15-AB15) -> 15.416605 | IA15: =IA14+HZ15*Escenario1!$D$15*0.06 -> 136.75961 | IC15: 13 | ID15: =HU15 -> 0 | IE15: =ID14 -> 0 | IF15: =IE14 -> 0 | IG15: =IF14 -> 4.4751984e-05 | IH15: =IG14 -> 0.00011151658 | II15: =IH14 -> 0.00025595688 | IJ15: =II14 -> 0.00058604982 | IK15: =IJ14 -> 0.001365863 | IL15: =IK14 -> 0.0032093238 | ... PN15: =PM14 -> 0
W16: 13 | X16: =W16*$D$15 -> 65 | Y16: =IF((X16)/C$59>5,"",(X16)/$C$59) -> 3.1159978 | Z16: =IF($E$59*IF((X16)/C$59>5,0,IF(Y16<=1,5.60277*Y16^5-16.1238*Y16^4+13.865*Y16^3-3.00293*Y16^2+0.657237*Y16,IF(Y16>=1.8,-0.003218*Y16^5+0.0654895*Y16^4-0.539858*Y16^3+2.26576*Y16^2-4.87709*Y16+4.34827,0.3645833*Y16^6-3.832532*Y16^5+15.78165*Y16^4-31.75999*Y16^3+31.54504*Y16^2-13.92499*Y16+2.825187)))<0,0,E$59*IF((X16)/$C$59>5,0,IF(Y16<=1,5.60277*Y16^5-16.1238*Y16^4+13.865*Y16^3-3.00293*Y16^2+0.657237*Y16,IF(Y16>=1.8,-0.003218*Y16^5+0.0654895*Y16^4-0.539858*Y16^3+2.26576*Y16^2-4.87709*Y16+4.34827,0.3645833*Y16^6-3.832532*Y16^5+15.78165*Y16^4-31.75999*Y16^3+31.54504*Y16^2-13.92499*Y16+2.825187)))) -> 0.00027490994 | AA16: =IF(X16>MAX($D$19:$D$55),0,I32) -> 0.40936613 | AB16: 33.901655 | AC16: =AC15+AB16*5*0.06 -> 142.10126 | AE16: 14 | AF16: =Z16 -> 0.00027490994 | AG16: =AF15 -> 0.00040443968 | AH16: =AG15 -> 0.00059827069 | AI16: =AH15 -> 0.00088742146 | AJ16: =AI15 -> 0.0013138426 | AK16: =AJ15 -> 0.0019322448 | AL16: =AK15 -> 0.0029578824 | AM16: =AL15 -> 0.0043725777 | AN16: =AM15 -> 0.0056037914 | ... HP16: =HO15 -> 0 | HR16: 13 | HS16: =HR16*$D$15 -> 65 | HT16: =IF((HS16)/$C$60>5,"",(HS16)/C$60) | HU16: =IF($E$60*IF((HS16)/$C$60>5,0,IF(HT16<=1,5.60277*HT16^5-16.1238*HT16^4+13.865*HT16^3-3.00293*HT16^2+0.657237*HT16,IF(HT16>=1.8,-0.003218*HT16^5+0.0654895*HT16^4-0.539858*HT16^3+2.26576*HT16^2-4.87709*HT16+4.34827,0.3645833*HT16^6-3.832532*HT16^5+15.78165*HT16^4-31.75999*HT16^3+31.54504*HT16^2-13.92499*HT16+2.825187)))<0,0,E$60*IF((HS16)/$C$60>5,0,IF(HT16<=1,5.60277*HT16^5-16.1238*HT16^4+13.865*HT16^3-3.00293*HT16^2+0.657237*HT16,IF(HT16>=1.8,-0.003218*HT16^5+0.0654895*HT16^4-0.539858*HT16^3+2.26576*HT16^2-4.87709*HT16+4.34827,0.3645833*HT16^6-3.832532*HT16^5+15.78165*HT16^4-31.75999*HT16^3+31.54504*HT16^2-13.92499*HT16+2.825187)))) -> 0 | HV16: =IF(HS16>MAX($D$19:$D$55),0,G32) -> 1.1936272 | HW16: =TEXT(HS16/1440,"hh:mm") -> 01:05 | HX16: 49.356929 | HY16: =HY15+HX16*Escenario1!$D$15*0.06 -> 283.49744 | HZ16: =IF(HX16-AB16<=0,0,HX16-AB16) -> 15.455274 | IA16: =IA15+HZ16*Escenario1!$D$15*0.06 -> 141.39619 | IC16: 14 | ID16: =HU16 -> 0 | IE16: =ID15 -> 0 | IF16: =IE15 -> 0 | IG16: =IF15 -> 0 | IH16: =IG15 -> 4.4751984e-05 | II16: =IH15 -> 0.00011151658 | IJ16: =II15 -> 0.00025595688 | IK16: =IJ15 -> 0.00058604982 | IL16: =IK15 -> 0.001365863 | ... PN16: =PM15 -> 0
A17: 5. Cálculo de los hietogramas | G17: Condición urbana | I17: Condición natural | W17: 14 | X17: =W17*$D$15 -> 70 | Y17: =IF((X17)/C$59>5,"",(X17)/$C$59) -> 3.35569 | Z17: =IF($E$59*IF((X17)/C$59>5,0,IF(Y17<=1,5.60277*Y17^5-16.1238*Y17^4+13.865*Y17^3-3.00293*Y17^2+0.657237*Y17,IF(Y17>=1.8,-0.003218*Y17^5+0.0654895*Y17^4-0.539858*Y17^3+2.26576*Y17^2-4.87709*Y17+4.34827,0.3645833*Y17^6-3.832532*Y17^5+15.78165*Y17^4-31.75999*Y17^3+31.54504*Y17^2-13.92499*Y17+2.825187)))<0,0,E$59*IF((X17)/$C$59>5,0,IF(Y17<=1,5.60277*Y17^5-16.1238*Y17^4+13.865*Y17^3-3.00293*Y17^2+0.657237*Y17,IF(Y17>=1.8,-0.003218*Y17^5+0.0654895*Y17^4-0.539858*Y17^3+2.26576*Y17^2-4.87709*Y17+4.34827,0.3645833*Y17^6-3.832532*Y17^5+15.78165*Y17^4-31.75999*Y17^3+31.54504*Y17^2-13.92499*Y17+2.825187)))) -> 0.00018776725 | AA17: =IF(X17>MAX($D$19:$D$55),0,I33) -> 0.35937462 | AB17: 29.300772 | AC17: =AC16+AB17*5*0.06 -> 150.89149 | AE17: 15 | AF17: =Z17 -> 0.00018776725 | AG17: =AF16 -> 0.00027490994 | AH17: =AG16 -> 0.00040443968 | AI17: =AH16 -> 0.00059827069 | AJ17: =AI16 -> 0.00088742146 | AK17: =AJ16 -> 0.0013138426 | AL17: =AK16 -> 0.0019322448 | AM17: =AL16 -> 0.0029578824 | AN17: =AM16 -> 0.0043725777 | ... HP17: =HO16 -> 0 | HR17: 14 | HS17: =HR17*$D$15 -> 70 | HT17: =IF((HS17)/$C$60>5,"",(HS17)/C$60) | HU17: =IF($E$60*IF((HS17)/$C$60>5,0,IF(HT17<=1,5.60277*HT17^5-16.1238*HT17^4+13.865*HT17^3-3.00293*HT17^2+0.657237*HT17,IF(HT17>=1.8,-0.003218*HT17^5+0.0654895*HT17^4-0.539858*HT17^3+2.26576*HT17^2-4.87709*HT17+4.34827,0.3645833*HT17^6-3.832532*HT17^5+15.78165*HT17^4-31.75999*HT17^3+31.54504*HT17^2-13.92499*HT17+2.825187)))<0,0,E$60*IF((HS17)/$C$60>5,0,IF(HT17<=1,5.60277*HT17^5-16.1238*HT17^4+13.865*HT17^3-3.00293*HT17^2+0.657237*HT17,IF(HT17>=1.8,-0.003218*HT17^5+0.0654895*HT17^4-0.539858*HT17^3+2.26576*HT17^2-4.87709*HT17+4.34827,0.3645833*HT17^6-3.832532*HT17^5+15.78165*HT17^4-31.75999*HT17^3+31.54504*HT17^2-13.92499*HT17+2.825187)))) -> 0 | HV17: =IF(HS17>MAX($D$19:$D$55),0,G33) -> 1.1123503 | HW17: =TEXT(HS17/1440,"hh:mm") -> 01:10 | HX17: 45.097476 | HY17: =HY16+HX17*Escenario1!$D$15*0.06 -> 297.02669 | HZ17: =IF(HX17-AB17<=0,0,HX17-AB17) -> 15.796704 | IA17: =IA16+HZ17*Escenario1!$D$15*0.06 -> 146.1352 | IC17: 15 | ID17: =HU17 -> 0 | IE17: =ID16 -> 0 | IF17: =IE16 -> 0 | IG17: =IF16 -> 0 | IH17: =IG16 -> 0 | II17: =IH16 -> 4.4751984e-05 | IJ17: =II16 -> 0.00011151658 | IK17: =IJ16 -> 0.00025595688 | IL17: =IK16 -> 0.00058604982 | ... PN17: =PM16 -> 0
A18: No. | B18: Tiempo (%) | C18: P acum (%) | D18: Tiempo (min) | E18: P acum (mm) | F18: P (mm) | G18: Pe (mm) | H18: Infil (mm) | I18: Pe (mm) | J18: Infil (mm) | W18: 15 | X18: =W18*$D$15 -> 75 | Y18: =IF((X18)/C$59>5,"",(X18)/$C$59) -> 3.5953821 | Z18: =IF($E$59*IF((X18)/C$59>5,0,IF(Y18<=1,5.60277*Y18^5-16.1238*Y18^4+13.865*Y18^3-3.00293*Y18^2+0.657237*Y18,IF(Y18>=1.8,-0.003218*Y18^5+0.0654895*Y18^4-0.539858*Y18^3+2.26576*Y18^2-4.87709*Y18+4.34827,0.3645833*Y18^6-3.832532*Y18^5+15.78165*Y18^4-31.75999*Y18^3+31.54504*Y18^2-13.92499*Y18+2.825187)))<0,0,E$59*IF((X18)/$C$59>5,0,IF(Y18<=1,5.60277*Y18^5-16.1238*Y18^4+13.865*Y18^3-3.00293*Y18^2+0.657237*Y18,IF(Y18>=1.8,-0.003218*Y18^5+0.0654895*Y18^4-0.539858*Y18^3+2.26576*Y18^2-4.87709*Y18+4.34827,0.3645833*Y18^6-3.832532*Y18^5+15.78165*Y18^4-31.75999*Y18^3+31.54504*Y18^2-13.92499*Y18+2.825187)))) -> 0.00012837388 | AA18: =IF(X18>MAX($D$19:$D$55),0,I34) -> 0.31789294 | AB18: 25.281348 | AC18: =AC17+AB18*5*0.06 -> 158.47589 | AE18: 16 | AF18: =Z18 -> 0.00012837388 | AG18: =AF17 -> 0.00018776725 | AH18: =AG17 -> 0.00027490994 | AI18: =AH17 -> 0.00040443968 | AJ18: =AI17 -> 0.00059827069 | AK18: =AJ17 -> 0.00088742146 | AL18: =AK17 -> 0.0013138426 | AM18: =AL17 -> 0.0019322448 | AN18: =AM17 -> 0.0029578824 | ... HP18: =HO17 -> 0 | HR18: 15 | HS18: =HR18*$D$15 -> 75 | HT18: =IF((HS18)/$C$60>5,"",(HS18)/C$60) | HU18: =IF($E$60*IF((HS18)/$C$60>5,0,IF(HT18<=1,5.60277*HT18^5-16.1238*HT18^4+13.865*HT18^3-3.00293*HT18^2+0.657237*HT18,IF(HT18>=1.8,-0.003218*HT18^5+0.0654895*HT18^4-0.539858*HT18^3+2.26576*HT18^2-4.87709*HT18+4.34827,0.3645833*HT18^6-3.832532*HT18^5+15.78165*HT18^4-31.75999*HT18^3+31.54504*HT18^2-13.92499*HT18+2.825187)))<0,0,E$60*IF((HS18)/$C$60>5,0,IF(HT18<=1,5.60277*HT18^5-16.1238*HT18^4+13.865*HT18^3-3.00293*HT18^2+0.657237*HT18,IF(HT18>=1.8,-0.003218*HT18^5+0.0654895*HT18^4-0.539858*HT18^3+2.26576*HT18^2-4.87709*HT18+4.34827,0.3645833*HT18^6-3.832532*HT18^5+15.78165*HT18^4-31.75999*HT18^3+31.54504*HT18^2-13.92499*HT18+2.825187)))) -> 0 | HV18: =IF(HS18>MAX($D$19:$D$55),0,G34) -> 1.0424202 | HW18: =TEXT(HS18/1440,"hh:mm") -> 01:15 | HX18: 41.525135 | HY18: =HY17+HX18*Escenario1!$D$15*0.06 -> 309.48423 | HZ18: =IF(HX18-AB18<=0,0,HX18-AB18) -> 16.243786 | IA18: =IA17+HZ18*Escenario1!$D$15*0.06 -> 151.00834 | IC18: 16 | ID18: =HU18 -> 0 | IE18: =ID17 -> 0 | IF18: =IE17 -> 0 | IG18: =IF17 -> 0 | IH18: =IG17 -> 0 | II18: =IH17 -> 0 | IJ18: =II17 -> 4.4751984e-05 | IK18: =IJ17 -> 0.00011151658 | IL18: =IK17 -> 0.00025595688 | ... PN18: =PM17 -> 0
A19: 0 | B19: =IF(A19*$D$15>$B$15,0,D19*100/$B$15) -> 0 | C19: =IF(A19*$D$15>$B$15,0,0.00000003820399*B19^5-0.00001104784*B19^4+0.0012780006*B19^3-0.07958462*B19^2+3.400981*B19) -> 0 | D19: =IF(A19*$D$15>$B$15,0,A19*$D$15) -> 0 | E19: =IF(A19*$D$15>$B$15,0,C19*$F$15/100) -> 0 | F19: 0 | G19: =IF(A19*$D$15>$B$15,0,IF(F19=0,0,(2.54*($E$6*((F19/2.54)+2)-200)^2)/($E$6*($E$6*(F19/2.54-8)+800)))) -> 0 | H19: =IF(A19*$D$15>$B$15,0,F19-G19) -> 0 | I19: =IF(A19*$D$15>$B$15,0,IF(F19=0,0,(2.54*($H$4*((F19/2.54)+2)-200)^2)/($H$4*($H$4*(F19/2.54-8)+800)))) -> 0 | J19: =IF(A19*$D$15>$B$15,0,F19-I19) -> 0 | W19: 16 | X19: =W19*$D$15 -> 80 | Y19: =IF((X19)/C$59>5,"",(X19)/$C$59) -> 3.8350743 | Z19: =IF($E$59*IF((X19)/C$59>5,0,IF(Y19<=1,5.60277*Y19^5-16.1238*Y19^4+13.865*Y19^3-3.00293*Y19^2+0.657237*Y19,IF(Y19>=1.8,-0.003218*Y19^5+0.0654895*Y19^4-0.539858*Y19^3+2.26576*Y19^2-4.87709*Y19+4.34827,0.3645833*Y19^6-3.832532*Y19^5+15.78165*Y19^4-31.75999*Y19^3+31.54504*Y19^2-13.92499*Y19+2.825187)))<0,0,E$59*IF((X19)/$C$59>5,0,IF(Y19<=1,5.60277*Y19^5-16.1238*Y19^4+13.865*Y19^3-3.00293*Y19^2+0.657237*Y19,IF(Y19>=1.8,-0.003218*Y19^5+0.0654895*Y19^4-0.539858*Y19^3+2.26576*Y19^2-4.87709*Y19+4.34827,0.3645833*Y19^6-3.832532*Y19^5+15.78165*Y19^4-31.75999*Y19^3+31.54504*Y19^2-13.92499*Y19+2.825187)))) -> 8.7540742e-05 | AA19: =IF(X19>MAX($D$19:$D$55),0,I35) -> 0.28270812 | AB19: 21.829113 | AC19: =AC18+AB19*5*0.06 -> 165.02463 | AE19: 17 | AF19: =Z19 -> 8.7540742e-05 | AG19: =AF18 -> 0.00012837388 | AH19: =AG18 -> 0.00018776725 | AI19: =AH18 -> 0.00027490994 | AJ19: =AI18 -> 0.00040443968 | AK19: =AJ18 -> 0.00059827069 | AL19: =AK18 -> 0.00088742146 | AM19: =AL18 -> 0.0013138426 | AN19: =AM18 -> 0.0019322448 | ... HP19: =HO18 -> 0 | HR19: 16 | HS19: =HR19*$D$15 -> 80 | HT19: =IF((HS19)/$C$60>5,"",(HS19)/C$60) | HU19: =IF($E$60*IF((HS19)/$C$60>5,0,IF(HT19<=1,5.60277*HT19^5-16.1238*HT19^4+13.865*HT19^3-3.00293*HT19^2+0.657237*HT19,IF(HT19>=1.8,-0.003218*HT19^5+0.0654895*HT19^4-0.539858*HT19^3+2.26576*HT19^2-4.87709*HT19+4.34827,0.3645833*HT19^6-3.832532*HT19^5+15.78165*HT19^4-31.75999*HT19^3+31.54504*HT19^2-13.92499*HT19+2.825187)))<0,0,E$60*IF((HS19)/$C$60>5,0,IF(HT19<=1,5.60277*HT19^5-16.1238*HT19^4+13.865*HT19^3-3.00293*HT19^2+0.657237*HT19,IF(HT19>=1.8,-0.003218*HT19^5+0.0654895*HT19^4-0.539858*HT19^3+2.26576*HT19^2-4.87709*HT19+4.34827,0.3645833*HT19^6-3.832532*HT19^5+15.78165*HT19^4-31.75999*HT19^3+31.54504*HT19^2-13.92499*HT19+2.825187)))) -> 0 | HV19: =IF(HS19>MAX($D$19:$D$55),0,G35) -> 0.98096673 | HW19: =TEXT(HS19/1440,"hh:mm") -> 01:20 | HX19: 38.508835 | HY19: =HY18+HX19*Escenario1!$D$15*0.06 -> 321.03688 | HZ19: =IF(HX19-AB19<=0,0,HX19-AB19) -> 16.679721 | IA19: =IA18+HZ19*Escenario1!$D$15*0.06 -> 156.01225 | IC19: 17 | ID19: =HU19 -> 0 | IE19: =ID18 -> 0 | IF19: =IE18 -> 0 | IG19: =IF18 -> 0 | IH19: =IG18 -> 0 | II19: =IH18 -> 0 | IJ19: =II18 -> 0 | IK19: =IJ18 -> 4.4751984e-05 | IL19: =IK18 -> 0.00011151658 | ... PN19: =PM18 -> 0
A20: 1 | B20: =IF(A20*$D$15>$B$15,0,D20*100/$B$15) -> 2.7777778 | C20: =IF(A20*$D$15>$B$15,0,0.00000003820399*B20^5-0.00001104784*B20^4+0.0012780006*B20^3-0.07958462*B20^2+3.400981*B20) -> 8.8598311 | D20: =IF(A20*$D$15>$B$15,0,A20*$D$15) -> 5 | E20: =IF(A20*$D$15>$B$15,0,C20*$F$15/100) -> 4.9584141 | F20: =IF(A20*$D$15>$B$15,0,E20-E19) -> 4.9584141 | G20: =IF(A20*$D$15>$B$15,0,IF(F20=0,0,(2.54*($E$6*((F20/2.54)+2)-200)^2)/($E$6*($E$6*(F20/2.54-8)+800)))) -> 4.6919493 | H20: =IF(A20*$D$15>$B$15,0,F20-G20) -> 0.26646483 | I20: =IF(A20*$D$15>$B$15,0,IF(F20=0,0,(2.54*($H$4*((F20/2.54)+2)-200)^2)/($H$4*($H$4*(F20/2.54-8)+800)))) -> 3.32025 | J20: =IF(A20*$D$15>$B$15,0,F20-I20) -> 1.6381642 | W20: 17 | X20: =W20*$D$15 -> 85 | Y20: =IF((X20)/C$59>5,"",(X20)/$C$59) -> 4.0747664 | Z20: =IF($E$59*IF((X20)/C$59>5,0,IF(Y20<=1,5.60277*Y20^5-16.1238*Y20^4+13.865*Y20^3-3.00293*Y20^2+0.657237*Y20,IF(Y20>=1.8,-0.003218*Y20^5+0.0654895*Y20^4-0.539858*Y20^3+2.26576*Y20^2-4.87709*Y20+4.34827,0.3645833*Y20^6-3.832532*Y20^5+15.78165*Y20^4-31.75999*Y20^3+31.54504*Y20^2-13.92499*Y20+2.825187)))<0,0,E$59*IF((X20)/$C$59>5,0,IF(Y20<=1,5.60277*Y20^5-16.1238*Y20^4+13.865*Y20^3-3.00293*Y20^2+0.657237*Y20,IF(Y20>=1.8,-0.003218*Y20^5+0.0654895*Y20^4-0.539858*Y20^3+2.26576*Y20^2-4.87709*Y20+4.34827,0.3645833*Y20^6-3.832532*Y20^5+15.78165*Y20^4-31.75999*Y20^3+31.54504*Y20^2-13.92499*Y20+2.825187)))) -> 5.9699549e-05 | AA20: =IF(X20>MAX($D$19:$D$55),0,I36) -> 0.25207761 | AB20: 18.895276 | AC20: =AC19+AB20*5*0.06 -> 170.69321 | AE20: 18 | AF20: =Z20 -> 5.9699549e-05 | AG20: =AF19 -> 8.7540742e-05 | AH20: =AG19 -> 0.00012837388 | AI20: =AH19 -> 0.00018776725 | AJ20: =AI19 -> 0.00027490994 | AK20: =AJ19 -> 0.00040443968 | AL20: =AK19 -> 0.00059827069 | AM20: =AL19 -> 0.00088742146 | AN20: =AM19 -> 0.0013138426 | ... HP20: =HO19 -> 0 | HR20: 17 | HS20: =HR20*$D$15 -> 85 | HT20: =IF((HS20)/$C$60>5,"",(HS20)/C$60) | HU20: =IF($E$60*IF((HS20)/$C$60>5,0,IF(HT20<=1,5.60277*HT20^5-16.1238*HT20^4+13.865*HT20^3-3.00293*HT20^2+0.657237*HT20,IF(HT20>=1.8,-0.003218*HT20^5+0.0654895*HT20^4-0.539858*HT20^3+2.26576*HT20^2-4.87709*HT20+4.34827,0.3645833*HT20^6-3.832532*HT20^5+15.78165*HT20^4-31.75999*HT20^3+31.54504*HT20^2-13.92499*HT20+2.825187)))<0,0,E$60*IF((HS20)/$C$60>5,0,IF(HT20<=1,5.60277*HT20^5-16.1238*HT20^4+13.865*HT20^3-3.00293*HT20^2+0.657237*HT20,IF(HT20>=1.8,-0.003218*HT20^5+0.0654895*HT20^4-0.539858*HT20^3+2.26576*HT20^2-4.87709*HT20+4.34827,0.3645833*HT20^6-3.832532*HT20^5+15.78165*HT20^4-31.75999*HT20^3+31.54504*HT20^2-13.92499*HT20+2.825187)))) -> 0 | HV20: =IF(HS20>MAX($D$19:$D$55),0,G36) -> 0.92555307 | HW20: =TEXT(HS20/1440,"hh:mm") -> 01:25 | HX20: 35.931973 | HY20: =HY19+HX20*Escenario1!$D$15*0.06 -> 331.81647 | HZ20: =IF(HX20-AB20<=0,0,HX20-AB20) -> 17.036696 | IA20: =IA19+HZ20*Escenario1!$D$15*0.06 -> 161.12326 | IC20: 18 | ID20: =HU20 -> 0 | IE20: =ID19 -> 0 | IF20: =IE19 -> 0 | IG20: =IF19 -> 0 | IH20: =IG19 -> 0 | II20: =IH19 -> 0 | IJ20: =II19 -> 0 | IK20: =IJ19 -> 0 | IL20: =IK19 -> 4.4751984e-05 | ... PN20: =PM19 -> 0
A21: 2 | B21: =IF(A21*$D$15>$B$15,0,D21*100/$B$15) -> 5.5555556 | C21: =IF(A21*$D$15>$B$15,0,0.00000003820399*B21^5-0.00001104784*B21^4+0.0012780006*B21^3-0.07958462*B21^2+3.400981*B21) -> 16.646837 | D21: =IF(A21*$D$15>$B$15,0,A21*$D$15) -> 10 | E21: =IF(A21*$D$15>$B$15,0,C21*$F$15/100) -> 9.3164206 | F21: =IF(A21*$D$15>$B$15,0,E21-E20) -> 4.3580065 | G21: =IF(A21*$D$15>$B$15,0,IF(F21=0,0,(2.54*($E$6*((F21/2.54)+2)-200)^2)/($E$6*($E$6*(F21/2.54-8)+800)))) -> 4.0929092 | H21: =IF(A21*$D$15>$B$15,0,F21-G21) -> 0.26509729 | I21: =IF(A21*$D$15>$B$15,0,IF(F21=0,0,(2.54*($H$4*((F21/2.54)+2)-200)^2)/($H$4*($H$4*(F21/2.54-8)+800)))) -> 2.771303 | J21: =IF(A21*$D$15>$B$15,0,F21-I21) -> 1.5867035 | W21: 18 | X21: =W21*$D$15 -> 90 | Y21: =IF((X21)/C$59>5,"",(X21)/$C$59) -> 4.3144586 | Z21: =IF($E$59*IF((X21)/C$59>5,0,IF(Y21<=1,5.60277*Y21^5-16.1238*Y21^4+13.865*Y21^3-3.00293*Y21^2+0.657237*Y21,IF(Y21>=1.8,-0.003218*Y21^5+0.0654895*Y21^4-0.539858*Y21^3+2.26576*Y21^2-4.87709*Y21+4.34827,0.3645833*Y21^6-3.832532*Y21^5+15.78165*Y21^4-31.75999*Y21^3+31.54504*Y21^2-13.92499*Y21+2.825187)))<0,0,E$59*IF((X21)/$C$59>5,0,IF(Y21<=1,5.60277*Y21^5-16.1238*Y21^4+13.865*Y21^3-3.00293*Y21^2+0.657237*Y21,IF(Y21>=1.8,-0.003218*Y21^5+0.0654895*Y21^4-0.539858*Y21^3+2.26576*Y21^2-4.87709*Y21+4.34827,0.3645833*Y21^6-3.832532*Y21^5+15.78165*Y21^4-31.75999*Y21^3+31.54504*Y21^2-13.92499*Y21+2.825187)))) -> 4.1075028e-05 | AA21: =IF(X21>MAX($D$19:$D$55),0,I37) -> 0.22467202 | AB21: 16.416536 | AC21: =AC20+AB21*5*0.06 -> 175.61817 | AE21: 19 | AF21: =Z21 -> 4.1075028e-05 | AG21: =AF20 -> 5.9699549e-05 | AH21: =AG20 -> 8.7540742e-05 | AI21: =AH20 -> 0.00012837388 | AJ21: =AI20 -> 0.00018776725 | AK21: =AJ20 -> 0.00027490994 | AL21: =AK20 -> 0.00040443968 | AM21: =AL20 -> 0.00059827069 | AN21: =AM20 -> 0.00088742146 | ... HP21: =HO20 -> 0 | HR21: 18 | HS21: =HR21*$D$15 -> 90 | HT21: =IF((HS21)/$C$60>5,"",(HS21)/C$60) | HU21: =IF($E$60*IF((HS21)/$C$60>5,0,IF(HT21<=1,5.60277*HT21^5-16.1238*HT21^4+13.865*HT21^3-3.00293*HT21^2+0.657237*HT21,IF(HT21>=1.8,-0.003218*HT21^5+0.0654895*HT21^4-0.539858*HT21^3+2.26576*HT21^2-4.87709*HT21+4.34827,0.3645833*HT21^6-3.832532*HT21^5+15.78165*HT21^4-31.75999*HT21^3+31.54504*HT21^2-13.92499*HT21+2.825187)))<0,0,E$60*IF((HS21)/$C$60>5,0,IF(HT21<=1,5.60277*HT21^5-16.1238*HT21^4+13.865*HT21^3-3.00293*HT21^2+0.657237*HT21,IF(HT21>=1.8,-0.003218*HT21^5+0.0654895*HT21^4-0.539858*HT21^3+2.26576*HT21^2-4.87709*HT21+4.34827,0.3645833*HT21^6-3.832532*HT21^5+15.78165*HT21^4-31.75999*HT21^3+31.54504*HT21^2-13.92499*HT21+2.825187)))) -> 0 | HV21: =IF(HS21>MAX($D$19:$D$55),0,G37) -> 0.8741726 | HW21: =TEXT(HS21/1440,"hh:mm") -> 01:30 | HX21: 33.692381 | HY21: =HY20+HX21*Escenario1!$D$15*0.06 -> 341.92418 | HZ21: =IF(HX21-AB21<=0,0,HX21-AB21) -> 17.275844 | IA21: =IA20+HZ21*Escenario1!$D$15*0.06 -> 166.30601 | IC21: 19 | ID21: =HU21 -> 0 | IE21: =ID20 -> 0 | IF21: =IE20 -> 0 | IG21: =IF20 -> 0 | IH21: =IG20 -> 0 | II21: =IH20 -> 0 | IJ21: =II20 -> 0 | IK21: =IJ20 -> 0 | IL21: =IK20 -> 0 | ... PN21: =PM20 -> 0
A22: 3 | B22: =IF(A22*$D$15>$B$15,0,D22*100/$B$15) -> 8.3333333 | C22: =IF(A22*$D$15>$B$15,0,0.00000003820399*B22^5-0.00001104784*B22^4+0.0012780006*B22^3-0.07958462*B22^2+3.400981*B22) -> 23.502639 | D22: =IF(A22*$D$15>$B$15,0,A22*$D$15) -> 15 | E22: =IF(A22*$D$15>$B$15,0,C22*$F$15/100) -> 13.153277 | F22: =IF(A22*$D$15>$B$15,0,E22-E21) -> 3.8368569 | G22: =IF(A22*$D$15>$B$15,0,IF(F22=0,0,(2.54*($E$6*((F22/2.54)+2)-200)^2)/($E$6*($E$6*(F22/2.54-8)+800)))) -> 3.5732776 | H22: =IF(A22*$D$15>$B$15,0,F22-G22) -> 0.26357922 | I22: =IF(A22*$D$15>$B$15,0,IF(F22=0,0,(2.54*($H$4*((F22/2.54)+2)-200)^2)/($H$4*($H$4*(F22/2.54-8)+800)))) -> 2.3043463 | J22: =IF(A22*$D$15>$B$15,0,F22-I22) -> 1.5325105 | W22: 19 | X22: =W22*$D$15 -> 95 | Y22: =IF((X22)/C$59>5,"",(X22)/$C$59) -> 4.5541507 | Z22: =IF($E$59*IF((X22)/C$59>5,0,IF(Y22<=1,5.60277*Y22^5-16.1238*Y22^4+13.865*Y22^3-3.00293*Y22^2+0.657237*Y22,IF(Y22>=1.8,-0.003218*Y22^5+0.0654895*Y22^4-0.539858*Y22^3+2.26576*Y22^2-4.87709*Y22+4.34827,0.3645833*Y22^6-3.832532*Y22^5+15.78165*Y22^4-31.75999*Y22^3+31.54504*Y22^2-13.92499*Y22+2.825187)))<0,0,E$59*IF((X22)/$C$59>5,0,IF(Y22<=1,5.60277*Y22^5-16.1238*Y22^4+13.865*Y22^3-3.00293*Y22^2+0.657237*Y22,IF(Y22>=1.8,-0.003218*Y22^5+0.0654895*Y22^4-0.539858*Y22^3+2.26576*Y22^2-4.87709*Y22+4.34827,0.3645833*Y22^6-3.832532*Y22^5+15.78165*Y22^4-31.75999*Y22^3+31.54504*Y22^2-13.92499*Y22+2.825187)))) -> 2.7857067e-05 | AA22: =IF(X22>MAX($D$19:$D$55),0,I38) -> 0.19952657 | AB22: 14.325445 | AC22: =AC21+AB22*5*0.06 -> 179.9158 | AE22: 20 | AF22: =Z22 -> 2.7857067e-05 | AG22: =AF21 -> 4.1075028e-05 | AH22: =AG21 -> 5.9699549e-05 | AI22: =AH21 -> 8.7540742e-05 | AJ22: =AI21 -> 0.00012837388 | AK22: =AJ21 -> 0.00018776725 | AL22: =AK21 -> 0.00027490994 | AM22: =AL21 -> 0.00040443968 | AN22: =AM21 -> 0.00059827069 | ... HP22: =HO21 -> 0 | HR22: 19 | HS22: =HR22*$D$15 -> 95 | HT22: =IF((HS22)/$C$60>5,"",(HS22)/C$60) | HU22: =IF($E$60*IF((HS22)/$C$60>5,0,IF(HT22<=1,5.60277*HT22^5-16.1238*HT22^4+13.865*HT22^3-3.00293*HT22^2+0.657237*HT22,IF(HT22>=1.8,-0.003218*HT22^5+0.0654895*HT22^4-0.539858*HT22^3+2.26576*HT22^2-4.87709*HT22+4.34827,0.3645833*HT22^6-3.832532*HT22^5+15.78165*HT22^4-31.75999*HT22^3+31.54504*HT22^2-13.92499*HT22+2.825187)))<0,0,E$60*IF((HS22)/$C$60>5,0,IF(HT22<=1,5.60277*HT22^5-16.1238*HT22^4+13.865*HT22^3-3.00293*HT22^2+0.657237*HT22,IF(HT22>=1.8,-0.003218*HT22^5+0.0654895*HT22^4-0.539858*HT22^3+2.26576*HT22^2-4.87709*HT22+4.34827,0.3645833*HT22^6-3.832532*HT22^5+15.78165*HT22^4-31.75999*HT22^3+31.54504*HT22^2-13.92499*HT22+2.825187)))) -> 0 | HV22: =IF(HS22>MAX($D$19:$D$55),0,G38) -> 0.82524579 | HW22: =TEXT(HS22/1440,"hh:mm") -> 01:35 | HX22: 31.702263 | HY22: =HY21+HX22*Escenario1!$D$15*0.06 -> 351.43486 | HZ22: =IF(HX22-AB22<=0,0,HX22-AB22) -> 17.376818 | IA22: =IA21+HZ22*Escenario1!$D$15*0.06 -> 171.51906 | IC22: 20 | ID22: =HU22 -> 0 | IE22: =ID21 -> 0 | IF22: =IE21 -> 0 | IG22: =IF21 -> 0 | IH22: =IG21 -> 0 | II22: =IH21 -> 0 | IJ22: =II21 -> 0 | IK22: =IJ21 -> 0 | IL22: =IK21 -> 0 | ... PN22: =PM21 -> 0
